BEGIN:VCALENDAR
VERSION:2.0
PRODID:-//Willow Creek Chamber of Commerce - ECPv6.15.20//NONSGML v1.0//EN
CALSCALE:GREGORIAN
METHOD:PUBLISH
X-ORIGINAL-URL:https://willowcreekchamber.com
X-WR-CALDESC:Events for Willow Creek Chamber of Commerce
REFRESH-INTERVAL;VALUE=DURATION:PT1H
X-Robots-Tag:noindex
X-PUBLISHED-TTL:PT1H
BEGIN:VTIMEZONE
TZID:America/Los_Angeles
BEGIN:DAYLIGHT
TZOFFSETFROM:-0800
TZOFFSETTO:-0700
TZNAME:PDT
DTSTART:20230312T100000
END:DAYLIGHT
BEGIN:STANDARD
TZOFFSETFROM:-0700
TZOFFSETTO:-0800
TZNAME:PST
DTSTART:20231105T090000
END:STANDARD
BEGIN:DAYLIGHT
TZOFFSETFROM:-0800
TZOFFSETTO:-0700
TZNAME:PDT
DTSTART:20240310T100000
END:DAYLIGHT
BEGIN:STANDARD
TZOFFSETFROM:-0700
TZOFFSETTO:-0800
TZNAME:PST
DTSTART:20241103T090000
END:STANDARD
BEGIN:DAYLIGHT
TZOFFSETFROM:-0800
TZOFFSETTO:-0700
TZNAME:PDT
DTSTART:20250309T100000
END:DAYLIGHT
BEGIN:STANDARD
TZOFFSETFROM:-0700
TZOFFSETTO:-0800
TZNAME:PST
DTSTART:20251102T090000
END:STANDARD
END:VTIMEZONE
BEGIN:VEVENT
DTSTART;VALUE=DATE:20240914
DTEND;VALUE=DATE:20240915
DTSTAMP:20260421T192539
CREATED:20240826T003715Z
LAST-MODIFIED:20240826T003817Z
UID:10000101-1726272000-1726358399@willowcreekchamber.com
SUMMARY:Youth Ballet Classes
DESCRIPTION:
URL:https://willowcreekchamber.com/event/youth-ballet-classes/
LOCATION:Dream Quest\, Willow Creek\, California
ATTACH;FMTTYPE=image/jpeg:https://willowcreekchamber.com/wp-content/uploads/2024/08/454871988_836795615259826_3261126979972612416_n.avif
END:VEVENT
BEGIN:VEVENT
DTSTART;TZID=America/Los_Angeles:20240914T130000
DTEND;TZID=America/Los_Angeles:20240914T160000
DTSTAMP:20260421T192539
CREATED:20240826T004046Z
LAST-MODIFIED:20240826T004046Z
UID:10000102-1726318800-1726329600@willowcreekchamber.com
SUMMARY:911 National Day of Service AND Remembrance
DESCRIPTION:
URL:https://willowcreekchamber.com/event/911-national-day-of-service-and-remembrance/
LOCATION:Dream Quest\, Willow Creek\, California
CATEGORIES:Community Event
ATTACH;FMTTYPE=image/jpeg:https://willowcreekchamber.com/wp-content/uploads/2024/08/455827909_838112365128151_8044497982815396381_n.avif
END:VEVENT
END:VCALENDAR