BEGIN:VCALENDAR
VERSION:2.0
PRODID:-//Willow Creek Chamber of Commerce - ECPv6.15.20//NONSGML v1.0//EN
CALSCALE:GREGORIAN
METHOD:PUBLISH
X-ORIGINAL-URL:https://willowcreekchamber.com
X-WR-CALDESC:Events for Willow Creek Chamber of Commerce
REFRESH-INTERVAL;VALUE=DURATION:PT1H
X-Robots-Tag:noindex
X-PUBLISHED-TTL:PT1H
BEGIN:VTIMEZONE
TZID:America/Los_Angeles
BEGIN:DAYLIGHT
TZOFFSETFROM:-0800
TZOFFSETTO:-0700
TZNAME:PDT
DTSTART:20240310T100000
END:DAYLIGHT
BEGIN:STANDARD
TZOFFSETFROM:-0700
TZOFFSETTO:-0800
TZNAME:PST
DTSTART:20241103T090000
END:STANDARD
BEGIN:DAYLIGHT
TZOFFSETFROM:-0800
TZOFFSETTO:-0700
TZNAME:PDT
DTSTART:20250309T100000
END:DAYLIGHT
BEGIN:STANDARD
TZOFFSETFROM:-0700
TZOFFSETTO:-0800
TZNAME:PST
DTSTART:20251102T090000
END:STANDARD
BEGIN:DAYLIGHT
TZOFFSETFROM:-0800
TZOFFSETTO:-0700
TZNAME:PDT
DTSTART:20260308T100000
END:DAYLIGHT
BEGIN:STANDARD
TZOFFSETFROM:-0700
TZOFFSETTO:-0800
TZNAME:PST
DTSTART:20261101T090000
END:STANDARD
END:VTIMEZONE
BEGIN:VEVENT
DTSTART;TZID=America/Los_Angeles:20251008T103000
DTEND;TZID=America/Los_Angeles:20251008T110000
DTSTAMP:20260422T221939
CREATED:20251007T184227Z
LAST-MODIFIED:20251007T184227Z
UID:10001492-1759919400-1759921200@willowcreekchamber.com
SUMMARY:Story Time
DESCRIPTION:A special time just for young children with their caregivers and families\, story time brings children together to experience stories as an event and share the oohs\, ahs\, and mystery of ‘what will happen next?’ with others. \nStory time is a great activity for children.\nChildren who often hear stories read aloud learn how to listen\, learn more words and how to use them\, and absorb new facts and ideas. In the adventure of story\, kids also grow in imagination\, problem-solving and creativity. Kids who listen to stories are better prepared for life and school. Story time at the library builds a child’s fascination with reading and teaches skills that can be a lifelong advantage. \nMost of all\, it’s fun!
URL:https://willowcreekchamber.com/event/story-time/2025-10-08/
LOCATION:Willow Creek Library\, 39 Mayfair St\, Willow Creek\, CA\, 95573\, United States
CATEGORIES:Community Event
ATTACH;FMTTYPE=image/jpeg:https://willowcreekchamber.com/wp-content/uploads/2025/10/558170013_1107447331562971_3069749803972989233_n.avif
END:VEVENT
BEGIN:VEVENT
DTSTART;TZID=America/Los_Angeles:20251008T170000
DTEND;TZID=America/Los_Angeles:20251008T194500
DTSTAMP:20260422T221939
CREATED:20251007T180601Z
LAST-MODIFIED:20251007T180601Z
UID:10000706-1759942800-1759952700@willowcreekchamber.com
SUMMARY:Kim Yerton Library\, Cribbage & Game Night
DESCRIPTION:Join us for a fun and friendly Cribbage & Board Game Night at the library! Whether you’re a seasoned cribbage player or just learning the game\, come enjoy an evening of strategy and good company. We provide boards and cards\, but feel free to bring your own. Not into Cribbage? No problem! We have a variety of board games for all ages\, so bring the whole family and find a game to enjoy together. \nFrom classics like Checkers and Clue to trivia challenges and more\, there’s something for everyone. \nAll ages are welcome – come by to play\, relax\, and make new friends. \nEvery Wednesday evening starting at 5 p.m.
URL:https://willowcreekchamber.com/event/kim-yerton-library-cribbage-game-night/2025-10-08/
LOCATION:Kim Yerton Memorial Library\, 370 Loop Rd\, Hoopa\, United States
CATEGORIES:Community Event
ATTACH;FMTTYPE=image/jpeg:https://willowcreekchamber.com/wp-content/uploads/2025/10/KimYertonLibrary-Games.avif
END:VEVENT
BEGIN:VEVENT
DTSTART;TZID=America/Los_Angeles:20251009T103000
DTEND;TZID=America/Los_Angeles:20251009T110000
DTSTAMP:20260422T221939
CREATED:20251007T185121Z
LAST-MODIFIED:20251007T185121Z
UID:10001753-1760005800-1760007600@willowcreekchamber.com
SUMMARY:Storytime
DESCRIPTION:
URL:https://willowcreekchamber.com/event/storytime/2025-10-09/
LOCATION:Willow Creek Library\, 39 Mayfair St\, Willow Creek\, CA\, 95573\, United States
CATEGORIES:Community Event
ATTACH;FMTTYPE=image/jpeg:https://willowcreekchamber.com/wp-content/uploads/2025/10/558170013_1107447331562971_3069749803972989233_n.avif
END:VEVENT
BEGIN:VEVENT
DTSTART;TZID=America/Los_Angeles:20251011T110000
DTEND;TZID=America/Los_Angeles:20251011T120000
DTSTAMP:20260422T221939
CREATED:20251007T183555Z
LAST-MODIFIED:20251007T183555Z
UID:10001230-1760180400-1760184000@willowcreekchamber.com
SUMMARY:Lego Club
DESCRIPTION:3rd Saturday\, Monthly
URL:https://willowcreekchamber.com/event/lego-club-3/
LOCATION:Willow Creek Library\, 39 Mayfair St\, Willow Creek\, CA\, 95573\, United States
CATEGORIES:Community Event
ATTACH;FMTTYPE=image/jpeg:https://willowcreekchamber.com/wp-content/uploads/2025/10/557627606_1107445724896465_6559316117942831897_n.avif
END:VEVENT
BEGIN:VEVENT
DTSTART;TZID=America/Los_Angeles:20251011T190000
DTEND;TZID=America/Los_Angeles:20251011T190000
DTSTAMP:20260422T221939
CREATED:20250923T201127Z
LAST-MODIFIED:20250923T201127Z
UID:10000704-1760209200-1760209200@willowcreekchamber.com
SUMMARY:It Was a Dark and Scary Night
DESCRIPTION:Adults $5\, 12 and under $3 – at the Dream Quest Community Youth Center
URL:https://willowcreekchamber.com/event/it-was-a-dark-and-scary-night/
LOCATION:Dream Quest\, Willow Creek\, California
CATEGORIES:Community Event
ATTACH;FMTTYPE=image/jpeg:https://willowcreekchamber.com/wp-content/uploads/2025/09/552840623_1143332267939491_6421009427678039846_n.avif
END:VEVENT
BEGIN:VEVENT
DTSTART;TZID=America/Los_Angeles:20251015T103000
DTEND;TZID=America/Los_Angeles:20251015T110000
DTSTAMP:20260422T221939
CREATED:20251007T184227Z
LAST-MODIFIED:20251007T184227Z
UID:10001493-1760524200-1760526000@willowcreekchamber.com
SUMMARY:Story Time
DESCRIPTION:A special time just for young children with their caregivers and families\, story time brings children together to experience stories as an event and share the oohs\, ahs\, and mystery of ‘what will happen next?’ with others. \nStory time is a great activity for children.\nChildren who often hear stories read aloud learn how to listen\, learn more words and how to use them\, and absorb new facts and ideas. In the adventure of story\, kids also grow in imagination\, problem-solving and creativity. Kids who listen to stories are better prepared for life and school. Story time at the library builds a child’s fascination with reading and teaches skills that can be a lifelong advantage. \nMost of all\, it’s fun!
URL:https://willowcreekchamber.com/event/story-time/2025-10-15/
LOCATION:Willow Creek Library\, 39 Mayfair St\, Willow Creek\, CA\, 95573\, United States
CATEGORIES:Community Event
ATTACH;FMTTYPE=image/jpeg:https://willowcreekchamber.com/wp-content/uploads/2025/10/558170013_1107447331562971_3069749803972989233_n.avif
END:VEVENT
BEGIN:VEVENT
DTSTART;TZID=America/Los_Angeles:20251015T170000
DTEND;TZID=America/Los_Angeles:20251015T194500
DTSTAMP:20260422T221939
CREATED:20251007T180601Z
LAST-MODIFIED:20251007T180601Z
UID:10000707-1760547600-1760557500@willowcreekchamber.com
SUMMARY:Kim Yerton Library\, Cribbage & Game Night
DESCRIPTION:Join us for a fun and friendly Cribbage & Board Game Night at the library! Whether you’re a seasoned cribbage player or just learning the game\, come enjoy an evening of strategy and good company. We provide boards and cards\, but feel free to bring your own. Not into Cribbage? No problem! We have a variety of board games for all ages\, so bring the whole family and find a game to enjoy together. \nFrom classics like Checkers and Clue to trivia challenges and more\, there’s something for everyone. \nAll ages are welcome – come by to play\, relax\, and make new friends. \nEvery Wednesday evening starting at 5 p.m.
URL:https://willowcreekchamber.com/event/kim-yerton-library-cribbage-game-night/2025-10-15/
LOCATION:Kim Yerton Memorial Library\, 370 Loop Rd\, Hoopa\, United States
CATEGORIES:Community Event
ATTACH;FMTTYPE=image/jpeg:https://willowcreekchamber.com/wp-content/uploads/2025/10/KimYertonLibrary-Games.avif
END:VEVENT
BEGIN:VEVENT
DTSTART;TZID=America/Los_Angeles:20251016T103000
DTEND;TZID=America/Los_Angeles:20251016T110000
DTSTAMP:20260422T221939
CREATED:20251007T185121Z
LAST-MODIFIED:20251007T185121Z
UID:10001754-1760610600-1760612400@willowcreekchamber.com
SUMMARY:Storytime
DESCRIPTION:
URL:https://willowcreekchamber.com/event/storytime/2025-10-16/
LOCATION:Willow Creek Library\, 39 Mayfair St\, Willow Creek\, CA\, 95573\, United States
CATEGORIES:Community Event
ATTACH;FMTTYPE=image/jpeg:https://willowcreekchamber.com/wp-content/uploads/2025/10/558170013_1107447331562971_3069749803972989233_n.avif
END:VEVENT
BEGIN:VEVENT
DTSTART;TZID=America/Los_Angeles:20251016T153000
DTEND;TZID=America/Los_Angeles:20251016T170000
DTSTAMP:20260422T221939
CREATED:20251007T190821Z
LAST-MODIFIED:20251007T191047Z
UID:10002015-1760628600-1760634000@willowcreekchamber.com
SUMMARY:Art @ Dream Quest
DESCRIPTION:
URL:https://willowcreekchamber.com/event/art-dream-quest/2025-10-16/
LOCATION:Dream Quest\, Willow Creek\, California
CATEGORIES:Community Event
ATTACH;FMTTYPE=image/jpeg:https://willowcreekchamber.com/wp-content/uploads/2025/10/554080923_1144267891179262_9161466497885001296_n.avif
END:VEVENT
BEGIN:VEVENT
DTSTART;TZID=America/Los_Angeles:20251022T103000
DTEND;TZID=America/Los_Angeles:20251022T110000
DTSTAMP:20260422T221939
CREATED:20251007T184227Z
LAST-MODIFIED:20251007T184227Z
UID:10001494-1761129000-1761130800@willowcreekchamber.com
SUMMARY:Story Time
DESCRIPTION:A special time just for young children with their caregivers and families\, story time brings children together to experience stories as an event and share the oohs\, ahs\, and mystery of ‘what will happen next?’ with others. \nStory time is a great activity for children.\nChildren who often hear stories read aloud learn how to listen\, learn more words and how to use them\, and absorb new facts and ideas. In the adventure of story\, kids also grow in imagination\, problem-solving and creativity. Kids who listen to stories are better prepared for life and school. Story time at the library builds a child’s fascination with reading and teaches skills that can be a lifelong advantage. \nMost of all\, it’s fun!
URL:https://willowcreekchamber.com/event/story-time/2025-10-22/
LOCATION:Willow Creek Library\, 39 Mayfair St\, Willow Creek\, CA\, 95573\, United States
CATEGORIES:Community Event
ATTACH;FMTTYPE=image/jpeg:https://willowcreekchamber.com/wp-content/uploads/2025/10/558170013_1107447331562971_3069749803972989233_n.avif
END:VEVENT
BEGIN:VEVENT
DTSTART;TZID=America/Los_Angeles:20251022T170000
DTEND;TZID=America/Los_Angeles:20251022T194500
DTSTAMP:20260422T221939
CREATED:20251007T180601Z
LAST-MODIFIED:20251007T180601Z
UID:10000708-1761152400-1761162300@willowcreekchamber.com
SUMMARY:Kim Yerton Library\, Cribbage & Game Night
DESCRIPTION:Join us for a fun and friendly Cribbage & Board Game Night at the library! Whether you’re a seasoned cribbage player or just learning the game\, come enjoy an evening of strategy and good company. We provide boards and cards\, but feel free to bring your own. Not into Cribbage? No problem! We have a variety of board games for all ages\, so bring the whole family and find a game to enjoy together. \nFrom classics like Checkers and Clue to trivia challenges and more\, there’s something for everyone. \nAll ages are welcome – come by to play\, relax\, and make new friends. \nEvery Wednesday evening starting at 5 p.m.
URL:https://willowcreekchamber.com/event/kim-yerton-library-cribbage-game-night/2025-10-22/
LOCATION:Kim Yerton Memorial Library\, 370 Loop Rd\, Hoopa\, United States
CATEGORIES:Community Event
ATTACH;FMTTYPE=image/jpeg:https://willowcreekchamber.com/wp-content/uploads/2025/10/KimYertonLibrary-Games.avif
END:VEVENT
BEGIN:VEVENT
DTSTART;TZID=America/Los_Angeles:20251023T103000
DTEND;TZID=America/Los_Angeles:20251023T110000
DTSTAMP:20260422T221939
CREATED:20251007T185121Z
LAST-MODIFIED:20251007T185121Z
UID:10001755-1761215400-1761217200@willowcreekchamber.com
SUMMARY:Storytime
DESCRIPTION:
URL:https://willowcreekchamber.com/event/storytime/2025-10-23/
LOCATION:Willow Creek Library\, 39 Mayfair St\, Willow Creek\, CA\, 95573\, United States
CATEGORIES:Community Event
ATTACH;FMTTYPE=image/jpeg:https://willowcreekchamber.com/wp-content/uploads/2025/10/558170013_1107447331562971_3069749803972989233_n.avif
END:VEVENT
BEGIN:VEVENT
DTSTART;TZID=America/Los_Angeles:20251023T153000
DTEND;TZID=America/Los_Angeles:20251023T170000
DTSTAMP:20260422T221939
CREATED:20251007T190821Z
LAST-MODIFIED:20251007T191047Z
UID:10002016-1761233400-1761238800@willowcreekchamber.com
SUMMARY:Art @ Dream Quest
DESCRIPTION:
URL:https://willowcreekchamber.com/event/art-dream-quest/2025-10-23/
LOCATION:Dream Quest\, Willow Creek\, California
CATEGORIES:Community Event
ATTACH;FMTTYPE=image/jpeg:https://willowcreekchamber.com/wp-content/uploads/2025/10/554080923_1144267891179262_9161466497885001296_n.avif
END:VEVENT
BEGIN:VEVENT
DTSTART;TZID=America/Los_Angeles:20251029T103000
DTEND;TZID=America/Los_Angeles:20251029T110000
DTSTAMP:20260422T221939
CREATED:20251007T184227Z
LAST-MODIFIED:20251007T184227Z
UID:10001495-1761733800-1761735600@willowcreekchamber.com
SUMMARY:Story Time
DESCRIPTION:A special time just for young children with their caregivers and families\, story time brings children together to experience stories as an event and share the oohs\, ahs\, and mystery of ‘what will happen next?’ with others. \nStory time is a great activity for children.\nChildren who often hear stories read aloud learn how to listen\, learn more words and how to use them\, and absorb new facts and ideas. In the adventure of story\, kids also grow in imagination\, problem-solving and creativity. Kids who listen to stories are better prepared for life and school. Story time at the library builds a child’s fascination with reading and teaches skills that can be a lifelong advantage. \nMost of all\, it’s fun!
URL:https://willowcreekchamber.com/event/story-time/2025-10-29/
LOCATION:Willow Creek Library\, 39 Mayfair St\, Willow Creek\, CA\, 95573\, United States
CATEGORIES:Community Event
ATTACH;FMTTYPE=image/jpeg:https://willowcreekchamber.com/wp-content/uploads/2025/10/558170013_1107447331562971_3069749803972989233_n.avif
END:VEVENT
BEGIN:VEVENT
DTSTART;TZID=America/Los_Angeles:20251029T170000
DTEND;TZID=America/Los_Angeles:20251029T194500
DTSTAMP:20260422T221939
CREATED:20251007T180601Z
LAST-MODIFIED:20251007T180601Z
UID:10000709-1761757200-1761767100@willowcreekchamber.com
SUMMARY:Kim Yerton Library\, Cribbage & Game Night
DESCRIPTION:Join us for a fun and friendly Cribbage & Board Game Night at the library! Whether you’re a seasoned cribbage player or just learning the game\, come enjoy an evening of strategy and good company. We provide boards and cards\, but feel free to bring your own. Not into Cribbage? No problem! We have a variety of board games for all ages\, so bring the whole family and find a game to enjoy together. \nFrom classics like Checkers and Clue to trivia challenges and more\, there’s something for everyone. \nAll ages are welcome – come by to play\, relax\, and make new friends. \nEvery Wednesday evening starting at 5 p.m.
URL:https://willowcreekchamber.com/event/kim-yerton-library-cribbage-game-night/2025-10-29/
LOCATION:Kim Yerton Memorial Library\, 370 Loop Rd\, Hoopa\, United States
CATEGORIES:Community Event
ATTACH;FMTTYPE=image/jpeg:https://willowcreekchamber.com/wp-content/uploads/2025/10/KimYertonLibrary-Games.avif
END:VEVENT
BEGIN:VEVENT
DTSTART;TZID=America/Los_Angeles:20251030T103000
DTEND;TZID=America/Los_Angeles:20251030T110000
DTSTAMP:20260422T221939
CREATED:20251007T185121Z
LAST-MODIFIED:20251007T185121Z
UID:10001756-1761820200-1761822000@willowcreekchamber.com
SUMMARY:Storytime
DESCRIPTION:
URL:https://willowcreekchamber.com/event/storytime/2025-10-30/
LOCATION:Willow Creek Library\, 39 Mayfair St\, Willow Creek\, CA\, 95573\, United States
CATEGORIES:Community Event
ATTACH;FMTTYPE=image/jpeg:https://willowcreekchamber.com/wp-content/uploads/2025/10/558170013_1107447331562971_3069749803972989233_n.avif
END:VEVENT
BEGIN:VEVENT
DTSTART;TZID=America/Los_Angeles:20251030T153000
DTEND;TZID=America/Los_Angeles:20251030T170000
DTSTAMP:20260422T221939
CREATED:20251007T190821Z
LAST-MODIFIED:20251007T191047Z
UID:10002017-1761838200-1761843600@willowcreekchamber.com
SUMMARY:Art @ Dream Quest
DESCRIPTION:
URL:https://willowcreekchamber.com/event/art-dream-quest/2025-10-30/
LOCATION:Dream Quest\, Willow Creek\, California
CATEGORIES:Community Event
ATTACH;FMTTYPE=image/jpeg:https://willowcreekchamber.com/wp-content/uploads/2025/10/554080923_1144267891179262_9161466497885001296_n.avif
END:VEVENT
END:VCALENDAR