BEGIN:VCALENDAR
VERSION:2.0
PRODID:-//Willow Creek Chamber of Commerce - ECPv6.15.20//NONSGML v1.0//EN
CALSCALE:GREGORIAN
METHOD:PUBLISH
X-ORIGINAL-URL:https://willowcreekchamber.com
X-WR-CALDESC:Events for Willow Creek Chamber of Commerce
REFRESH-INTERVAL;VALUE=DURATION:PT1H
X-Robots-Tag:noindex
X-PUBLISHED-TTL:PT1H
BEGIN:VTIMEZONE
TZID:America/Los_Angeles
BEGIN:DAYLIGHT
TZOFFSETFROM:-0800
TZOFFSETTO:-0700
TZNAME:PDT
DTSTART:20250309T100000
END:DAYLIGHT
BEGIN:STANDARD
TZOFFSETFROM:-0700
TZOFFSETTO:-0800
TZNAME:PST
DTSTART:20251102T090000
END:STANDARD
BEGIN:DAYLIGHT
TZOFFSETFROM:-0800
TZOFFSETTO:-0700
TZNAME:PDT
DTSTART:20260308T100000
END:DAYLIGHT
BEGIN:STANDARD
TZOFFSETFROM:-0700
TZOFFSETTO:-0800
TZNAME:PST
DTSTART:20261101T090000
END:STANDARD
BEGIN:DAYLIGHT
TZOFFSETFROM:-0800
TZOFFSETTO:-0700
TZNAME:PDT
DTSTART:20270314T100000
END:DAYLIGHT
BEGIN:STANDARD
TZOFFSETFROM:-0700
TZOFFSETTO:-0800
TZNAME:PST
DTSTART:20271107T090000
END:STANDARD
BEGIN:DAYLIGHT
TZOFFSETFROM:-0800
TZOFFSETTO:-0700
TZNAME:PDT
DTSTART:20280312T100000
END:DAYLIGHT
BEGIN:STANDARD
TZOFFSETFROM:-0700
TZOFFSETTO:-0800
TZNAME:PST
DTSTART:20281105T090000
END:STANDARD
END:VTIMEZONE
BEGIN:VEVENT
DTSTART;TZID=America/Los_Angeles:20260723T103000
DTEND;TZID=America/Los_Angeles:20260723T110000
DTSTAMP:20260424T093415
CREATED:20251007T185121Z
LAST-MODIFIED:20251007T185121Z
UID:10001794-1784802600-1784804400@willowcreekchamber.com
SUMMARY:Storytime
DESCRIPTION:
URL:https://willowcreekchamber.com/event/storytime/2026-07-23/
LOCATION:Willow Creek Library\, 39 Mayfair St\, Willow Creek\, CA\, 95573\, United States
CATEGORIES:Community Event
ATTACH;FMTTYPE=image/jpeg:https://willowcreekchamber.com/wp-content/uploads/2025/10/558170013_1107447331562971_3069749803972989233_n.avif
END:VEVENT
BEGIN:VEVENT
DTSTART;TZID=America/Los_Angeles:20260730T103000
DTEND;TZID=America/Los_Angeles:20260730T110000
DTSTAMP:20260424T093415
CREATED:20251007T185121Z
LAST-MODIFIED:20251007T185121Z
UID:10001795-1785407400-1785409200@willowcreekchamber.com
SUMMARY:Storytime
DESCRIPTION:
URL:https://willowcreekchamber.com/event/storytime/2026-07-30/
LOCATION:Willow Creek Library\, 39 Mayfair St\, Willow Creek\, CA\, 95573\, United States
CATEGORIES:Community Event
ATTACH;FMTTYPE=image/jpeg:https://willowcreekchamber.com/wp-content/uploads/2025/10/558170013_1107447331562971_3069749803972989233_n.avif
END:VEVENT
BEGIN:VEVENT
DTSTART;TZID=America/Los_Angeles:20260806T103000
DTEND;TZID=America/Los_Angeles:20260806T110000
DTSTAMP:20260424T093415
CREATED:20251007T185121Z
LAST-MODIFIED:20251007T185121Z
UID:10001796-1786012200-1786014000@willowcreekchamber.com
SUMMARY:Storytime
DESCRIPTION:
URL:https://willowcreekchamber.com/event/storytime/2026-08-06/
LOCATION:Willow Creek Library\, 39 Mayfair St\, Willow Creek\, CA\, 95573\, United States
CATEGORIES:Community Event
ATTACH;FMTTYPE=image/jpeg:https://willowcreekchamber.com/wp-content/uploads/2025/10/558170013_1107447331562971_3069749803972989233_n.avif
END:VEVENT
BEGIN:VEVENT
DTSTART;TZID=America/Los_Angeles:20260813T103000
DTEND;TZID=America/Los_Angeles:20260813T110000
DTSTAMP:20260424T093415
CREATED:20251007T185121Z
LAST-MODIFIED:20251007T185121Z
UID:10001797-1786617000-1786618800@willowcreekchamber.com
SUMMARY:Storytime
DESCRIPTION:
URL:https://willowcreekchamber.com/event/storytime/2026-08-13/
LOCATION:Willow Creek Library\, 39 Mayfair St\, Willow Creek\, CA\, 95573\, United States
CATEGORIES:Community Event
ATTACH;FMTTYPE=image/jpeg:https://willowcreekchamber.com/wp-content/uploads/2025/10/558170013_1107447331562971_3069749803972989233_n.avif
END:VEVENT
BEGIN:VEVENT
DTSTART;TZID=America/Los_Angeles:20260820T103000
DTEND;TZID=America/Los_Angeles:20260820T110000
DTSTAMP:20260424T093415
CREATED:20251007T185121Z
LAST-MODIFIED:20251007T185121Z
UID:10001798-1787221800-1787223600@willowcreekchamber.com
SUMMARY:Storytime
DESCRIPTION:
URL:https://willowcreekchamber.com/event/storytime/2026-08-20/
LOCATION:Willow Creek Library\, 39 Mayfair St\, Willow Creek\, CA\, 95573\, United States
CATEGORIES:Community Event
ATTACH;FMTTYPE=image/jpeg:https://willowcreekchamber.com/wp-content/uploads/2025/10/558170013_1107447331562971_3069749803972989233_n.avif
END:VEVENT
BEGIN:VEVENT
DTSTART;TZID=America/Los_Angeles:20260827T103000
DTEND;TZID=America/Los_Angeles:20260827T110000
DTSTAMP:20260424T093415
CREATED:20251007T185121Z
LAST-MODIFIED:20251007T185121Z
UID:10001799-1787826600-1787828400@willowcreekchamber.com
SUMMARY:Storytime
DESCRIPTION:
URL:https://willowcreekchamber.com/event/storytime/2026-08-27/
LOCATION:Willow Creek Library\, 39 Mayfair St\, Willow Creek\, CA\, 95573\, United States
CATEGORIES:Community Event
ATTACH;FMTTYPE=image/jpeg:https://willowcreekchamber.com/wp-content/uploads/2025/10/558170013_1107447331562971_3069749803972989233_n.avif
END:VEVENT
BEGIN:VEVENT
DTSTART;TZID=America/Los_Angeles:20260903T103000
DTEND;TZID=America/Los_Angeles:20260903T110000
DTSTAMP:20260424T093415
CREATED:20251007T185121Z
LAST-MODIFIED:20251007T185121Z
UID:10001800-1788431400-1788433200@willowcreekchamber.com
SUMMARY:Storytime
DESCRIPTION:
URL:https://willowcreekchamber.com/event/storytime/2026-09-03/
LOCATION:Willow Creek Library\, 39 Mayfair St\, Willow Creek\, CA\, 95573\, United States
CATEGORIES:Community Event
ATTACH;FMTTYPE=image/jpeg:https://willowcreekchamber.com/wp-content/uploads/2025/10/558170013_1107447331562971_3069749803972989233_n.avif
END:VEVENT
BEGIN:VEVENT
DTSTART;TZID=America/Los_Angeles:20260910T103000
DTEND;TZID=America/Los_Angeles:20260910T110000
DTSTAMP:20260424T093415
CREATED:20251007T185121Z
LAST-MODIFIED:20251007T185121Z
UID:10001801-1789036200-1789038000@willowcreekchamber.com
SUMMARY:Storytime
DESCRIPTION:
URL:https://willowcreekchamber.com/event/storytime/2026-09-10/
LOCATION:Willow Creek Library\, 39 Mayfair St\, Willow Creek\, CA\, 95573\, United States
CATEGORIES:Community Event
ATTACH;FMTTYPE=image/jpeg:https://willowcreekchamber.com/wp-content/uploads/2025/10/558170013_1107447331562971_3069749803972989233_n.avif
END:VEVENT
BEGIN:VEVENT
DTSTART;TZID=America/Los_Angeles:20260917T103000
DTEND;TZID=America/Los_Angeles:20260917T110000
DTSTAMP:20260424T093415
CREATED:20251007T185121Z
LAST-MODIFIED:20251007T185121Z
UID:10001802-1789641000-1789642800@willowcreekchamber.com
SUMMARY:Storytime
DESCRIPTION:
URL:https://willowcreekchamber.com/event/storytime/2026-09-17/
LOCATION:Willow Creek Library\, 39 Mayfair St\, Willow Creek\, CA\, 95573\, United States
CATEGORIES:Community Event
ATTACH;FMTTYPE=image/jpeg:https://willowcreekchamber.com/wp-content/uploads/2025/10/558170013_1107447331562971_3069749803972989233_n.avif
END:VEVENT
BEGIN:VEVENT
DTSTART;TZID=America/Los_Angeles:20260924T103000
DTEND;TZID=America/Los_Angeles:20260924T110000
DTSTAMP:20260424T093415
CREATED:20251007T185121Z
LAST-MODIFIED:20251007T185121Z
UID:10001803-1790245800-1790247600@willowcreekchamber.com
SUMMARY:Storytime
DESCRIPTION:
URL:https://willowcreekchamber.com/event/storytime/2026-09-24/
LOCATION:Willow Creek Library\, 39 Mayfair St\, Willow Creek\, CA\, 95573\, United States
CATEGORIES:Community Event
ATTACH;FMTTYPE=image/jpeg:https://willowcreekchamber.com/wp-content/uploads/2025/10/558170013_1107447331562971_3069749803972989233_n.avif
END:VEVENT
BEGIN:VEVENT
DTSTART;TZID=America/Los_Angeles:20261001T103000
DTEND;TZID=America/Los_Angeles:20261001T110000
DTSTAMP:20260424T093415
CREATED:20251007T185121Z
LAST-MODIFIED:20251007T185121Z
UID:10001804-1790850600-1790852400@willowcreekchamber.com
SUMMARY:Storytime
DESCRIPTION:
URL:https://willowcreekchamber.com/event/storytime/2026-10-01/
LOCATION:Willow Creek Library\, 39 Mayfair St\, Willow Creek\, CA\, 95573\, United States
CATEGORIES:Community Event
ATTACH;FMTTYPE=image/jpeg:https://willowcreekchamber.com/wp-content/uploads/2025/10/558170013_1107447331562971_3069749803972989233_n.avif
END:VEVENT
BEGIN:VEVENT
DTSTART;TZID=America/Los_Angeles:20261008T103000
DTEND;TZID=America/Los_Angeles:20261008T110000
DTSTAMP:20260424T093415
CREATED:20251007T185121Z
LAST-MODIFIED:20251007T185121Z
UID:10001805-1791455400-1791457200@willowcreekchamber.com
SUMMARY:Storytime
DESCRIPTION:
URL:https://willowcreekchamber.com/event/storytime/2026-10-08/
LOCATION:Willow Creek Library\, 39 Mayfair St\, Willow Creek\, CA\, 95573\, United States
CATEGORIES:Community Event
ATTACH;FMTTYPE=image/jpeg:https://willowcreekchamber.com/wp-content/uploads/2025/10/558170013_1107447331562971_3069749803972989233_n.avif
END:VEVENT
BEGIN:VEVENT
DTSTART;TZID=America/Los_Angeles:20261015T103000
DTEND;TZID=America/Los_Angeles:20261015T110000
DTSTAMP:20260424T093415
CREATED:20251007T185121Z
LAST-MODIFIED:20251007T185121Z
UID:10001806-1792060200-1792062000@willowcreekchamber.com
SUMMARY:Storytime
DESCRIPTION:
URL:https://willowcreekchamber.com/event/storytime/2026-10-15/
LOCATION:Willow Creek Library\, 39 Mayfair St\, Willow Creek\, CA\, 95573\, United States
CATEGORIES:Community Event
ATTACH;FMTTYPE=image/jpeg:https://willowcreekchamber.com/wp-content/uploads/2025/10/558170013_1107447331562971_3069749803972989233_n.avif
END:VEVENT
BEGIN:VEVENT
DTSTART;TZID=America/Los_Angeles:20261022T103000
DTEND;TZID=America/Los_Angeles:20261022T110000
DTSTAMP:20260424T093415
CREATED:20251007T185121Z
LAST-MODIFIED:20251007T185121Z
UID:10001807-1792665000-1792666800@willowcreekchamber.com
SUMMARY:Storytime
DESCRIPTION:
URL:https://willowcreekchamber.com/event/storytime/2026-10-22/
LOCATION:Willow Creek Library\, 39 Mayfair St\, Willow Creek\, CA\, 95573\, United States
CATEGORIES:Community Event
ATTACH;FMTTYPE=image/jpeg:https://willowcreekchamber.com/wp-content/uploads/2025/10/558170013_1107447331562971_3069749803972989233_n.avif
END:VEVENT
BEGIN:VEVENT
DTSTART;TZID=America/Los_Angeles:20261029T103000
DTEND;TZID=America/Los_Angeles:20261029T110000
DTSTAMP:20260424T093415
CREATED:20251007T185121Z
LAST-MODIFIED:20251007T185121Z
UID:10001808-1793269800-1793271600@willowcreekchamber.com
SUMMARY:Storytime
DESCRIPTION:
URL:https://willowcreekchamber.com/event/storytime/2026-10-29/
LOCATION:Willow Creek Library\, 39 Mayfair St\, Willow Creek\, CA\, 95573\, United States
CATEGORIES:Community Event
ATTACH;FMTTYPE=image/jpeg:https://willowcreekchamber.com/wp-content/uploads/2025/10/558170013_1107447331562971_3069749803972989233_n.avif
END:VEVENT
BEGIN:VEVENT
DTSTART;TZID=America/Los_Angeles:20261105T103000
DTEND;TZID=America/Los_Angeles:20261105T110000
DTSTAMP:20260424T093415
CREATED:20251007T185121Z
LAST-MODIFIED:20251007T185121Z
UID:10001809-1793874600-1793876400@willowcreekchamber.com
SUMMARY:Storytime
DESCRIPTION:
URL:https://willowcreekchamber.com/event/storytime/2026-11-05/
LOCATION:Willow Creek Library\, 39 Mayfair St\, Willow Creek\, CA\, 95573\, United States
CATEGORIES:Community Event
ATTACH;FMTTYPE=image/jpeg:https://willowcreekchamber.com/wp-content/uploads/2025/10/558170013_1107447331562971_3069749803972989233_n.avif
END:VEVENT
BEGIN:VEVENT
DTSTART;TZID=America/Los_Angeles:20261112T103000
DTEND;TZID=America/Los_Angeles:20261112T110000
DTSTAMP:20260424T093415
CREATED:20251007T185121Z
LAST-MODIFIED:20251007T185121Z
UID:10001810-1794479400-1794481200@willowcreekchamber.com
SUMMARY:Storytime
DESCRIPTION:
URL:https://willowcreekchamber.com/event/storytime/2026-11-12/
LOCATION:Willow Creek Library\, 39 Mayfair St\, Willow Creek\, CA\, 95573\, United States
CATEGORIES:Community Event
ATTACH;FMTTYPE=image/jpeg:https://willowcreekchamber.com/wp-content/uploads/2025/10/558170013_1107447331562971_3069749803972989233_n.avif
END:VEVENT
BEGIN:VEVENT
DTSTART;TZID=America/Los_Angeles:20261119T103000
DTEND;TZID=America/Los_Angeles:20261119T110000
DTSTAMP:20260424T093415
CREATED:20251007T185121Z
LAST-MODIFIED:20251007T185121Z
UID:10001811-1795084200-1795086000@willowcreekchamber.com
SUMMARY:Storytime
DESCRIPTION:
URL:https://willowcreekchamber.com/event/storytime/2026-11-19/
LOCATION:Willow Creek Library\, 39 Mayfair St\, Willow Creek\, CA\, 95573\, United States
CATEGORIES:Community Event
ATTACH;FMTTYPE=image/jpeg:https://willowcreekchamber.com/wp-content/uploads/2025/10/558170013_1107447331562971_3069749803972989233_n.avif
END:VEVENT
BEGIN:VEVENT
DTSTART;TZID=America/Los_Angeles:20261126T103000
DTEND;TZID=America/Los_Angeles:20261126T110000
DTSTAMP:20260424T093415
CREATED:20251007T185121Z
LAST-MODIFIED:20251007T185121Z
UID:10001812-1795689000-1795690800@willowcreekchamber.com
SUMMARY:Storytime
DESCRIPTION:
URL:https://willowcreekchamber.com/event/storytime/2026-11-26/
LOCATION:Willow Creek Library\, 39 Mayfair St\, Willow Creek\, CA\, 95573\, United States
CATEGORIES:Community Event
ATTACH;FMTTYPE=image/jpeg:https://willowcreekchamber.com/wp-content/uploads/2025/10/558170013_1107447331562971_3069749803972989233_n.avif
END:VEVENT
BEGIN:VEVENT
DTSTART;TZID=America/Los_Angeles:20261203T103000
DTEND;TZID=America/Los_Angeles:20261203T110000
DTSTAMP:20260424T093415
CREATED:20251007T185121Z
LAST-MODIFIED:20251007T185121Z
UID:10001813-1796293800-1796295600@willowcreekchamber.com
SUMMARY:Storytime
DESCRIPTION:
URL:https://willowcreekchamber.com/event/storytime/2026-12-03/
LOCATION:Willow Creek Library\, 39 Mayfair St\, Willow Creek\, CA\, 95573\, United States
CATEGORIES:Community Event
ATTACH;FMTTYPE=image/jpeg:https://willowcreekchamber.com/wp-content/uploads/2025/10/558170013_1107447331562971_3069749803972989233_n.avif
END:VEVENT
BEGIN:VEVENT
DTSTART;TZID=America/Los_Angeles:20261210T103000
DTEND;TZID=America/Los_Angeles:20261210T110000
DTSTAMP:20260424T093415
CREATED:20251007T185121Z
LAST-MODIFIED:20251007T185121Z
UID:10001814-1796898600-1796900400@willowcreekchamber.com
SUMMARY:Storytime
DESCRIPTION:
URL:https://willowcreekchamber.com/event/storytime/2026-12-10/
LOCATION:Willow Creek Library\, 39 Mayfair St\, Willow Creek\, CA\, 95573\, United States
CATEGORIES:Community Event
ATTACH;FMTTYPE=image/jpeg:https://willowcreekchamber.com/wp-content/uploads/2025/10/558170013_1107447331562971_3069749803972989233_n.avif
END:VEVENT
BEGIN:VEVENT
DTSTART;TZID=America/Los_Angeles:20261217T103000
DTEND;TZID=America/Los_Angeles:20261217T110000
DTSTAMP:20260424T093415
CREATED:20251007T185121Z
LAST-MODIFIED:20251007T185121Z
UID:10001815-1797503400-1797505200@willowcreekchamber.com
SUMMARY:Storytime
DESCRIPTION:
URL:https://willowcreekchamber.com/event/storytime/2026-12-17/
LOCATION:Willow Creek Library\, 39 Mayfair St\, Willow Creek\, CA\, 95573\, United States
CATEGORIES:Community Event
ATTACH;FMTTYPE=image/jpeg:https://willowcreekchamber.com/wp-content/uploads/2025/10/558170013_1107447331562971_3069749803972989233_n.avif
END:VEVENT
BEGIN:VEVENT
DTSTART;TZID=America/Los_Angeles:20261224T103000
DTEND;TZID=America/Los_Angeles:20261224T110000
DTSTAMP:20260424T093415
CREATED:20251007T185121Z
LAST-MODIFIED:20251007T185121Z
UID:10001816-1798108200-1798110000@willowcreekchamber.com
SUMMARY:Storytime
DESCRIPTION:
URL:https://willowcreekchamber.com/event/storytime/2026-12-24/
LOCATION:Willow Creek Library\, 39 Mayfair St\, Willow Creek\, CA\, 95573\, United States
CATEGORIES:Community Event
ATTACH;FMTTYPE=image/jpeg:https://willowcreekchamber.com/wp-content/uploads/2025/10/558170013_1107447331562971_3069749803972989233_n.avif
END:VEVENT
BEGIN:VEVENT
DTSTART;TZID=America/Los_Angeles:20261231T103000
DTEND;TZID=America/Los_Angeles:20261231T110000
DTSTAMP:20260424T093415
CREATED:20251007T185121Z
LAST-MODIFIED:20251007T185121Z
UID:10001817-1798713000-1798714800@willowcreekchamber.com
SUMMARY:Storytime
DESCRIPTION:
URL:https://willowcreekchamber.com/event/storytime/2026-12-31/
LOCATION:Willow Creek Library\, 39 Mayfair St\, Willow Creek\, CA\, 95573\, United States
CATEGORIES:Community Event
ATTACH;FMTTYPE=image/jpeg:https://willowcreekchamber.com/wp-content/uploads/2025/10/558170013_1107447331562971_3069749803972989233_n.avif
END:VEVENT
BEGIN:VEVENT
DTSTART;TZID=America/Los_Angeles:20270107T103000
DTEND;TZID=America/Los_Angeles:20270107T110000
DTSTAMP:20260424T093415
CREATED:20251007T185121Z
LAST-MODIFIED:20251007T185121Z
UID:10001818-1799317800-1799319600@willowcreekchamber.com
SUMMARY:Storytime
DESCRIPTION:
URL:https://willowcreekchamber.com/event/storytime/2027-01-07/
LOCATION:Willow Creek Library\, 39 Mayfair St\, Willow Creek\, CA\, 95573\, United States
CATEGORIES:Community Event
ATTACH;FMTTYPE=image/jpeg:https://willowcreekchamber.com/wp-content/uploads/2025/10/558170013_1107447331562971_3069749803972989233_n.avif
END:VEVENT
BEGIN:VEVENT
DTSTART;TZID=America/Los_Angeles:20270114T103000
DTEND;TZID=America/Los_Angeles:20270114T110000
DTSTAMP:20260424T093415
CREATED:20251007T185121Z
LAST-MODIFIED:20251007T185121Z
UID:10001819-1799922600-1799924400@willowcreekchamber.com
SUMMARY:Storytime
DESCRIPTION:
URL:https://willowcreekchamber.com/event/storytime/2027-01-14/
LOCATION:Willow Creek Library\, 39 Mayfair St\, Willow Creek\, CA\, 95573\, United States
CATEGORIES:Community Event
ATTACH;FMTTYPE=image/jpeg:https://willowcreekchamber.com/wp-content/uploads/2025/10/558170013_1107447331562971_3069749803972989233_n.avif
END:VEVENT
BEGIN:VEVENT
DTSTART;TZID=America/Los_Angeles:20270121T103000
DTEND;TZID=America/Los_Angeles:20270121T110000
DTSTAMP:20260424T093415
CREATED:20251007T185121Z
LAST-MODIFIED:20251007T185121Z
UID:10001820-1800527400-1800529200@willowcreekchamber.com
SUMMARY:Storytime
DESCRIPTION:
URL:https://willowcreekchamber.com/event/storytime/2027-01-21/
LOCATION:Willow Creek Library\, 39 Mayfair St\, Willow Creek\, CA\, 95573\, United States
CATEGORIES:Community Event
ATTACH;FMTTYPE=image/jpeg:https://willowcreekchamber.com/wp-content/uploads/2025/10/558170013_1107447331562971_3069749803972989233_n.avif
END:VEVENT
BEGIN:VEVENT
DTSTART;TZID=America/Los_Angeles:20270128T103000
DTEND;TZID=America/Los_Angeles:20270128T110000
DTSTAMP:20260424T093415
CREATED:20251007T185121Z
LAST-MODIFIED:20251007T185121Z
UID:10001821-1801132200-1801134000@willowcreekchamber.com
SUMMARY:Storytime
DESCRIPTION:
URL:https://willowcreekchamber.com/event/storytime/2027-01-28/
LOCATION:Willow Creek Library\, 39 Mayfair St\, Willow Creek\, CA\, 95573\, United States
CATEGORIES:Community Event
ATTACH;FMTTYPE=image/jpeg:https://willowcreekchamber.com/wp-content/uploads/2025/10/558170013_1107447331562971_3069749803972989233_n.avif
END:VEVENT
BEGIN:VEVENT
DTSTART;TZID=America/Los_Angeles:20270204T103000
DTEND;TZID=America/Los_Angeles:20270204T110000
DTSTAMP:20260424T093415
CREATED:20251007T185121Z
LAST-MODIFIED:20251007T185121Z
UID:10001822-1801737000-1801738800@willowcreekchamber.com
SUMMARY:Storytime
DESCRIPTION:
URL:https://willowcreekchamber.com/event/storytime/2027-02-04/
LOCATION:Willow Creek Library\, 39 Mayfair St\, Willow Creek\, CA\, 95573\, United States
CATEGORIES:Community Event
ATTACH;FMTTYPE=image/jpeg:https://willowcreekchamber.com/wp-content/uploads/2025/10/558170013_1107447331562971_3069749803972989233_n.avif
END:VEVENT
BEGIN:VEVENT
DTSTART;TZID=America/Los_Angeles:20270211T103000
DTEND;TZID=America/Los_Angeles:20270211T110000
DTSTAMP:20260424T093415
CREATED:20251007T185121Z
LAST-MODIFIED:20251007T185121Z
UID:10001823-1802341800-1802343600@willowcreekchamber.com
SUMMARY:Storytime
DESCRIPTION:
URL:https://willowcreekchamber.com/event/storytime/2027-02-11/
LOCATION:Willow Creek Library\, 39 Mayfair St\, Willow Creek\, CA\, 95573\, United States
CATEGORIES:Community Event
ATTACH;FMTTYPE=image/jpeg:https://willowcreekchamber.com/wp-content/uploads/2025/10/558170013_1107447331562971_3069749803972989233_n.avif
END:VEVENT
END:VCALENDAR