BEGIN:VCALENDAR
VERSION:2.0
PRODID:-//Willow Creek Chamber of Commerce - ECPv6.15.20//NONSGML v1.0//EN
CALSCALE:GREGORIAN
METHOD:PUBLISH
X-WR-CALNAME:Willow Creek Chamber of Commerce
X-ORIGINAL-URL:https://willowcreekchamber.com
X-WR-CALDESC:Events for Willow Creek Chamber of Commerce
REFRESH-INTERVAL;VALUE=DURATION:PT1H
X-Robots-Tag:noindex
X-PUBLISHED-TTL:PT1H
BEGIN:VTIMEZONE
TZID:America/Los_Angeles
BEGIN:DAYLIGHT
TZOFFSETFROM:-0800
TZOFFSETTO:-0700
TZNAME:PDT
DTSTART:20240310T100000
END:DAYLIGHT
BEGIN:STANDARD
TZOFFSETFROM:-0700
TZOFFSETTO:-0800
TZNAME:PST
DTSTART:20241103T090000
END:STANDARD
BEGIN:DAYLIGHT
TZOFFSETFROM:-0800
TZOFFSETTO:-0700
TZNAME:PDT
DTSTART:20250309T100000
END:DAYLIGHT
BEGIN:STANDARD
TZOFFSETFROM:-0700
TZOFFSETTO:-0800
TZNAME:PST
DTSTART:20251102T090000
END:STANDARD
BEGIN:DAYLIGHT
TZOFFSETFROM:-0800
TZOFFSETTO:-0700
TZNAME:PDT
DTSTART:20260308T100000
END:DAYLIGHT
BEGIN:STANDARD
TZOFFSETFROM:-0700
TZOFFSETTO:-0800
TZNAME:PST
DTSTART:20261101T090000
END:STANDARD
END:VTIMEZONE
BEGIN:VEVENT
DTSTART;TZID=America/Los_Angeles:20250906T160000
DTEND;TZID=America/Los_Angeles:20250906T190000
DTSTAMP:20260419T175419
CREATED:20250904T225602Z
LAST-MODIFIED:20250904T225606Z
UID:10000167-1757174400-1757185200@willowcreekchamber.com
SUMMARY:First Saturday Summer Mixer - Last One in September!
DESCRIPTION:The Summer Season Downtown Mixer is a monthly gathering designed to bring visitors\, locals\, and businesses together in the heart of town. Whether you own a storefront\, run a side hustle\, or just love this quirky community\, this is for you. \n🟠 May 3rd\n🟠 June 7th\n🟠 (We’ll skip July to celebrate Bigfoot Daze on July 12th)\n🟠 August 2nd\n🟠 September 6th  \nEach mixer features: \n\nLive Music\nDelicious Local Food \nShop Local\nBigfoot Passport Game — a fun and interactive way to encourage foot traffic into participating businesses. Shoppers will collect passport stamps from local spots\, and completed passports will be entered into a prize drawing.\n\nBring a friend\, bring the whole family\, and enjoy a warm summer evening in the heart of Willow Creek.
URL:https://willowcreekchamber.com/event/first-saturday-summer-mixer-no-mixer-in-july-2/
LOCATION:Downtown Willow Creek – Hwy 299\, 38949 CA-299\, Willow Creek\, 95573\, United States
CATEGORIES:Commerce,Community Event
ATTACH;FMTTYPE=image/png:https://willowcreekchamber.com/wp-content/uploads/2025/05/Shop-Local-Special-Deals-Bigfoot-Passport-4.avif
END:VEVENT
BEGIN:VEVENT
DTSTART;TZID=America/Los_Angeles:20250906T210000
DTEND;TZID=America/Los_Angeles:20250907T010000
DTSTAMP:20260419T175419
CREATED:20250904T225926Z
LAST-MODIFIED:20250904T230121Z
UID:10000689-1757192400-1757206800@willowcreekchamber.com
SUMMARY:Flashback at Rockslide - Hip Hop / R&B
DESCRIPTION:With DJ C4 (Chance Carpenter IV)
URL:https://willowcreekchamber.com/event/flashback-at-rockslide-hip-hop-rb/
LOCATION:Rockslide Bar & Grill\, 5371 Hwy 299\, Burnt Ranch\, United States
CATEGORIES:Community Event
ATTACH;FMTTYPE=image/jpeg:https://willowcreekchamber.com/wp-content/uploads/2025/09/Rockslide.avif
END:VEVENT
BEGIN:VEVENT
DTSTART;TZID=America/Los_Angeles:20250920T120000
DTEND;TZID=America/Los_Angeles:20250920T190000
DTSTAMP:20260419T175419
CREATED:20250904T224817Z
LAST-MODIFIED:20250904T224817Z
UID:10000684-1758369600-1758394800@willowcreekchamber.com
SUMMARY:First Annual BIGFOOT BOWL BASH
DESCRIPTION:Music – Food – Vendors – Cash Prize – HUGE BASH for the new Willow Creek Skate Park!
URL:https://willowcreekchamber.com/event/first-annual-bigfoot-bowl-bash/
LOCATION:Veterans Park\, 151 Kimtu Rd\, Willlow Creek\, CA\, United States
CATEGORIES:Community Event
ATTACH;FMTTYPE=image/png:https://willowcreekchamber.com/wp-content/uploads/2025/09/bigfoot-bowl-skate-willow-creek.avif
END:VEVENT
BEGIN:VEVENT
DTSTART;TZID=America/Los_Angeles:20250927T080000
DTEND;TZID=America/Los_Angeles:20250927T170000
DTSTAMP:20260419T175419
CREATED:20250918T173738Z
LAST-MODIFIED:20250918T173738Z
UID:10000703-1758960000-1758992400@willowcreekchamber.com
SUMMARY:Creatures of the Sea Sons
DESCRIPTION:Let’s go!!!! 4 headliner’s plus LFO takeover.. bringing in the fall with a sea themed party of mystical proportions. \nCome enter the depth’s of darkness as we glowingly float within the sea of music!!! \nPeace Sine is brining his smooth bravado of all consuming bass magic. We have Lucid slip following with his compositional wizardry in the night. To round out the main stage we have some dnb hyphy flow with Azlan and Chief Jesta coming up from LA representing Momentive Collective. These guys Rip!!! A special LFO takeover will be pushing the boundaries  all night long. Reflectic and Rael Leonhart and Diablinski will be running the Bassmint with some kinky krunchy electronic concoctions. \nTickets at eclecticfarmsart.com
URL:https://willowcreekchamber.com/event/creatures-of-the-sea-sons/
LOCATION:Tish Tang Campground\, Hoopa\, CA\, United States
CATEGORIES:Community Event
ATTACH;FMTTYPE=image/jpeg:https://willowcreekchamber.com/wp-content/uploads/2025/09/Eclectic-sept27-flier_3-scaled.avif
END:VEVENT
END:VCALENDAR