BEGIN:VCALENDAR
VERSION:2.0
PRODID:-//Willow Creek Chamber of Commerce - ECPv6.15.20//NONSGML v1.0//EN
CALSCALE:GREGORIAN
METHOD:PUBLISH
X-ORIGINAL-URL:https://willowcreekchamber.com
X-WR-CALDESC:Events for Willow Creek Chamber of Commerce
REFRESH-INTERVAL;VALUE=DURATION:PT1H
X-Robots-Tag:noindex
X-PUBLISHED-TTL:PT1H
BEGIN:VTIMEZONE
TZID:America/Los_Angeles
BEGIN:DAYLIGHT
TZOFFSETFROM:-0800
TZOFFSETTO:-0700
TZNAME:PDT
DTSTART:20240310T100000
END:DAYLIGHT
BEGIN:STANDARD
TZOFFSETFROM:-0700
TZOFFSETTO:-0800
TZNAME:PST
DTSTART:20241103T090000
END:STANDARD
BEGIN:DAYLIGHT
TZOFFSETFROM:-0800
TZOFFSETTO:-0700
TZNAME:PDT
DTSTART:20250309T100000
END:DAYLIGHT
BEGIN:STANDARD
TZOFFSETFROM:-0700
TZOFFSETTO:-0800
TZNAME:PST
DTSTART:20251102T090000
END:STANDARD
BEGIN:DAYLIGHT
TZOFFSETFROM:-0800
TZOFFSETTO:-0700
TZNAME:PDT
DTSTART:20260308T100000
END:DAYLIGHT
BEGIN:STANDARD
TZOFFSETFROM:-0700
TZOFFSETTO:-0800
TZNAME:PST
DTSTART:20261101T090000
END:STANDARD
END:VTIMEZONE
BEGIN:VEVENT
DTSTART;TZID=America/Los_Angeles:20250712T100000
DTEND;TZID=America/Los_Angeles:20250712T170000
DTSTAMP:20260423T133835
CREATED:20250531T014850Z
LAST-MODIFIED:20250531T014850Z
UID:10000182-1752314400-1752339600@willowcreekchamber.com
SUMMARY:Bigfoots Mystical Car Show
DESCRIPTION:Show off your ride! Bring you car\, pickup\, motorcycle\, or mini bike and be part of this classic Willow Creek tradition. \nNo sign-ups needed—just show up on the day of the event to enter! \nemail info@willowcreekchamber with questions.
URL:https://willowcreekchamber.com/event/bigfoots-mystical-car-show/
LOCATION:Downtown Willow Creek – Hwy 299\, 38949 CA-299\, Willow Creek\, 95573\, United States
CATEGORIES:Business,Community Event
ATTACH;FMTTYPE=image/png:https://willowcreekchamber.com/wp-content/uploads/2025/04/BFD2025CarShow.avif
END:VEVENT
END:VCALENDAR