BEGIN:VCALENDAR
VERSION:2.0
PRODID:-//Willow Creek Chamber of Commerce - ECPv6.15.20//NONSGML v1.0//EN
CALSCALE:GREGORIAN
METHOD:PUBLISH
X-WR-CALNAME:Willow Creek Chamber of Commerce
X-ORIGINAL-URL:https://willowcreekchamber.com
X-WR-CALDESC:Events for Willow Creek Chamber of Commerce
REFRESH-INTERVAL;VALUE=DURATION:PT1H
X-Robots-Tag:noindex
X-PUBLISHED-TTL:PT1H
BEGIN:VTIMEZONE
TZID:America/Los_Angeles
BEGIN:DAYLIGHT
TZOFFSETFROM:-0800
TZOFFSETTO:-0700
TZNAME:PDT
DTSTART:20240310T100000
END:DAYLIGHT
BEGIN:STANDARD
TZOFFSETFROM:-0700
TZOFFSETTO:-0800
TZNAME:PST
DTSTART:20241103T090000
END:STANDARD
BEGIN:DAYLIGHT
TZOFFSETFROM:-0800
TZOFFSETTO:-0700
TZNAME:PDT
DTSTART:20250309T100000
END:DAYLIGHT
BEGIN:STANDARD
TZOFFSETFROM:-0700
TZOFFSETTO:-0800
TZNAME:PST
DTSTART:20251102T090000
END:STANDARD
BEGIN:DAYLIGHT
TZOFFSETFROM:-0800
TZOFFSETTO:-0700
TZNAME:PDT
DTSTART:20260308T100000
END:DAYLIGHT
BEGIN:STANDARD
TZOFFSETFROM:-0700
TZOFFSETTO:-0800
TZNAME:PST
DTSTART:20261101T090000
END:STANDARD
END:VTIMEZONE
BEGIN:VEVENT
DTSTART;TZID=America/Los_Angeles:20251011T190000
DTEND;TZID=America/Los_Angeles:20251011T190000
DTSTAMP:20260420T142237
CREATED:20250923T201127Z
LAST-MODIFIED:20250923T201127Z
UID:10000704-1760209200-1760209200@willowcreekchamber.com
SUMMARY:It Was a Dark and Scary Night
DESCRIPTION:Adults $5\, 12 and under $3 – at the Dream Quest Community Youth Center
URL:https://willowcreekchamber.com/event/it-was-a-dark-and-scary-night/
LOCATION:Dream Quest\, Willow Creek\, California
CATEGORIES:Community Event
ATTACH;FMTTYPE=image/jpeg:https://willowcreekchamber.com/wp-content/uploads/2025/09/552840623_1143332267939491_6421009427678039846_n.avif
END:VEVENT
BEGIN:VEVENT
DTSTART;TZID=America/Los_Angeles:20251012T180000
DTEND;TZID=America/Los_Angeles:20251012T210000
DTSTAMP:20260420T142237
CREATED:20250911T223347Z
LAST-MODIFIED:20250911T223401Z
UID:10000702-1760292000-1760302800@willowcreekchamber.com
SUMMARY:Pumpkin Harvest Hang Out
DESCRIPTION:YOU’RE INVITED! \nPumpkin Harvest Hang Out\n Join us for an evening of fall fun at our Spooky Home Garden!\n\n\n What’s Happening:\n• Spooky Snacks & Treats\n• Costume Contest \n• Free Local Produce\n• Pumpkin Carving \n• Games & More!\n\n\n Sunday\, October 12\n\n All Ages: 6:00–8:00 PM\n 21+ Harvest Hang Out: 8:00–9:00 PM\n\n\n\n 205 Moccasin Drive\, Willow Creek\, CA\n\n\n FREE!\nBring produce to share\, pumpkins to carve\, or snacks & candy to add to the fun!
URL:https://willowcreekchamber.com/event/pumkin-harvest-hang-out/
LOCATION:CA
CATEGORIES:Community Event
ATTACH;FMTTYPE=image/jpeg:https://willowcreekchamber.com/wp-content/uploads/2025/09/544902567_788242900255479_1513272801630995612_n.avif
END:VEVENT
BEGIN:VEVENT
DTSTART;TZID=America/Los_Angeles:20251016T153000
DTEND;TZID=America/Los_Angeles:20251016T170000
DTSTAMP:20260420T142237
CREATED:20251007T190821Z
LAST-MODIFIED:20251007T191047Z
UID:10002015-1760628600-1760634000@willowcreekchamber.com
SUMMARY:Art @ Dream Quest
DESCRIPTION:
URL:https://willowcreekchamber.com/event/art-dream-quest/2025-10-16/
LOCATION:Dream Quest\, Willow Creek\, California
CATEGORIES:Community Event
ATTACH;FMTTYPE=image/jpeg:https://willowcreekchamber.com/wp-content/uploads/2025/10/554080923_1144267891179262_9161466497885001296_n.avif
END:VEVENT
BEGIN:VEVENT
DTSTART;TZID=America/Los_Angeles:20251018T150000
DTEND;TZID=America/Los_Angeles:20251018T180000
DTSTAMP:20260420T142237
CREATED:20251007T194659Z
LAST-MODIFIED:20251007T194659Z
UID:10002072-1760799600-1760810400@willowcreekchamber.com
SUMMARY:Pumpkin Carving Contes - fundraiser for PAWWS
DESCRIPTION:
URL:https://willowcreekchamber.com/event/pumpkin-carving-contes-fundraiser-for-pawws/
LOCATION:CA
ATTACH;FMTTYPE=image/jpeg:https://willowcreekchamber.com/wp-content/uploads/2025/10/556704722_780676291236794_7342170405783287246_n.avif
END:VEVENT
BEGIN:VEVENT
DTSTART;TZID=America/Los_Angeles:20251023T153000
DTEND;TZID=America/Los_Angeles:20251023T170000
DTSTAMP:20260420T142237
CREATED:20251007T190821Z
LAST-MODIFIED:20251007T191047Z
UID:10002016-1761233400-1761238800@willowcreekchamber.com
SUMMARY:Art @ Dream Quest
DESCRIPTION:
URL:https://willowcreekchamber.com/event/art-dream-quest/2025-10-23/
LOCATION:Dream Quest\, Willow Creek\, California
CATEGORIES:Community Event
ATTACH;FMTTYPE=image/jpeg:https://willowcreekchamber.com/wp-content/uploads/2025/10/554080923_1144267891179262_9161466497885001296_n.avif
END:VEVENT
BEGIN:VEVENT
DTSTART;TZID=America/Los_Angeles:20251025T150000
DTEND;TZID=America/Los_Angeles:20251025T180000
DTSTAMP:20260420T142237
CREATED:20251023T183139Z
LAST-MODIFIED:20251023T183223Z
UID:10002349-1761404400-1761415200@willowcreekchamber.com
SUMMARY:Charger PTO Costume Carnival
DESCRIPTION:
URL:https://willowcreekchamber.com/event/charger-pto-costume-carnival/
LOCATION:Trinity Valley Elementary School
CATEGORIES:Community Event,Fundraiser
ATTACH;FMTTYPE=image/jpeg:https://willowcreekchamber.com/wp-content/uploads/2025/10/564626396_824059336673835_5032097529488429409_n.avif
END:VEVENT
BEGIN:VEVENT
DTSTART;TZID=America/Los_Angeles:20251025T160000
DTEND;TZID=America/Los_Angeles:20251025T210000
DTSTAMP:20260420T142237
CREATED:20251022T183825Z
LAST-MODIFIED:20251022T183825Z
UID:10002346-1761408000-1761426000@willowcreekchamber.com
SUMMARY:Halloween Carnival - 8th Grade Parent Committee
DESCRIPTION:
URL:https://willowcreekchamber.com/event/halloween-carnival-8th-grade-parent-committee/
LOCATION:CA
CATEGORIES:Community Event
ATTACH;FMTTYPE=image/jpeg:https://willowcreekchamber.com/wp-content/uploads/2025/10/566205768_10240827441413473_3613255173478593657_n.avif
END:VEVENT
BEGIN:VEVENT
DTSTART;TZID=America/Los_Angeles:20251025T163000
DTEND;TZID=America/Los_Angeles:20251025T163000
DTSTAMP:20260420T142237
CREATED:20251023T235127Z
LAST-MODIFIED:20251023T235127Z
UID:10002350-1761409800-1761409800@willowcreekchamber.com
SUMMARY:Harvet Festival
DESCRIPTION:
URL:https://willowcreekchamber.com/event/harvet-festival/
LOCATION:Burnt Ranch School
CATEGORIES:Community Event,Fundraiser
ATTACH;FMTTYPE=image/jpeg:https://willowcreekchamber.com/wp-content/uploads/2025/10/571205693_10122777956988420_1445050956899919192_n.avif
END:VEVENT
BEGIN:VEVENT
DTSTART;TZID=America/Los_Angeles:20251025T170000
DTEND;TZID=America/Los_Angeles:20251026T020000
DTSTAMP:20260420T142237
CREATED:20251023T182726Z
LAST-MODIFIED:20251023T182726Z
UID:10002348-1761411600-1761444000@willowcreekchamber.com
SUMMARY:Halloween Dance
DESCRIPTION:
URL:https://willowcreekchamber.com/event/halloween-dance/
LOCATION:Lucky Bear Casino\, 12510 State Hwy 96\, Hoopa\, CA\, 95546\, United States
CATEGORIES:Community Event
ATTACH;FMTTYPE=image/jpeg:https://willowcreekchamber.com/wp-content/uploads/2025/10/569331404_1355572999912196_5066906893731270042_n.avif
END:VEVENT
BEGIN:VEVENT
DTSTART;TZID=America/Los_Angeles:20251026T130000
DTEND;TZID=America/Los_Angeles:20251026T150000
DTSTAMP:20260420T142237
CREATED:20251022T182307Z
LAST-MODIFIED:20251022T182307Z
UID:10002345-1761483600-1761490800@willowcreekchamber.com
SUMMARY:19th Annual Halloween Carnival
DESCRIPTION:
URL:https://willowcreekchamber.com/event/19th-annual-halloween-carnival/
LOCATION:American Legion Hall\, Hoopa\, CA\, United States
CATEGORIES:Community Event
ATTACH;FMTTYPE=image/jpeg:https://willowcreekchamber.com/wp-content/uploads/2025/10/558683895_1787145988830359_2321797365947037565_n.avif
END:VEVENT
BEGIN:VEVENT
DTSTART;TZID=America/Los_Angeles:20251026T180000
DTEND;TZID=America/Los_Angeles:20251026T210000
DTSTAMP:20260420T142237
CREATED:20251016T173637Z
LAST-MODIFIED:20251016T173637Z
UID:10002341-1761501600-1761512400@willowcreekchamber.com
SUMMARY:Pumpkin Harvest Hangout
DESCRIPTION:YOU’RE INVITED! \nPumpkin Harvest Hang Out\n Join us for an evening of fall fun at our Spooky Home Garden!\n\n\n What’s Happening:\n• Spooky Snacks & Treats\n• Costume Contest \n• Free Local Produce\n• Pumpkin Carving \n• Games & More!\n\n\n Sunday\, October 26\n All Ages: 6:00–8:00 PM\n 21+ Harvest Hang Out: 8:00–9:00 PM\n\n\n 205 Moccasin Drive\, Willow Creek\, CA\n\n\n FREE!\nBring produce to share\, pumpkins to carve\, or snacks & candy to add to the fun!
URL:https://willowcreekchamber.com/event/pumpkin-harvest-hangout/
LOCATION:Humboldt Neighborhood Harvest\, Willow Creek\, United States
ATTACH;FMTTYPE=image/jpeg:https://willowcreekchamber.com/wp-content/uploads/2025/10/560053195_816762267403542_686299729677339541_n.avif
END:VEVENT
BEGIN:VEVENT
DTSTART;TZID=America/Los_Angeles:20251030T153000
DTEND;TZID=America/Los_Angeles:20251030T170000
DTSTAMP:20260420T142237
CREATED:20251007T190821Z
LAST-MODIFIED:20251007T191047Z
UID:10002017-1761838200-1761843600@willowcreekchamber.com
SUMMARY:Art @ Dream Quest
DESCRIPTION:
URL:https://willowcreekchamber.com/event/art-dream-quest/2025-10-30/
LOCATION:Dream Quest\, Willow Creek\, California
CATEGORIES:Community Event
ATTACH;FMTTYPE=image/jpeg:https://willowcreekchamber.com/wp-content/uploads/2025/10/554080923_1144267891179262_9161466497885001296_n.avif
END:VEVENT
BEGIN:VEVENT
DTSTART;TZID=America/Los_Angeles:20251031T160000
DTEND;TZID=America/Los_Angeles:20251031T190000
DTSTAMP:20260420T142237
CREATED:20251024T164742Z
LAST-MODIFIED:20251024T164742Z
UID:10002351-1761926400-1761937200@willowcreekchamber.com
SUMMARY:Harvest Party
DESCRIPTION:
URL:https://willowcreekchamber.com/event/harvest-party/
LOCATION:Assembly of God Church\, 55 Enchanted Springs Rd\, Willow Creek\, CA\, 95573\, United States
CATEGORIES:Community Event
ATTACH;FMTTYPE=image/png:https://willowcreekchamber.com/wp-content/uploads/2025/10/Screenshot-2025-10-24-at-9.42.57-AM.avif
END:VEVENT
END:VCALENDAR