BEGIN:VCALENDAR
VERSION:2.0
PRODID:-//Willow Creek Chamber of Commerce - ECPv6.15.20//NONSGML v1.0//EN
CALSCALE:GREGORIAN
METHOD:PUBLISH
X-WR-CALNAME:Willow Creek Chamber of Commerce
X-ORIGINAL-URL:https://willowcreekchamber.com
X-WR-CALDESC:Events for Willow Creek Chamber of Commerce
REFRESH-INTERVAL;VALUE=DURATION:PT1H
X-Robots-Tag:noindex
X-PUBLISHED-TTL:PT1H
BEGIN:VTIMEZONE
TZID:America/Los_Angeles
BEGIN:DAYLIGHT
TZOFFSETFROM:-0800
TZOFFSETTO:-0700
TZNAME:PDT
DTSTART:20260308T100000
END:DAYLIGHT
BEGIN:STANDARD
TZOFFSETFROM:-0700
TZOFFSETTO:-0800
TZNAME:PST
DTSTART:20261101T090000
END:STANDARD
BEGIN:DAYLIGHT
TZOFFSETFROM:-0800
TZOFFSETTO:-0700
TZNAME:PDT
DTSTART:20270314T100000
END:DAYLIGHT
BEGIN:STANDARD
TZOFFSETFROM:-0700
TZOFFSETTO:-0800
TZNAME:PST
DTSTART:20271107T090000
END:STANDARD
BEGIN:DAYLIGHT
TZOFFSETFROM:-0800
TZOFFSETTO:-0700
TZNAME:PDT
DTSTART:20280312T100000
END:DAYLIGHT
BEGIN:STANDARD
TZOFFSETFROM:-0700
TZOFFSETTO:-0800
TZNAME:PST
DTSTART:20281105T090000
END:STANDARD
END:VTIMEZONE
BEGIN:VEVENT
DTSTART;TZID=America/Los_Angeles:20270217T170000
DTEND;TZID=America/Los_Angeles:20270217T194500
DTSTAMP:20260423T173511
CREATED:20251007T180601Z
LAST-MODIFIED:20251007T180601Z
UID:10000777-1802883600-1802893500@willowcreekchamber.com
SUMMARY:Kim Yerton Library\, Cribbage & Game Night
DESCRIPTION:Join us for a fun and friendly Cribbage & Board Game Night at the library! Whether you’re a seasoned cribbage player or just learning the game\, come enjoy an evening of strategy and good company. We provide boards and cards\, but feel free to bring your own. Not into Cribbage? No problem! We have a variety of board games for all ages\, so bring the whole family and find a game to enjoy together. \nFrom classics like Checkers and Clue to trivia challenges and more\, there’s something for everyone. \nAll ages are welcome – come by to play\, relax\, and make new friends. \nEvery Wednesday evening starting at 5 p.m.
URL:https://willowcreekchamber.com/event/kim-yerton-library-cribbage-game-night/2027-02-17/
LOCATION:Kim Yerton Memorial Library\, 370 Loop Rd\, Hoopa\, United States
CATEGORIES:Community Event
ATTACH;FMTTYPE=image/jpeg:https://willowcreekchamber.com/wp-content/uploads/2025/10/KimYertonLibrary-Games.avif
END:VEVENT
BEGIN:VEVENT
DTSTART;TZID=America/Los_Angeles:20270218T103000
DTEND;TZID=America/Los_Angeles:20270218T110000
DTSTAMP:20260423T173511
CREATED:20251007T185121Z
LAST-MODIFIED:20251007T185121Z
UID:10001824-1802946600-1802948400@willowcreekchamber.com
SUMMARY:Storytime
DESCRIPTION:
URL:https://willowcreekchamber.com/event/storytime/2027-02-18/
LOCATION:Willow Creek Library\, 39 Mayfair St\, Willow Creek\, CA\, 95573\, United States
CATEGORIES:Community Event
ATTACH;FMTTYPE=image/jpeg:https://willowcreekchamber.com/wp-content/uploads/2025/10/558170013_1107447331562971_3069749803972989233_n.avif
END:VEVENT
BEGIN:VEVENT
DTSTART;TZID=America/Los_Angeles:20270224T170000
DTEND;TZID=America/Los_Angeles:20270224T194500
DTSTAMP:20260423T173511
CREATED:20251007T180601Z
LAST-MODIFIED:20251007T180601Z
UID:10000778-1803488400-1803498300@willowcreekchamber.com
SUMMARY:Kim Yerton Library\, Cribbage & Game Night
DESCRIPTION:Join us for a fun and friendly Cribbage & Board Game Night at the library! Whether you’re a seasoned cribbage player or just learning the game\, come enjoy an evening of strategy and good company. We provide boards and cards\, but feel free to bring your own. Not into Cribbage? No problem! We have a variety of board games for all ages\, so bring the whole family and find a game to enjoy together. \nFrom classics like Checkers and Clue to trivia challenges and more\, there’s something for everyone. \nAll ages are welcome – come by to play\, relax\, and make new friends. \nEvery Wednesday evening starting at 5 p.m.
URL:https://willowcreekchamber.com/event/kim-yerton-library-cribbage-game-night/2027-02-24/
LOCATION:Kim Yerton Memorial Library\, 370 Loop Rd\, Hoopa\, United States
CATEGORIES:Community Event
ATTACH;FMTTYPE=image/jpeg:https://willowcreekchamber.com/wp-content/uploads/2025/10/KimYertonLibrary-Games.avif
END:VEVENT
BEGIN:VEVENT
DTSTART;TZID=America/Los_Angeles:20270225T103000
DTEND;TZID=America/Los_Angeles:20270225T110000
DTSTAMP:20260423T173511
CREATED:20251007T185121Z
LAST-MODIFIED:20251007T185121Z
UID:10001825-1803551400-1803553200@willowcreekchamber.com
SUMMARY:Storytime
DESCRIPTION:
URL:https://willowcreekchamber.com/event/storytime/2027-02-25/
LOCATION:Willow Creek Library\, 39 Mayfair St\, Willow Creek\, CA\, 95573\, United States
CATEGORIES:Community Event
ATTACH;FMTTYPE=image/jpeg:https://willowcreekchamber.com/wp-content/uploads/2025/10/558170013_1107447331562971_3069749803972989233_n.avif
END:VEVENT
BEGIN:VEVENT
DTSTART;TZID=America/Los_Angeles:20270303T170000
DTEND;TZID=America/Los_Angeles:20270303T194500
DTSTAMP:20260423T173511
CREATED:20251007T180601Z
LAST-MODIFIED:20251007T180601Z
UID:10000779-1804093200-1804103100@willowcreekchamber.com
SUMMARY:Kim Yerton Library\, Cribbage & Game Night
DESCRIPTION:Join us for a fun and friendly Cribbage & Board Game Night at the library! Whether you’re a seasoned cribbage player or just learning the game\, come enjoy an evening of strategy and good company. We provide boards and cards\, but feel free to bring your own. Not into Cribbage? No problem! We have a variety of board games for all ages\, so bring the whole family and find a game to enjoy together. \nFrom classics like Checkers and Clue to trivia challenges and more\, there’s something for everyone. \nAll ages are welcome – come by to play\, relax\, and make new friends. \nEvery Wednesday evening starting at 5 p.m.
URL:https://willowcreekchamber.com/event/kim-yerton-library-cribbage-game-night/2027-03-03/
LOCATION:Kim Yerton Memorial Library\, 370 Loop Rd\, Hoopa\, United States
CATEGORIES:Community Event
ATTACH;FMTTYPE=image/jpeg:https://willowcreekchamber.com/wp-content/uploads/2025/10/KimYertonLibrary-Games.avif
END:VEVENT
BEGIN:VEVENT
DTSTART;TZID=America/Los_Angeles:20270304T103000
DTEND;TZID=America/Los_Angeles:20270304T110000
DTSTAMP:20260423T173511
CREATED:20251007T185121Z
LAST-MODIFIED:20251007T185121Z
UID:10001826-1804156200-1804158000@willowcreekchamber.com
SUMMARY:Storytime
DESCRIPTION:
URL:https://willowcreekchamber.com/event/storytime/2027-03-04/
LOCATION:Willow Creek Library\, 39 Mayfair St\, Willow Creek\, CA\, 95573\, United States
CATEGORIES:Community Event
ATTACH;FMTTYPE=image/jpeg:https://willowcreekchamber.com/wp-content/uploads/2025/10/558170013_1107447331562971_3069749803972989233_n.avif
END:VEVENT
BEGIN:VEVENT
DTSTART;TZID=America/Los_Angeles:20270310T170000
DTEND;TZID=America/Los_Angeles:20270310T194500
DTSTAMP:20260423T173511
CREATED:20251007T180601Z
LAST-MODIFIED:20251007T180601Z
UID:10000780-1804698000-1804707900@willowcreekchamber.com
SUMMARY:Kim Yerton Library\, Cribbage & Game Night
DESCRIPTION:Join us for a fun and friendly Cribbage & Board Game Night at the library! Whether you’re a seasoned cribbage player or just learning the game\, come enjoy an evening of strategy and good company. We provide boards and cards\, but feel free to bring your own. Not into Cribbage? No problem! We have a variety of board games for all ages\, so bring the whole family and find a game to enjoy together. \nFrom classics like Checkers and Clue to trivia challenges and more\, there’s something for everyone. \nAll ages are welcome – come by to play\, relax\, and make new friends. \nEvery Wednesday evening starting at 5 p.m.
URL:https://willowcreekchamber.com/event/kim-yerton-library-cribbage-game-night/2027-03-10/
LOCATION:Kim Yerton Memorial Library\, 370 Loop Rd\, Hoopa\, United States
CATEGORIES:Community Event
ATTACH;FMTTYPE=image/jpeg:https://willowcreekchamber.com/wp-content/uploads/2025/10/KimYertonLibrary-Games.avif
END:VEVENT
BEGIN:VEVENT
DTSTART;TZID=America/Los_Angeles:20270311T103000
DTEND;TZID=America/Los_Angeles:20270311T110000
DTSTAMP:20260423T173511
CREATED:20251007T185121Z
LAST-MODIFIED:20251007T185121Z
UID:10001827-1804761000-1804762800@willowcreekchamber.com
SUMMARY:Storytime
DESCRIPTION:
URL:https://willowcreekchamber.com/event/storytime/2027-03-11/
LOCATION:Willow Creek Library\, 39 Mayfair St\, Willow Creek\, CA\, 95573\, United States
CATEGORIES:Community Event
ATTACH;FMTTYPE=image/jpeg:https://willowcreekchamber.com/wp-content/uploads/2025/10/558170013_1107447331562971_3069749803972989233_n.avif
END:VEVENT
BEGIN:VEVENT
DTSTART;TZID=America/Los_Angeles:20270317T170000
DTEND;TZID=America/Los_Angeles:20270317T194500
DTSTAMP:20260423T173511
CREATED:20251007T180601Z
LAST-MODIFIED:20251007T180601Z
UID:10000781-1805302800-1805312700@willowcreekchamber.com
SUMMARY:Kim Yerton Library\, Cribbage & Game Night
DESCRIPTION:Join us for a fun and friendly Cribbage & Board Game Night at the library! Whether you’re a seasoned cribbage player or just learning the game\, come enjoy an evening of strategy and good company. We provide boards and cards\, but feel free to bring your own. Not into Cribbage? No problem! We have a variety of board games for all ages\, so bring the whole family and find a game to enjoy together. \nFrom classics like Checkers and Clue to trivia challenges and more\, there’s something for everyone. \nAll ages are welcome – come by to play\, relax\, and make new friends. \nEvery Wednesday evening starting at 5 p.m.
URL:https://willowcreekchamber.com/event/kim-yerton-library-cribbage-game-night/2027-03-17/
LOCATION:Kim Yerton Memorial Library\, 370 Loop Rd\, Hoopa\, United States
CATEGORIES:Community Event
ATTACH;FMTTYPE=image/jpeg:https://willowcreekchamber.com/wp-content/uploads/2025/10/KimYertonLibrary-Games.avif
END:VEVENT
BEGIN:VEVENT
DTSTART;TZID=America/Los_Angeles:20270318T103000
DTEND;TZID=America/Los_Angeles:20270318T110000
DTSTAMP:20260423T173511
CREATED:20251007T185121Z
LAST-MODIFIED:20251007T185121Z
UID:10001828-1805365800-1805367600@willowcreekchamber.com
SUMMARY:Storytime
DESCRIPTION:
URL:https://willowcreekchamber.com/event/storytime/2027-03-18/
LOCATION:Willow Creek Library\, 39 Mayfair St\, Willow Creek\, CA\, 95573\, United States
CATEGORIES:Community Event
ATTACH;FMTTYPE=image/jpeg:https://willowcreekchamber.com/wp-content/uploads/2025/10/558170013_1107447331562971_3069749803972989233_n.avif
END:VEVENT
BEGIN:VEVENT
DTSTART;TZID=America/Los_Angeles:20270324T170000
DTEND;TZID=America/Los_Angeles:20270324T194500
DTSTAMP:20260423T173511
CREATED:20251007T180601Z
LAST-MODIFIED:20251007T180601Z
UID:10000782-1805907600-1805917500@willowcreekchamber.com
SUMMARY:Kim Yerton Library\, Cribbage & Game Night
DESCRIPTION:Join us for a fun and friendly Cribbage & Board Game Night at the library! Whether you’re a seasoned cribbage player or just learning the game\, come enjoy an evening of strategy and good company. We provide boards and cards\, but feel free to bring your own. Not into Cribbage? No problem! We have a variety of board games for all ages\, so bring the whole family and find a game to enjoy together. \nFrom classics like Checkers and Clue to trivia challenges and more\, there’s something for everyone. \nAll ages are welcome – come by to play\, relax\, and make new friends. \nEvery Wednesday evening starting at 5 p.m.
URL:https://willowcreekchamber.com/event/kim-yerton-library-cribbage-game-night/2027-03-24/
LOCATION:Kim Yerton Memorial Library\, 370 Loop Rd\, Hoopa\, United States
CATEGORIES:Community Event
ATTACH;FMTTYPE=image/jpeg:https://willowcreekchamber.com/wp-content/uploads/2025/10/KimYertonLibrary-Games.avif
END:VEVENT
BEGIN:VEVENT
DTSTART;TZID=America/Los_Angeles:20270325T103000
DTEND;TZID=America/Los_Angeles:20270325T110000
DTSTAMP:20260423T173511
CREATED:20251007T185121Z
LAST-MODIFIED:20251007T185121Z
UID:10001829-1805970600-1805972400@willowcreekchamber.com
SUMMARY:Storytime
DESCRIPTION:
URL:https://willowcreekchamber.com/event/storytime/2027-03-25/
LOCATION:Willow Creek Library\, 39 Mayfair St\, Willow Creek\, CA\, 95573\, United States
CATEGORIES:Community Event
ATTACH;FMTTYPE=image/jpeg:https://willowcreekchamber.com/wp-content/uploads/2025/10/558170013_1107447331562971_3069749803972989233_n.avif
END:VEVENT
BEGIN:VEVENT
DTSTART;TZID=America/Los_Angeles:20270331T170000
DTEND;TZID=America/Los_Angeles:20270331T194500
DTSTAMP:20260423T173511
CREATED:20251007T180601Z
LAST-MODIFIED:20251007T180601Z
UID:10000783-1806512400-1806522300@willowcreekchamber.com
SUMMARY:Kim Yerton Library\, Cribbage & Game Night
DESCRIPTION:Join us for a fun and friendly Cribbage & Board Game Night at the library! Whether you’re a seasoned cribbage player or just learning the game\, come enjoy an evening of strategy and good company. We provide boards and cards\, but feel free to bring your own. Not into Cribbage? No problem! We have a variety of board games for all ages\, so bring the whole family and find a game to enjoy together. \nFrom classics like Checkers and Clue to trivia challenges and more\, there’s something for everyone. \nAll ages are welcome – come by to play\, relax\, and make new friends. \nEvery Wednesday evening starting at 5 p.m.
URL:https://willowcreekchamber.com/event/kim-yerton-library-cribbage-game-night/2027-03-31/
LOCATION:Kim Yerton Memorial Library\, 370 Loop Rd\, Hoopa\, United States
CATEGORIES:Community Event
ATTACH;FMTTYPE=image/jpeg:https://willowcreekchamber.com/wp-content/uploads/2025/10/KimYertonLibrary-Games.avif
END:VEVENT
BEGIN:VEVENT
DTSTART;TZID=America/Los_Angeles:20270401T103000
DTEND;TZID=America/Los_Angeles:20270401T110000
DTSTAMP:20260423T173511
CREATED:20251007T185121Z
LAST-MODIFIED:20251007T185121Z
UID:10001830-1806575400-1806577200@willowcreekchamber.com
SUMMARY:Storytime
DESCRIPTION:
URL:https://willowcreekchamber.com/event/storytime/2027-04-01/
LOCATION:Willow Creek Library\, 39 Mayfair St\, Willow Creek\, CA\, 95573\, United States
CATEGORIES:Community Event
ATTACH;FMTTYPE=image/jpeg:https://willowcreekchamber.com/wp-content/uploads/2025/10/558170013_1107447331562971_3069749803972989233_n.avif
END:VEVENT
BEGIN:VEVENT
DTSTART;TZID=America/Los_Angeles:20270407T170000
DTEND;TZID=America/Los_Angeles:20270407T194500
DTSTAMP:20260423T173511
CREATED:20251007T180601Z
LAST-MODIFIED:20251007T180601Z
UID:10000784-1807117200-1807127100@willowcreekchamber.com
SUMMARY:Kim Yerton Library\, Cribbage & Game Night
DESCRIPTION:Join us for a fun and friendly Cribbage & Board Game Night at the library! Whether you’re a seasoned cribbage player or just learning the game\, come enjoy an evening of strategy and good company. We provide boards and cards\, but feel free to bring your own. Not into Cribbage? No problem! We have a variety of board games for all ages\, so bring the whole family and find a game to enjoy together. \nFrom classics like Checkers and Clue to trivia challenges and more\, there’s something for everyone. \nAll ages are welcome – come by to play\, relax\, and make new friends. \nEvery Wednesday evening starting at 5 p.m.
URL:https://willowcreekchamber.com/event/kim-yerton-library-cribbage-game-night/2027-04-07/
LOCATION:Kim Yerton Memorial Library\, 370 Loop Rd\, Hoopa\, United States
CATEGORIES:Community Event
ATTACH;FMTTYPE=image/jpeg:https://willowcreekchamber.com/wp-content/uploads/2025/10/KimYertonLibrary-Games.avif
END:VEVENT
BEGIN:VEVENT
DTSTART;TZID=America/Los_Angeles:20270408T103000
DTEND;TZID=America/Los_Angeles:20270408T110000
DTSTAMP:20260423T173511
CREATED:20251007T185121Z
LAST-MODIFIED:20251007T185121Z
UID:10001831-1807180200-1807182000@willowcreekchamber.com
SUMMARY:Storytime
DESCRIPTION:
URL:https://willowcreekchamber.com/event/storytime/2027-04-08/
LOCATION:Willow Creek Library\, 39 Mayfair St\, Willow Creek\, CA\, 95573\, United States
CATEGORIES:Community Event
ATTACH;FMTTYPE=image/jpeg:https://willowcreekchamber.com/wp-content/uploads/2025/10/558170013_1107447331562971_3069749803972989233_n.avif
END:VEVENT
BEGIN:VEVENT
DTSTART;TZID=America/Los_Angeles:20270414T170000
DTEND;TZID=America/Los_Angeles:20270414T194500
DTSTAMP:20260423T173511
CREATED:20251007T180601Z
LAST-MODIFIED:20251007T180601Z
UID:10000785-1807722000-1807731900@willowcreekchamber.com
SUMMARY:Kim Yerton Library\, Cribbage & Game Night
DESCRIPTION:Join us for a fun and friendly Cribbage & Board Game Night at the library! Whether you’re a seasoned cribbage player or just learning the game\, come enjoy an evening of strategy and good company. We provide boards and cards\, but feel free to bring your own. Not into Cribbage? No problem! We have a variety of board games for all ages\, so bring the whole family and find a game to enjoy together. \nFrom classics like Checkers and Clue to trivia challenges and more\, there’s something for everyone. \nAll ages are welcome – come by to play\, relax\, and make new friends. \nEvery Wednesday evening starting at 5 p.m.
URL:https://willowcreekchamber.com/event/kim-yerton-library-cribbage-game-night/2027-04-14/
LOCATION:Kim Yerton Memorial Library\, 370 Loop Rd\, Hoopa\, United States
CATEGORIES:Community Event
ATTACH;FMTTYPE=image/jpeg:https://willowcreekchamber.com/wp-content/uploads/2025/10/KimYertonLibrary-Games.avif
END:VEVENT
BEGIN:VEVENT
DTSTART;TZID=America/Los_Angeles:20270415T103000
DTEND;TZID=America/Los_Angeles:20270415T110000
DTSTAMP:20260423T173511
CREATED:20251007T185121Z
LAST-MODIFIED:20251007T185121Z
UID:10001832-1807785000-1807786800@willowcreekchamber.com
SUMMARY:Storytime
DESCRIPTION:
URL:https://willowcreekchamber.com/event/storytime/2027-04-15/
LOCATION:Willow Creek Library\, 39 Mayfair St\, Willow Creek\, CA\, 95573\, United States
CATEGORIES:Community Event
ATTACH;FMTTYPE=image/jpeg:https://willowcreekchamber.com/wp-content/uploads/2025/10/558170013_1107447331562971_3069749803972989233_n.avif
END:VEVENT
BEGIN:VEVENT
DTSTART;TZID=America/Los_Angeles:20270421T170000
DTEND;TZID=America/Los_Angeles:20270421T194500
DTSTAMP:20260423T173511
CREATED:20251007T180601Z
LAST-MODIFIED:20251007T180601Z
UID:10000786-1808326800-1808336700@willowcreekchamber.com
SUMMARY:Kim Yerton Library\, Cribbage & Game Night
DESCRIPTION:Join us for a fun and friendly Cribbage & Board Game Night at the library! Whether you’re a seasoned cribbage player or just learning the game\, come enjoy an evening of strategy and good company. We provide boards and cards\, but feel free to bring your own. Not into Cribbage? No problem! We have a variety of board games for all ages\, so bring the whole family and find a game to enjoy together. \nFrom classics like Checkers and Clue to trivia challenges and more\, there’s something for everyone. \nAll ages are welcome – come by to play\, relax\, and make new friends. \nEvery Wednesday evening starting at 5 p.m.
URL:https://willowcreekchamber.com/event/kim-yerton-library-cribbage-game-night/2027-04-21/
LOCATION:Kim Yerton Memorial Library\, 370 Loop Rd\, Hoopa\, United States
CATEGORIES:Community Event
ATTACH;FMTTYPE=image/jpeg:https://willowcreekchamber.com/wp-content/uploads/2025/10/KimYertonLibrary-Games.avif
END:VEVENT
BEGIN:VEVENT
DTSTART;TZID=America/Los_Angeles:20270422T103000
DTEND;TZID=America/Los_Angeles:20270422T110000
DTSTAMP:20260423T173511
CREATED:20251007T185121Z
LAST-MODIFIED:20251007T185121Z
UID:10001833-1808389800-1808391600@willowcreekchamber.com
SUMMARY:Storytime
DESCRIPTION:
URL:https://willowcreekchamber.com/event/storytime/2027-04-22/
LOCATION:Willow Creek Library\, 39 Mayfair St\, Willow Creek\, CA\, 95573\, United States
CATEGORIES:Community Event
ATTACH;FMTTYPE=image/jpeg:https://willowcreekchamber.com/wp-content/uploads/2025/10/558170013_1107447331562971_3069749803972989233_n.avif
END:VEVENT
BEGIN:VEVENT
DTSTART;TZID=America/Los_Angeles:20270428T170000
DTEND;TZID=America/Los_Angeles:20270428T194500
DTSTAMP:20260423T173511
CREATED:20251007T180601Z
LAST-MODIFIED:20251007T180601Z
UID:10000787-1808931600-1808941500@willowcreekchamber.com
SUMMARY:Kim Yerton Library\, Cribbage & Game Night
DESCRIPTION:Join us for a fun and friendly Cribbage & Board Game Night at the library! Whether you’re a seasoned cribbage player or just learning the game\, come enjoy an evening of strategy and good company. We provide boards and cards\, but feel free to bring your own. Not into Cribbage? No problem! We have a variety of board games for all ages\, so bring the whole family and find a game to enjoy together. \nFrom classics like Checkers and Clue to trivia challenges and more\, there’s something for everyone. \nAll ages are welcome – come by to play\, relax\, and make new friends. \nEvery Wednesday evening starting at 5 p.m.
URL:https://willowcreekchamber.com/event/kim-yerton-library-cribbage-game-night/2027-04-28/
LOCATION:Kim Yerton Memorial Library\, 370 Loop Rd\, Hoopa\, United States
CATEGORIES:Community Event
ATTACH;FMTTYPE=image/jpeg:https://willowcreekchamber.com/wp-content/uploads/2025/10/KimYertonLibrary-Games.avif
END:VEVENT
BEGIN:VEVENT
DTSTART;TZID=America/Los_Angeles:20270429T103000
DTEND;TZID=America/Los_Angeles:20270429T110000
DTSTAMP:20260423T173511
CREATED:20251007T185121Z
LAST-MODIFIED:20251007T185121Z
UID:10001834-1808994600-1808996400@willowcreekchamber.com
SUMMARY:Storytime
DESCRIPTION:
URL:https://willowcreekchamber.com/event/storytime/2027-04-29/
LOCATION:Willow Creek Library\, 39 Mayfair St\, Willow Creek\, CA\, 95573\, United States
CATEGORIES:Community Event
ATTACH;FMTTYPE=image/jpeg:https://willowcreekchamber.com/wp-content/uploads/2025/10/558170013_1107447331562971_3069749803972989233_n.avif
END:VEVENT
BEGIN:VEVENT
DTSTART;TZID=America/Los_Angeles:20270505T170000
DTEND;TZID=America/Los_Angeles:20270505T194500
DTSTAMP:20260423T173511
CREATED:20251007T180601Z
LAST-MODIFIED:20251007T180601Z
UID:10000788-1809536400-1809546300@willowcreekchamber.com
SUMMARY:Kim Yerton Library\, Cribbage & Game Night
DESCRIPTION:Join us for a fun and friendly Cribbage & Board Game Night at the library! Whether you’re a seasoned cribbage player or just learning the game\, come enjoy an evening of strategy and good company. We provide boards and cards\, but feel free to bring your own. Not into Cribbage? No problem! We have a variety of board games for all ages\, so bring the whole family and find a game to enjoy together. \nFrom classics like Checkers and Clue to trivia challenges and more\, there’s something for everyone. \nAll ages are welcome – come by to play\, relax\, and make new friends. \nEvery Wednesday evening starting at 5 p.m.
URL:https://willowcreekchamber.com/event/kim-yerton-library-cribbage-game-night/2027-05-05/
LOCATION:Kim Yerton Memorial Library\, 370 Loop Rd\, Hoopa\, United States
CATEGORIES:Community Event
ATTACH;FMTTYPE=image/jpeg:https://willowcreekchamber.com/wp-content/uploads/2025/10/KimYertonLibrary-Games.avif
END:VEVENT
BEGIN:VEVENT
DTSTART;TZID=America/Los_Angeles:20270506T103000
DTEND;TZID=America/Los_Angeles:20270506T110000
DTSTAMP:20260423T173511
CREATED:20251007T185121Z
LAST-MODIFIED:20251007T185121Z
UID:10001835-1809599400-1809601200@willowcreekchamber.com
SUMMARY:Storytime
DESCRIPTION:
URL:https://willowcreekchamber.com/event/storytime/2027-05-06/
LOCATION:Willow Creek Library\, 39 Mayfair St\, Willow Creek\, CA\, 95573\, United States
CATEGORIES:Community Event
ATTACH;FMTTYPE=image/jpeg:https://willowcreekchamber.com/wp-content/uploads/2025/10/558170013_1107447331562971_3069749803972989233_n.avif
END:VEVENT
BEGIN:VEVENT
DTSTART;TZID=America/Los_Angeles:20270512T170000
DTEND;TZID=America/Los_Angeles:20270512T194500
DTSTAMP:20260423T173511
CREATED:20251007T180601Z
LAST-MODIFIED:20251007T180601Z
UID:10000789-1810141200-1810151100@willowcreekchamber.com
SUMMARY:Kim Yerton Library\, Cribbage & Game Night
DESCRIPTION:Join us for a fun and friendly Cribbage & Board Game Night at the library! Whether you’re a seasoned cribbage player or just learning the game\, come enjoy an evening of strategy and good company. We provide boards and cards\, but feel free to bring your own. Not into Cribbage? No problem! We have a variety of board games for all ages\, so bring the whole family and find a game to enjoy together. \nFrom classics like Checkers and Clue to trivia challenges and more\, there’s something for everyone. \nAll ages are welcome – come by to play\, relax\, and make new friends. \nEvery Wednesday evening starting at 5 p.m.
URL:https://willowcreekchamber.com/event/kim-yerton-library-cribbage-game-night/2027-05-12/
LOCATION:Kim Yerton Memorial Library\, 370 Loop Rd\, Hoopa\, United States
CATEGORIES:Community Event
ATTACH;FMTTYPE=image/jpeg:https://willowcreekchamber.com/wp-content/uploads/2025/10/KimYertonLibrary-Games.avif
END:VEVENT
BEGIN:VEVENT
DTSTART;TZID=America/Los_Angeles:20270513T103000
DTEND;TZID=America/Los_Angeles:20270513T110000
DTSTAMP:20260423T173511
CREATED:20251007T185121Z
LAST-MODIFIED:20251007T185121Z
UID:10001836-1810204200-1810206000@willowcreekchamber.com
SUMMARY:Storytime
DESCRIPTION:
URL:https://willowcreekchamber.com/event/storytime/2027-05-13/
LOCATION:Willow Creek Library\, 39 Mayfair St\, Willow Creek\, CA\, 95573\, United States
CATEGORIES:Community Event
ATTACH;FMTTYPE=image/jpeg:https://willowcreekchamber.com/wp-content/uploads/2025/10/558170013_1107447331562971_3069749803972989233_n.avif
END:VEVENT
BEGIN:VEVENT
DTSTART;TZID=America/Los_Angeles:20270519T170000
DTEND;TZID=America/Los_Angeles:20270519T194500
DTSTAMP:20260423T173511
CREATED:20251007T180601Z
LAST-MODIFIED:20251007T180601Z
UID:10000790-1810746000-1810755900@willowcreekchamber.com
SUMMARY:Kim Yerton Library\, Cribbage & Game Night
DESCRIPTION:Join us for a fun and friendly Cribbage & Board Game Night at the library! Whether you’re a seasoned cribbage player or just learning the game\, come enjoy an evening of strategy and good company. We provide boards and cards\, but feel free to bring your own. Not into Cribbage? No problem! We have a variety of board games for all ages\, so bring the whole family and find a game to enjoy together. \nFrom classics like Checkers and Clue to trivia challenges and more\, there’s something for everyone. \nAll ages are welcome – come by to play\, relax\, and make new friends. \nEvery Wednesday evening starting at 5 p.m.
URL:https://willowcreekchamber.com/event/kim-yerton-library-cribbage-game-night/2027-05-19/
LOCATION:Kim Yerton Memorial Library\, 370 Loop Rd\, Hoopa\, United States
CATEGORIES:Community Event
ATTACH;FMTTYPE=image/jpeg:https://willowcreekchamber.com/wp-content/uploads/2025/10/KimYertonLibrary-Games.avif
END:VEVENT
BEGIN:VEVENT
DTSTART;TZID=America/Los_Angeles:20270520T103000
DTEND;TZID=America/Los_Angeles:20270520T110000
DTSTAMP:20260423T173511
CREATED:20251007T185121Z
LAST-MODIFIED:20251007T185121Z
UID:10001837-1810809000-1810810800@willowcreekchamber.com
SUMMARY:Storytime
DESCRIPTION:
URL:https://willowcreekchamber.com/event/storytime/2027-05-20/
LOCATION:Willow Creek Library\, 39 Mayfair St\, Willow Creek\, CA\, 95573\, United States
CATEGORIES:Community Event
ATTACH;FMTTYPE=image/jpeg:https://willowcreekchamber.com/wp-content/uploads/2025/10/558170013_1107447331562971_3069749803972989233_n.avif
END:VEVENT
BEGIN:VEVENT
DTSTART;TZID=America/Los_Angeles:20270526T170000
DTEND;TZID=America/Los_Angeles:20270526T194500
DTSTAMP:20260423T173511
CREATED:20251007T180601Z
LAST-MODIFIED:20251007T180601Z
UID:10000791-1811350800-1811360700@willowcreekchamber.com
SUMMARY:Kim Yerton Library\, Cribbage & Game Night
DESCRIPTION:Join us for a fun and friendly Cribbage & Board Game Night at the library! Whether you’re a seasoned cribbage player or just learning the game\, come enjoy an evening of strategy and good company. We provide boards and cards\, but feel free to bring your own. Not into Cribbage? No problem! We have a variety of board games for all ages\, so bring the whole family and find a game to enjoy together. \nFrom classics like Checkers and Clue to trivia challenges and more\, there’s something for everyone. \nAll ages are welcome – come by to play\, relax\, and make new friends. \nEvery Wednesday evening starting at 5 p.m.
URL:https://willowcreekchamber.com/event/kim-yerton-library-cribbage-game-night/2027-05-26/
LOCATION:Kim Yerton Memorial Library\, 370 Loop Rd\, Hoopa\, United States
CATEGORIES:Community Event
ATTACH;FMTTYPE=image/jpeg:https://willowcreekchamber.com/wp-content/uploads/2025/10/KimYertonLibrary-Games.avif
END:VEVENT
BEGIN:VEVENT
DTSTART;TZID=America/Los_Angeles:20270527T103000
DTEND;TZID=America/Los_Angeles:20270527T110000
DTSTAMP:20260423T173512
CREATED:20251007T185121Z
LAST-MODIFIED:20251007T185121Z
UID:10001838-1811413800-1811415600@willowcreekchamber.com
SUMMARY:Storytime
DESCRIPTION:
URL:https://willowcreekchamber.com/event/storytime/2027-05-27/
LOCATION:Willow Creek Library\, 39 Mayfair St\, Willow Creek\, CA\, 95573\, United States
CATEGORIES:Community Event
ATTACH;FMTTYPE=image/jpeg:https://willowcreekchamber.com/wp-content/uploads/2025/10/558170013_1107447331562971_3069749803972989233_n.avif
END:VEVENT
END:VCALENDAR