BEGIN:VCALENDAR
VERSION:2.0
PRODID:-//Willow Creek Chamber of Commerce - ECPv6.15.20//NONSGML v1.0//EN
CALSCALE:GREGORIAN
METHOD:PUBLISH
X-ORIGINAL-URL:https://willowcreekchamber.com
X-WR-CALDESC:Events for Willow Creek Chamber of Commerce
REFRESH-INTERVAL;VALUE=DURATION:PT1H
X-Robots-Tag:noindex
X-PUBLISHED-TTL:PT1H
BEGIN:VTIMEZONE
TZID:America/Los_Angeles
BEGIN:DAYLIGHT
TZOFFSETFROM:-0800
TZOFFSETTO:-0700
TZNAME:PDT
DTSTART:20250309T100000
END:DAYLIGHT
BEGIN:STANDARD
TZOFFSETFROM:-0700
TZOFFSETTO:-0800
TZNAME:PST
DTSTART:20251102T090000
END:STANDARD
BEGIN:DAYLIGHT
TZOFFSETFROM:-0800
TZOFFSETTO:-0700
TZNAME:PDT
DTSTART:20260308T100000
END:DAYLIGHT
BEGIN:STANDARD
TZOFFSETFROM:-0700
TZOFFSETTO:-0800
TZNAME:PST
DTSTART:20261101T090000
END:STANDARD
BEGIN:DAYLIGHT
TZOFFSETFROM:-0800
TZOFFSETTO:-0700
TZNAME:PDT
DTSTART:20270314T100000
END:DAYLIGHT
BEGIN:STANDARD
TZOFFSETFROM:-0700
TZOFFSETTO:-0800
TZNAME:PST
DTSTART:20271107T090000
END:STANDARD
BEGIN:DAYLIGHT
TZOFFSETFROM:-0800
TZOFFSETTO:-0700
TZNAME:PDT
DTSTART:20280312T100000
END:DAYLIGHT
BEGIN:STANDARD
TZOFFSETFROM:-0700
TZOFFSETTO:-0800
TZNAME:PST
DTSTART:20281105T090000
END:STANDARD
END:VTIMEZONE
BEGIN:VEVENT
DTSTART;TZID=America/Los_Angeles:20261118T170000
DTEND;TZID=America/Los_Angeles:20261118T194500
DTSTAMP:20260422T184904
CREATED:20251007T180601Z
LAST-MODIFIED:20251007T180601Z
UID:10000764-1795021200-1795031100@willowcreekchamber.com
SUMMARY:Kim Yerton Library\, Cribbage & Game Night
DESCRIPTION:Join us for a fun and friendly Cribbage & Board Game Night at the library! Whether you’re a seasoned cribbage player or just learning the game\, come enjoy an evening of strategy and good company. We provide boards and cards\, but feel free to bring your own. Not into Cribbage? No problem! We have a variety of board games for all ages\, so bring the whole family and find a game to enjoy together. \nFrom classics like Checkers and Clue to trivia challenges and more\, there’s something for everyone. \nAll ages are welcome – come by to play\, relax\, and make new friends. \nEvery Wednesday evening starting at 5 p.m.
URL:https://willowcreekchamber.com/event/kim-yerton-library-cribbage-game-night/2026-11-18/
LOCATION:Kim Yerton Memorial Library\, 370 Loop Rd\, Hoopa\, United States
CATEGORIES:Community Event
ATTACH;FMTTYPE=image/jpeg:https://willowcreekchamber.com/wp-content/uploads/2025/10/KimYertonLibrary-Games.avif
END:VEVENT
BEGIN:VEVENT
DTSTART;TZID=America/Los_Angeles:20261119T103000
DTEND;TZID=America/Los_Angeles:20261119T110000
DTSTAMP:20260422T184904
CREATED:20251007T185121Z
LAST-MODIFIED:20251007T185121Z
UID:10001811-1795084200-1795086000@willowcreekchamber.com
SUMMARY:Storytime
DESCRIPTION:
URL:https://willowcreekchamber.com/event/storytime/2026-11-19/
LOCATION:Willow Creek Library\, 39 Mayfair St\, Willow Creek\, CA\, 95573\, United States
CATEGORIES:Community Event
ATTACH;FMTTYPE=image/jpeg:https://willowcreekchamber.com/wp-content/uploads/2025/10/558170013_1107447331562971_3069749803972989233_n.avif
END:VEVENT
BEGIN:VEVENT
DTSTART;TZID=America/Los_Angeles:20261125T170000
DTEND;TZID=America/Los_Angeles:20261125T194500
DTSTAMP:20260422T184904
CREATED:20251007T180601Z
LAST-MODIFIED:20251007T180601Z
UID:10000765-1795626000-1795635900@willowcreekchamber.com
SUMMARY:Kim Yerton Library\, Cribbage & Game Night
DESCRIPTION:Join us for a fun and friendly Cribbage & Board Game Night at the library! Whether you’re a seasoned cribbage player or just learning the game\, come enjoy an evening of strategy and good company. We provide boards and cards\, but feel free to bring your own. Not into Cribbage? No problem! We have a variety of board games for all ages\, so bring the whole family and find a game to enjoy together. \nFrom classics like Checkers and Clue to trivia challenges and more\, there’s something for everyone. \nAll ages are welcome – come by to play\, relax\, and make new friends. \nEvery Wednesday evening starting at 5 p.m.
URL:https://willowcreekchamber.com/event/kim-yerton-library-cribbage-game-night/2026-11-25/
LOCATION:Kim Yerton Memorial Library\, 370 Loop Rd\, Hoopa\, United States
CATEGORIES:Community Event
ATTACH;FMTTYPE=image/jpeg:https://willowcreekchamber.com/wp-content/uploads/2025/10/KimYertonLibrary-Games.avif
END:VEVENT
BEGIN:VEVENT
DTSTART;TZID=America/Los_Angeles:20261126T103000
DTEND;TZID=America/Los_Angeles:20261126T110000
DTSTAMP:20260422T184904
CREATED:20251007T185121Z
LAST-MODIFIED:20251007T185121Z
UID:10001812-1795689000-1795690800@willowcreekchamber.com
SUMMARY:Storytime
DESCRIPTION:
URL:https://willowcreekchamber.com/event/storytime/2026-11-26/
LOCATION:Willow Creek Library\, 39 Mayfair St\, Willow Creek\, CA\, 95573\, United States
CATEGORIES:Community Event
ATTACH;FMTTYPE=image/jpeg:https://willowcreekchamber.com/wp-content/uploads/2025/10/558170013_1107447331562971_3069749803972989233_n.avif
END:VEVENT
BEGIN:VEVENT
DTSTART;TZID=America/Los_Angeles:20261202T170000
DTEND;TZID=America/Los_Angeles:20261202T194500
DTSTAMP:20260422T184904
CREATED:20251007T180601Z
LAST-MODIFIED:20251007T180601Z
UID:10000766-1796230800-1796240700@willowcreekchamber.com
SUMMARY:Kim Yerton Library\, Cribbage & Game Night
DESCRIPTION:Join us for a fun and friendly Cribbage & Board Game Night at the library! Whether you’re a seasoned cribbage player or just learning the game\, come enjoy an evening of strategy and good company. We provide boards and cards\, but feel free to bring your own. Not into Cribbage? No problem! We have a variety of board games for all ages\, so bring the whole family and find a game to enjoy together. \nFrom classics like Checkers and Clue to trivia challenges and more\, there’s something for everyone. \nAll ages are welcome – come by to play\, relax\, and make new friends. \nEvery Wednesday evening starting at 5 p.m.
URL:https://willowcreekchamber.com/event/kim-yerton-library-cribbage-game-night/2026-12-02/
LOCATION:Kim Yerton Memorial Library\, 370 Loop Rd\, Hoopa\, United States
CATEGORIES:Community Event
ATTACH;FMTTYPE=image/jpeg:https://willowcreekchamber.com/wp-content/uploads/2025/10/KimYertonLibrary-Games.avif
END:VEVENT
BEGIN:VEVENT
DTSTART;TZID=America/Los_Angeles:20261203T103000
DTEND;TZID=America/Los_Angeles:20261203T110000
DTSTAMP:20260422T184904
CREATED:20251007T185121Z
LAST-MODIFIED:20251007T185121Z
UID:10001813-1796293800-1796295600@willowcreekchamber.com
SUMMARY:Storytime
DESCRIPTION:
URL:https://willowcreekchamber.com/event/storytime/2026-12-03/
LOCATION:Willow Creek Library\, 39 Mayfair St\, Willow Creek\, CA\, 95573\, United States
CATEGORIES:Community Event
ATTACH;FMTTYPE=image/jpeg:https://willowcreekchamber.com/wp-content/uploads/2025/10/558170013_1107447331562971_3069749803972989233_n.avif
END:VEVENT
BEGIN:VEVENT
DTSTART;TZID=America/Los_Angeles:20261209T170000
DTEND;TZID=America/Los_Angeles:20261209T194500
DTSTAMP:20260422T184904
CREATED:20251007T180601Z
LAST-MODIFIED:20251007T180601Z
UID:10000767-1796835600-1796845500@willowcreekchamber.com
SUMMARY:Kim Yerton Library\, Cribbage & Game Night
DESCRIPTION:Join us for a fun and friendly Cribbage & Board Game Night at the library! Whether you’re a seasoned cribbage player or just learning the game\, come enjoy an evening of strategy and good company. We provide boards and cards\, but feel free to bring your own. Not into Cribbage? No problem! We have a variety of board games for all ages\, so bring the whole family and find a game to enjoy together. \nFrom classics like Checkers and Clue to trivia challenges and more\, there’s something for everyone. \nAll ages are welcome – come by to play\, relax\, and make new friends. \nEvery Wednesday evening starting at 5 p.m.
URL:https://willowcreekchamber.com/event/kim-yerton-library-cribbage-game-night/2026-12-09/
LOCATION:Kim Yerton Memorial Library\, 370 Loop Rd\, Hoopa\, United States
CATEGORIES:Community Event
ATTACH;FMTTYPE=image/jpeg:https://willowcreekchamber.com/wp-content/uploads/2025/10/KimYertonLibrary-Games.avif
END:VEVENT
BEGIN:VEVENT
DTSTART;TZID=America/Los_Angeles:20261210T103000
DTEND;TZID=America/Los_Angeles:20261210T110000
DTSTAMP:20260422T184904
CREATED:20251007T185121Z
LAST-MODIFIED:20251007T185121Z
UID:10001814-1796898600-1796900400@willowcreekchamber.com
SUMMARY:Storytime
DESCRIPTION:
URL:https://willowcreekchamber.com/event/storytime/2026-12-10/
LOCATION:Willow Creek Library\, 39 Mayfair St\, Willow Creek\, CA\, 95573\, United States
CATEGORIES:Community Event
ATTACH;FMTTYPE=image/jpeg:https://willowcreekchamber.com/wp-content/uploads/2025/10/558170013_1107447331562971_3069749803972989233_n.avif
END:VEVENT
BEGIN:VEVENT
DTSTART;TZID=America/Los_Angeles:20261216T170000
DTEND;TZID=America/Los_Angeles:20261216T194500
DTSTAMP:20260422T184904
CREATED:20251007T180601Z
LAST-MODIFIED:20251007T180601Z
UID:10000768-1797440400-1797450300@willowcreekchamber.com
SUMMARY:Kim Yerton Library\, Cribbage & Game Night
DESCRIPTION:Join us for a fun and friendly Cribbage & Board Game Night at the library! Whether you’re a seasoned cribbage player or just learning the game\, come enjoy an evening of strategy and good company. We provide boards and cards\, but feel free to bring your own. Not into Cribbage? No problem! We have a variety of board games for all ages\, so bring the whole family and find a game to enjoy together. \nFrom classics like Checkers and Clue to trivia challenges and more\, there’s something for everyone. \nAll ages are welcome – come by to play\, relax\, and make new friends. \nEvery Wednesday evening starting at 5 p.m.
URL:https://willowcreekchamber.com/event/kim-yerton-library-cribbage-game-night/2026-12-16/
LOCATION:Kim Yerton Memorial Library\, 370 Loop Rd\, Hoopa\, United States
CATEGORIES:Community Event
ATTACH;FMTTYPE=image/jpeg:https://willowcreekchamber.com/wp-content/uploads/2025/10/KimYertonLibrary-Games.avif
END:VEVENT
BEGIN:VEVENT
DTSTART;TZID=America/Los_Angeles:20261217T103000
DTEND;TZID=America/Los_Angeles:20261217T110000
DTSTAMP:20260422T184904
CREATED:20251007T185121Z
LAST-MODIFIED:20251007T185121Z
UID:10001815-1797503400-1797505200@willowcreekchamber.com
SUMMARY:Storytime
DESCRIPTION:
URL:https://willowcreekchamber.com/event/storytime/2026-12-17/
LOCATION:Willow Creek Library\, 39 Mayfair St\, Willow Creek\, CA\, 95573\, United States
CATEGORIES:Community Event
ATTACH;FMTTYPE=image/jpeg:https://willowcreekchamber.com/wp-content/uploads/2025/10/558170013_1107447331562971_3069749803972989233_n.avif
END:VEVENT
BEGIN:VEVENT
DTSTART;TZID=America/Los_Angeles:20261223T170000
DTEND;TZID=America/Los_Angeles:20261223T194500
DTSTAMP:20260422T184904
CREATED:20251007T180601Z
LAST-MODIFIED:20251007T180601Z
UID:10000769-1798045200-1798055100@willowcreekchamber.com
SUMMARY:Kim Yerton Library\, Cribbage & Game Night
DESCRIPTION:Join us for a fun and friendly Cribbage & Board Game Night at the library! Whether you’re a seasoned cribbage player or just learning the game\, come enjoy an evening of strategy and good company. We provide boards and cards\, but feel free to bring your own. Not into Cribbage? No problem! We have a variety of board games for all ages\, so bring the whole family and find a game to enjoy together. \nFrom classics like Checkers and Clue to trivia challenges and more\, there’s something for everyone. \nAll ages are welcome – come by to play\, relax\, and make new friends. \nEvery Wednesday evening starting at 5 p.m.
URL:https://willowcreekchamber.com/event/kim-yerton-library-cribbage-game-night/2026-12-23/
LOCATION:Kim Yerton Memorial Library\, 370 Loop Rd\, Hoopa\, United States
CATEGORIES:Community Event
ATTACH;FMTTYPE=image/jpeg:https://willowcreekchamber.com/wp-content/uploads/2025/10/KimYertonLibrary-Games.avif
END:VEVENT
BEGIN:VEVENT
DTSTART;TZID=America/Los_Angeles:20261224T103000
DTEND;TZID=America/Los_Angeles:20261224T110000
DTSTAMP:20260422T184904
CREATED:20251007T185121Z
LAST-MODIFIED:20251007T185121Z
UID:10001816-1798108200-1798110000@willowcreekchamber.com
SUMMARY:Storytime
DESCRIPTION:
URL:https://willowcreekchamber.com/event/storytime/2026-12-24/
LOCATION:Willow Creek Library\, 39 Mayfair St\, Willow Creek\, CA\, 95573\, United States
CATEGORIES:Community Event
ATTACH;FMTTYPE=image/jpeg:https://willowcreekchamber.com/wp-content/uploads/2025/10/558170013_1107447331562971_3069749803972989233_n.avif
END:VEVENT
BEGIN:VEVENT
DTSTART;TZID=America/Los_Angeles:20261230T170000
DTEND;TZID=America/Los_Angeles:20261230T194500
DTSTAMP:20260422T184904
CREATED:20251007T180601Z
LAST-MODIFIED:20251007T180601Z
UID:10000770-1798650000-1798659900@willowcreekchamber.com
SUMMARY:Kim Yerton Library\, Cribbage & Game Night
DESCRIPTION:Join us for a fun and friendly Cribbage & Board Game Night at the library! Whether you’re a seasoned cribbage player or just learning the game\, come enjoy an evening of strategy and good company. We provide boards and cards\, but feel free to bring your own. Not into Cribbage? No problem! We have a variety of board games for all ages\, so bring the whole family and find a game to enjoy together. \nFrom classics like Checkers and Clue to trivia challenges and more\, there’s something for everyone. \nAll ages are welcome – come by to play\, relax\, and make new friends. \nEvery Wednesday evening starting at 5 p.m.
URL:https://willowcreekchamber.com/event/kim-yerton-library-cribbage-game-night/2026-12-30/
LOCATION:Kim Yerton Memorial Library\, 370 Loop Rd\, Hoopa\, United States
CATEGORIES:Community Event
ATTACH;FMTTYPE=image/jpeg:https://willowcreekchamber.com/wp-content/uploads/2025/10/KimYertonLibrary-Games.avif
END:VEVENT
BEGIN:VEVENT
DTSTART;TZID=America/Los_Angeles:20261231T103000
DTEND;TZID=America/Los_Angeles:20261231T110000
DTSTAMP:20260422T184904
CREATED:20251007T185121Z
LAST-MODIFIED:20251007T185121Z
UID:10001817-1798713000-1798714800@willowcreekchamber.com
SUMMARY:Storytime
DESCRIPTION:
URL:https://willowcreekchamber.com/event/storytime/2026-12-31/
LOCATION:Willow Creek Library\, 39 Mayfair St\, Willow Creek\, CA\, 95573\, United States
CATEGORIES:Community Event
ATTACH;FMTTYPE=image/jpeg:https://willowcreekchamber.com/wp-content/uploads/2025/10/558170013_1107447331562971_3069749803972989233_n.avif
END:VEVENT
BEGIN:VEVENT
DTSTART;TZID=America/Los_Angeles:20270106T170000
DTEND;TZID=America/Los_Angeles:20270106T194500
DTSTAMP:20260422T184904
CREATED:20251007T180601Z
LAST-MODIFIED:20251007T180601Z
UID:10000771-1799254800-1799264700@willowcreekchamber.com
SUMMARY:Kim Yerton Library\, Cribbage & Game Night
DESCRIPTION:Join us for a fun and friendly Cribbage & Board Game Night at the library! Whether you’re a seasoned cribbage player or just learning the game\, come enjoy an evening of strategy and good company. We provide boards and cards\, but feel free to bring your own. Not into Cribbage? No problem! We have a variety of board games for all ages\, so bring the whole family and find a game to enjoy together. \nFrom classics like Checkers and Clue to trivia challenges and more\, there’s something for everyone. \nAll ages are welcome – come by to play\, relax\, and make new friends. \nEvery Wednesday evening starting at 5 p.m.
URL:https://willowcreekchamber.com/event/kim-yerton-library-cribbage-game-night/2027-01-06/
LOCATION:Kim Yerton Memorial Library\, 370 Loop Rd\, Hoopa\, United States
CATEGORIES:Community Event
ATTACH;FMTTYPE=image/jpeg:https://willowcreekchamber.com/wp-content/uploads/2025/10/KimYertonLibrary-Games.avif
END:VEVENT
BEGIN:VEVENT
DTSTART;TZID=America/Los_Angeles:20270107T103000
DTEND;TZID=America/Los_Angeles:20270107T110000
DTSTAMP:20260422T184904
CREATED:20251007T185121Z
LAST-MODIFIED:20251007T185121Z
UID:10001818-1799317800-1799319600@willowcreekchamber.com
SUMMARY:Storytime
DESCRIPTION:
URL:https://willowcreekchamber.com/event/storytime/2027-01-07/
LOCATION:Willow Creek Library\, 39 Mayfair St\, Willow Creek\, CA\, 95573\, United States
CATEGORIES:Community Event
ATTACH;FMTTYPE=image/jpeg:https://willowcreekchamber.com/wp-content/uploads/2025/10/558170013_1107447331562971_3069749803972989233_n.avif
END:VEVENT
BEGIN:VEVENT
DTSTART;TZID=America/Los_Angeles:20270113T170000
DTEND;TZID=America/Los_Angeles:20270113T194500
DTSTAMP:20260422T184904
CREATED:20251007T180601Z
LAST-MODIFIED:20251007T180601Z
UID:10000772-1799859600-1799869500@willowcreekchamber.com
SUMMARY:Kim Yerton Library\, Cribbage & Game Night
DESCRIPTION:Join us for a fun and friendly Cribbage & Board Game Night at the library! Whether you’re a seasoned cribbage player or just learning the game\, come enjoy an evening of strategy and good company. We provide boards and cards\, but feel free to bring your own. Not into Cribbage? No problem! We have a variety of board games for all ages\, so bring the whole family and find a game to enjoy together. \nFrom classics like Checkers and Clue to trivia challenges and more\, there’s something for everyone. \nAll ages are welcome – come by to play\, relax\, and make new friends. \nEvery Wednesday evening starting at 5 p.m.
URL:https://willowcreekchamber.com/event/kim-yerton-library-cribbage-game-night/2027-01-13/
LOCATION:Kim Yerton Memorial Library\, 370 Loop Rd\, Hoopa\, United States
CATEGORIES:Community Event
ATTACH;FMTTYPE=image/jpeg:https://willowcreekchamber.com/wp-content/uploads/2025/10/KimYertonLibrary-Games.avif
END:VEVENT
BEGIN:VEVENT
DTSTART;TZID=America/Los_Angeles:20270114T103000
DTEND;TZID=America/Los_Angeles:20270114T110000
DTSTAMP:20260422T184904
CREATED:20251007T185121Z
LAST-MODIFIED:20251007T185121Z
UID:10001819-1799922600-1799924400@willowcreekchamber.com
SUMMARY:Storytime
DESCRIPTION:
URL:https://willowcreekchamber.com/event/storytime/2027-01-14/
LOCATION:Willow Creek Library\, 39 Mayfair St\, Willow Creek\, CA\, 95573\, United States
CATEGORIES:Community Event
ATTACH;FMTTYPE=image/jpeg:https://willowcreekchamber.com/wp-content/uploads/2025/10/558170013_1107447331562971_3069749803972989233_n.avif
END:VEVENT
BEGIN:VEVENT
DTSTART;TZID=America/Los_Angeles:20270120T170000
DTEND;TZID=America/Los_Angeles:20270120T194500
DTSTAMP:20260422T184904
CREATED:20251007T180601Z
LAST-MODIFIED:20251007T180601Z
UID:10000773-1800464400-1800474300@willowcreekchamber.com
SUMMARY:Kim Yerton Library\, Cribbage & Game Night
DESCRIPTION:Join us for a fun and friendly Cribbage & Board Game Night at the library! Whether you’re a seasoned cribbage player or just learning the game\, come enjoy an evening of strategy and good company. We provide boards and cards\, but feel free to bring your own. Not into Cribbage? No problem! We have a variety of board games for all ages\, so bring the whole family and find a game to enjoy together. \nFrom classics like Checkers and Clue to trivia challenges and more\, there’s something for everyone. \nAll ages are welcome – come by to play\, relax\, and make new friends. \nEvery Wednesday evening starting at 5 p.m.
URL:https://willowcreekchamber.com/event/kim-yerton-library-cribbage-game-night/2027-01-20/
LOCATION:Kim Yerton Memorial Library\, 370 Loop Rd\, Hoopa\, United States
CATEGORIES:Community Event
ATTACH;FMTTYPE=image/jpeg:https://willowcreekchamber.com/wp-content/uploads/2025/10/KimYertonLibrary-Games.avif
END:VEVENT
BEGIN:VEVENT
DTSTART;TZID=America/Los_Angeles:20270121T103000
DTEND;TZID=America/Los_Angeles:20270121T110000
DTSTAMP:20260422T184904
CREATED:20251007T185121Z
LAST-MODIFIED:20251007T185121Z
UID:10001820-1800527400-1800529200@willowcreekchamber.com
SUMMARY:Storytime
DESCRIPTION:
URL:https://willowcreekchamber.com/event/storytime/2027-01-21/
LOCATION:Willow Creek Library\, 39 Mayfair St\, Willow Creek\, CA\, 95573\, United States
CATEGORIES:Community Event
ATTACH;FMTTYPE=image/jpeg:https://willowcreekchamber.com/wp-content/uploads/2025/10/558170013_1107447331562971_3069749803972989233_n.avif
END:VEVENT
BEGIN:VEVENT
DTSTART;TZID=America/Los_Angeles:20270127T170000
DTEND;TZID=America/Los_Angeles:20270127T194500
DTSTAMP:20260422T184904
CREATED:20251007T180601Z
LAST-MODIFIED:20251007T180601Z
UID:10000774-1801069200-1801079100@willowcreekchamber.com
SUMMARY:Kim Yerton Library\, Cribbage & Game Night
DESCRIPTION:Join us for a fun and friendly Cribbage & Board Game Night at the library! Whether you’re a seasoned cribbage player or just learning the game\, come enjoy an evening of strategy and good company. We provide boards and cards\, but feel free to bring your own. Not into Cribbage? No problem! We have a variety of board games for all ages\, so bring the whole family and find a game to enjoy together. \nFrom classics like Checkers and Clue to trivia challenges and more\, there’s something for everyone. \nAll ages are welcome – come by to play\, relax\, and make new friends. \nEvery Wednesday evening starting at 5 p.m.
URL:https://willowcreekchamber.com/event/kim-yerton-library-cribbage-game-night/2027-01-27/
LOCATION:Kim Yerton Memorial Library\, 370 Loop Rd\, Hoopa\, United States
CATEGORIES:Community Event
ATTACH;FMTTYPE=image/jpeg:https://willowcreekchamber.com/wp-content/uploads/2025/10/KimYertonLibrary-Games.avif
END:VEVENT
BEGIN:VEVENT
DTSTART;TZID=America/Los_Angeles:20270128T103000
DTEND;TZID=America/Los_Angeles:20270128T110000
DTSTAMP:20260422T184904
CREATED:20251007T185121Z
LAST-MODIFIED:20251007T185121Z
UID:10001821-1801132200-1801134000@willowcreekchamber.com
SUMMARY:Storytime
DESCRIPTION:
URL:https://willowcreekchamber.com/event/storytime/2027-01-28/
LOCATION:Willow Creek Library\, 39 Mayfair St\, Willow Creek\, CA\, 95573\, United States
CATEGORIES:Community Event
ATTACH;FMTTYPE=image/jpeg:https://willowcreekchamber.com/wp-content/uploads/2025/10/558170013_1107447331562971_3069749803972989233_n.avif
END:VEVENT
BEGIN:VEVENT
DTSTART;TZID=America/Los_Angeles:20270203T170000
DTEND;TZID=America/Los_Angeles:20270203T194500
DTSTAMP:20260422T184904
CREATED:20251007T180601Z
LAST-MODIFIED:20251007T180601Z
UID:10000775-1801674000-1801683900@willowcreekchamber.com
SUMMARY:Kim Yerton Library\, Cribbage & Game Night
DESCRIPTION:Join us for a fun and friendly Cribbage & Board Game Night at the library! Whether you’re a seasoned cribbage player or just learning the game\, come enjoy an evening of strategy and good company. We provide boards and cards\, but feel free to bring your own. Not into Cribbage? No problem! We have a variety of board games for all ages\, so bring the whole family and find a game to enjoy together. \nFrom classics like Checkers and Clue to trivia challenges and more\, there’s something for everyone. \nAll ages are welcome – come by to play\, relax\, and make new friends. \nEvery Wednesday evening starting at 5 p.m.
URL:https://willowcreekchamber.com/event/kim-yerton-library-cribbage-game-night/2027-02-03/
LOCATION:Kim Yerton Memorial Library\, 370 Loop Rd\, Hoopa\, United States
CATEGORIES:Community Event
ATTACH;FMTTYPE=image/jpeg:https://willowcreekchamber.com/wp-content/uploads/2025/10/KimYertonLibrary-Games.avif
END:VEVENT
BEGIN:VEVENT
DTSTART;TZID=America/Los_Angeles:20270204T103000
DTEND;TZID=America/Los_Angeles:20270204T110000
DTSTAMP:20260422T184904
CREATED:20251007T185121Z
LAST-MODIFIED:20251007T185121Z
UID:10001822-1801737000-1801738800@willowcreekchamber.com
SUMMARY:Storytime
DESCRIPTION:
URL:https://willowcreekchamber.com/event/storytime/2027-02-04/
LOCATION:Willow Creek Library\, 39 Mayfair St\, Willow Creek\, CA\, 95573\, United States
CATEGORIES:Community Event
ATTACH;FMTTYPE=image/jpeg:https://willowcreekchamber.com/wp-content/uploads/2025/10/558170013_1107447331562971_3069749803972989233_n.avif
END:VEVENT
BEGIN:VEVENT
DTSTART;TZID=America/Los_Angeles:20270210T170000
DTEND;TZID=America/Los_Angeles:20270210T194500
DTSTAMP:20260422T184904
CREATED:20251007T180601Z
LAST-MODIFIED:20251007T180601Z
UID:10000776-1802278800-1802288700@willowcreekchamber.com
SUMMARY:Kim Yerton Library\, Cribbage & Game Night
DESCRIPTION:Join us for a fun and friendly Cribbage & Board Game Night at the library! Whether you’re a seasoned cribbage player or just learning the game\, come enjoy an evening of strategy and good company. We provide boards and cards\, but feel free to bring your own. Not into Cribbage? No problem! We have a variety of board games for all ages\, so bring the whole family and find a game to enjoy together. \nFrom classics like Checkers and Clue to trivia challenges and more\, there’s something for everyone. \nAll ages are welcome – come by to play\, relax\, and make new friends. \nEvery Wednesday evening starting at 5 p.m.
URL:https://willowcreekchamber.com/event/kim-yerton-library-cribbage-game-night/2027-02-10/
LOCATION:Kim Yerton Memorial Library\, 370 Loop Rd\, Hoopa\, United States
CATEGORIES:Community Event
ATTACH;FMTTYPE=image/jpeg:https://willowcreekchamber.com/wp-content/uploads/2025/10/KimYertonLibrary-Games.avif
END:VEVENT
BEGIN:VEVENT
DTSTART;TZID=America/Los_Angeles:20270211T103000
DTEND;TZID=America/Los_Angeles:20270211T110000
DTSTAMP:20260422T184904
CREATED:20251007T185121Z
LAST-MODIFIED:20251007T185121Z
UID:10001823-1802341800-1802343600@willowcreekchamber.com
SUMMARY:Storytime
DESCRIPTION:
URL:https://willowcreekchamber.com/event/storytime/2027-02-11/
LOCATION:Willow Creek Library\, 39 Mayfair St\, Willow Creek\, CA\, 95573\, United States
CATEGORIES:Community Event
ATTACH;FMTTYPE=image/jpeg:https://willowcreekchamber.com/wp-content/uploads/2025/10/558170013_1107447331562971_3069749803972989233_n.avif
END:VEVENT
BEGIN:VEVENT
DTSTART;TZID=America/Los_Angeles:20270217T170000
DTEND;TZID=America/Los_Angeles:20270217T194500
DTSTAMP:20260422T184904
CREATED:20251007T180601Z
LAST-MODIFIED:20251007T180601Z
UID:10000777-1802883600-1802893500@willowcreekchamber.com
SUMMARY:Kim Yerton Library\, Cribbage & Game Night
DESCRIPTION:Join us for a fun and friendly Cribbage & Board Game Night at the library! Whether you’re a seasoned cribbage player or just learning the game\, come enjoy an evening of strategy and good company. We provide boards and cards\, but feel free to bring your own. Not into Cribbage? No problem! We have a variety of board games for all ages\, so bring the whole family and find a game to enjoy together. \nFrom classics like Checkers and Clue to trivia challenges and more\, there’s something for everyone. \nAll ages are welcome – come by to play\, relax\, and make new friends. \nEvery Wednesday evening starting at 5 p.m.
URL:https://willowcreekchamber.com/event/kim-yerton-library-cribbage-game-night/2027-02-17/
LOCATION:Kim Yerton Memorial Library\, 370 Loop Rd\, Hoopa\, United States
CATEGORIES:Community Event
ATTACH;FMTTYPE=image/jpeg:https://willowcreekchamber.com/wp-content/uploads/2025/10/KimYertonLibrary-Games.avif
END:VEVENT
BEGIN:VEVENT
DTSTART;TZID=America/Los_Angeles:20270218T103000
DTEND;TZID=America/Los_Angeles:20270218T110000
DTSTAMP:20260422T184904
CREATED:20251007T185121Z
LAST-MODIFIED:20251007T185121Z
UID:10001824-1802946600-1802948400@willowcreekchamber.com
SUMMARY:Storytime
DESCRIPTION:
URL:https://willowcreekchamber.com/event/storytime/2027-02-18/
LOCATION:Willow Creek Library\, 39 Mayfair St\, Willow Creek\, CA\, 95573\, United States
CATEGORIES:Community Event
ATTACH;FMTTYPE=image/jpeg:https://willowcreekchamber.com/wp-content/uploads/2025/10/558170013_1107447331562971_3069749803972989233_n.avif
END:VEVENT
BEGIN:VEVENT
DTSTART;TZID=America/Los_Angeles:20270224T170000
DTEND;TZID=America/Los_Angeles:20270224T194500
DTSTAMP:20260422T184904
CREATED:20251007T180601Z
LAST-MODIFIED:20251007T180601Z
UID:10000778-1803488400-1803498300@willowcreekchamber.com
SUMMARY:Kim Yerton Library\, Cribbage & Game Night
DESCRIPTION:Join us for a fun and friendly Cribbage & Board Game Night at the library! Whether you’re a seasoned cribbage player or just learning the game\, come enjoy an evening of strategy and good company. We provide boards and cards\, but feel free to bring your own. Not into Cribbage? No problem! We have a variety of board games for all ages\, so bring the whole family and find a game to enjoy together. \nFrom classics like Checkers and Clue to trivia challenges and more\, there’s something for everyone. \nAll ages are welcome – come by to play\, relax\, and make new friends. \nEvery Wednesday evening starting at 5 p.m.
URL:https://willowcreekchamber.com/event/kim-yerton-library-cribbage-game-night/2027-02-24/
LOCATION:Kim Yerton Memorial Library\, 370 Loop Rd\, Hoopa\, United States
CATEGORIES:Community Event
ATTACH;FMTTYPE=image/jpeg:https://willowcreekchamber.com/wp-content/uploads/2025/10/KimYertonLibrary-Games.avif
END:VEVENT
BEGIN:VEVENT
DTSTART;TZID=America/Los_Angeles:20270225T103000
DTEND;TZID=America/Los_Angeles:20270225T110000
DTSTAMP:20260422T184904
CREATED:20251007T185121Z
LAST-MODIFIED:20251007T185121Z
UID:10001825-1803551400-1803553200@willowcreekchamber.com
SUMMARY:Storytime
DESCRIPTION:
URL:https://willowcreekchamber.com/event/storytime/2027-02-25/
LOCATION:Willow Creek Library\, 39 Mayfair St\, Willow Creek\, CA\, 95573\, United States
CATEGORIES:Community Event
ATTACH;FMTTYPE=image/jpeg:https://willowcreekchamber.com/wp-content/uploads/2025/10/558170013_1107447331562971_3069749803972989233_n.avif
END:VEVENT
END:VCALENDAR