BEGIN:VCALENDAR
VERSION:2.0
PRODID:-//Willow Creek Chamber of Commerce - ECPv6.15.20//NONSGML v1.0//EN
CALSCALE:GREGORIAN
METHOD:PUBLISH
X-ORIGINAL-URL:https://willowcreekchamber.com
X-WR-CALDESC:Events for Willow Creek Chamber of Commerce
REFRESH-INTERVAL;VALUE=DURATION:PT1H
X-Robots-Tag:noindex
X-PUBLISHED-TTL:PT1H
BEGIN:VTIMEZONE
TZID:America/Los_Angeles
BEGIN:DAYLIGHT
TZOFFSETFROM:-0800
TZOFFSETTO:-0700
TZNAME:PDT
DTSTART:20250309T100000
END:DAYLIGHT
BEGIN:STANDARD
TZOFFSETFROM:-0700
TZOFFSETTO:-0800
TZNAME:PST
DTSTART:20251102T090000
END:STANDARD
BEGIN:DAYLIGHT
TZOFFSETFROM:-0800
TZOFFSETTO:-0700
TZNAME:PDT
DTSTART:20260308T100000
END:DAYLIGHT
BEGIN:STANDARD
TZOFFSETFROM:-0700
TZOFFSETTO:-0800
TZNAME:PST
DTSTART:20261101T090000
END:STANDARD
BEGIN:DAYLIGHT
TZOFFSETFROM:-0800
TZOFFSETTO:-0700
TZNAME:PDT
DTSTART:20270314T100000
END:DAYLIGHT
BEGIN:STANDARD
TZOFFSETFROM:-0700
TZOFFSETTO:-0800
TZNAME:PST
DTSTART:20271107T090000
END:STANDARD
END:VTIMEZONE
BEGIN:VEVENT
DTSTART;TZID=America/Los_Angeles:20260715T170000
DTEND;TZID=America/Los_Angeles:20260715T194500
DTSTAMP:20260421T052415
CREATED:20251007T180601Z
LAST-MODIFIED:20251007T180601Z
UID:10000746-1784134800-1784144700@willowcreekchamber.com
SUMMARY:Kim Yerton Library\, Cribbage & Game Night
DESCRIPTION:Join us for a fun and friendly Cribbage & Board Game Night at the library! Whether you’re a seasoned cribbage player or just learning the game\, come enjoy an evening of strategy and good company. We provide boards and cards\, but feel free to bring your own. Not into Cribbage? No problem! We have a variety of board games for all ages\, so bring the whole family and find a game to enjoy together. \nFrom classics like Checkers and Clue to trivia challenges and more\, there’s something for everyone. \nAll ages are welcome – come by to play\, relax\, and make new friends. \nEvery Wednesday evening starting at 5 p.m.
URL:https://willowcreekchamber.com/event/kim-yerton-library-cribbage-game-night/2026-07-15/
LOCATION:Kim Yerton Memorial Library\, 370 Loop Rd\, Hoopa\, United States
CATEGORIES:Community Event
ATTACH;FMTTYPE=image/jpeg:https://willowcreekchamber.com/wp-content/uploads/2025/10/KimYertonLibrary-Games.avif
END:VEVENT
BEGIN:VEVENT
DTSTART;TZID=America/Los_Angeles:20260716T103000
DTEND;TZID=America/Los_Angeles:20260716T110000
DTSTAMP:20260421T052415
CREATED:20251007T185121Z
LAST-MODIFIED:20251007T185121Z
UID:10001793-1784197800-1784199600@willowcreekchamber.com
SUMMARY:Storytime
DESCRIPTION:
URL:https://willowcreekchamber.com/event/storytime/2026-07-16/
LOCATION:Willow Creek Library\, 39 Mayfair St\, Willow Creek\, CA\, 95573\, United States
CATEGORIES:Community Event
ATTACH;FMTTYPE=image/jpeg:https://willowcreekchamber.com/wp-content/uploads/2025/10/558170013_1107447331562971_3069749803972989233_n.avif
END:VEVENT
BEGIN:VEVENT
DTSTART;TZID=America/Los_Angeles:20260722T170000
DTEND;TZID=America/Los_Angeles:20260722T194500
DTSTAMP:20260421T052415
CREATED:20251007T180601Z
LAST-MODIFIED:20251007T180601Z
UID:10000747-1784739600-1784749500@willowcreekchamber.com
SUMMARY:Kim Yerton Library\, Cribbage & Game Night
DESCRIPTION:Join us for a fun and friendly Cribbage & Board Game Night at the library! Whether you’re a seasoned cribbage player or just learning the game\, come enjoy an evening of strategy and good company. We provide boards and cards\, but feel free to bring your own. Not into Cribbage? No problem! We have a variety of board games for all ages\, so bring the whole family and find a game to enjoy together. \nFrom classics like Checkers and Clue to trivia challenges and more\, there’s something for everyone. \nAll ages are welcome – come by to play\, relax\, and make new friends. \nEvery Wednesday evening starting at 5 p.m.
URL:https://willowcreekchamber.com/event/kim-yerton-library-cribbage-game-night/2026-07-22/
LOCATION:Kim Yerton Memorial Library\, 370 Loop Rd\, Hoopa\, United States
CATEGORIES:Community Event
ATTACH;FMTTYPE=image/jpeg:https://willowcreekchamber.com/wp-content/uploads/2025/10/KimYertonLibrary-Games.avif
END:VEVENT
BEGIN:VEVENT
DTSTART;TZID=America/Los_Angeles:20260723T103000
DTEND;TZID=America/Los_Angeles:20260723T110000
DTSTAMP:20260421T052415
CREATED:20251007T185121Z
LAST-MODIFIED:20251007T185121Z
UID:10001794-1784802600-1784804400@willowcreekchamber.com
SUMMARY:Storytime
DESCRIPTION:
URL:https://willowcreekchamber.com/event/storytime/2026-07-23/
LOCATION:Willow Creek Library\, 39 Mayfair St\, Willow Creek\, CA\, 95573\, United States
CATEGORIES:Community Event
ATTACH;FMTTYPE=image/jpeg:https://willowcreekchamber.com/wp-content/uploads/2025/10/558170013_1107447331562971_3069749803972989233_n.avif
END:VEVENT
BEGIN:VEVENT
DTSTART;TZID=America/Los_Angeles:20260729T170000
DTEND;TZID=America/Los_Angeles:20260729T194500
DTSTAMP:20260421T052415
CREATED:20251007T180601Z
LAST-MODIFIED:20251007T180601Z
UID:10000748-1785344400-1785354300@willowcreekchamber.com
SUMMARY:Kim Yerton Library\, Cribbage & Game Night
DESCRIPTION:Join us for a fun and friendly Cribbage & Board Game Night at the library! Whether you’re a seasoned cribbage player or just learning the game\, come enjoy an evening of strategy and good company. We provide boards and cards\, but feel free to bring your own. Not into Cribbage? No problem! We have a variety of board games for all ages\, so bring the whole family and find a game to enjoy together. \nFrom classics like Checkers and Clue to trivia challenges and more\, there’s something for everyone. \nAll ages are welcome – come by to play\, relax\, and make new friends. \nEvery Wednesday evening starting at 5 p.m.
URL:https://willowcreekchamber.com/event/kim-yerton-library-cribbage-game-night/2026-07-29/
LOCATION:Kim Yerton Memorial Library\, 370 Loop Rd\, Hoopa\, United States
CATEGORIES:Community Event
ATTACH;FMTTYPE=image/jpeg:https://willowcreekchamber.com/wp-content/uploads/2025/10/KimYertonLibrary-Games.avif
END:VEVENT
BEGIN:VEVENT
DTSTART;TZID=America/Los_Angeles:20260730T103000
DTEND;TZID=America/Los_Angeles:20260730T110000
DTSTAMP:20260421T052415
CREATED:20251007T185121Z
LAST-MODIFIED:20251007T185121Z
UID:10001795-1785407400-1785409200@willowcreekchamber.com
SUMMARY:Storytime
DESCRIPTION:
URL:https://willowcreekchamber.com/event/storytime/2026-07-30/
LOCATION:Willow Creek Library\, 39 Mayfair St\, Willow Creek\, CA\, 95573\, United States
CATEGORIES:Community Event
ATTACH;FMTTYPE=image/jpeg:https://willowcreekchamber.com/wp-content/uploads/2025/10/558170013_1107447331562971_3069749803972989233_n.avif
END:VEVENT
BEGIN:VEVENT
DTSTART;TZID=America/Los_Angeles:20260805T170000
DTEND;TZID=America/Los_Angeles:20260805T194500
DTSTAMP:20260421T052415
CREATED:20251007T180601Z
LAST-MODIFIED:20251007T180601Z
UID:10000749-1785949200-1785959100@willowcreekchamber.com
SUMMARY:Kim Yerton Library\, Cribbage & Game Night
DESCRIPTION:Join us for a fun and friendly Cribbage & Board Game Night at the library! Whether you’re a seasoned cribbage player or just learning the game\, come enjoy an evening of strategy and good company. We provide boards and cards\, but feel free to bring your own. Not into Cribbage? No problem! We have a variety of board games for all ages\, so bring the whole family and find a game to enjoy together. \nFrom classics like Checkers and Clue to trivia challenges and more\, there’s something for everyone. \nAll ages are welcome – come by to play\, relax\, and make new friends. \nEvery Wednesday evening starting at 5 p.m.
URL:https://willowcreekchamber.com/event/kim-yerton-library-cribbage-game-night/2026-08-05/
LOCATION:Kim Yerton Memorial Library\, 370 Loop Rd\, Hoopa\, United States
CATEGORIES:Community Event
ATTACH;FMTTYPE=image/jpeg:https://willowcreekchamber.com/wp-content/uploads/2025/10/KimYertonLibrary-Games.avif
END:VEVENT
BEGIN:VEVENT
DTSTART;TZID=America/Los_Angeles:20260806T103000
DTEND;TZID=America/Los_Angeles:20260806T110000
DTSTAMP:20260421T052415
CREATED:20251007T185121Z
LAST-MODIFIED:20251007T185121Z
UID:10001796-1786012200-1786014000@willowcreekchamber.com
SUMMARY:Storytime
DESCRIPTION:
URL:https://willowcreekchamber.com/event/storytime/2026-08-06/
LOCATION:Willow Creek Library\, 39 Mayfair St\, Willow Creek\, CA\, 95573\, United States
CATEGORIES:Community Event
ATTACH;FMTTYPE=image/jpeg:https://willowcreekchamber.com/wp-content/uploads/2025/10/558170013_1107447331562971_3069749803972989233_n.avif
END:VEVENT
BEGIN:VEVENT
DTSTART;TZID=America/Los_Angeles:20260812T170000
DTEND;TZID=America/Los_Angeles:20260812T194500
DTSTAMP:20260421T052415
CREATED:20251007T180601Z
LAST-MODIFIED:20251007T180601Z
UID:10000750-1786554000-1786563900@willowcreekchamber.com
SUMMARY:Kim Yerton Library\, Cribbage & Game Night
DESCRIPTION:Join us for a fun and friendly Cribbage & Board Game Night at the library! Whether you’re a seasoned cribbage player or just learning the game\, come enjoy an evening of strategy and good company. We provide boards and cards\, but feel free to bring your own. Not into Cribbage? No problem! We have a variety of board games for all ages\, so bring the whole family and find a game to enjoy together. \nFrom classics like Checkers and Clue to trivia challenges and more\, there’s something for everyone. \nAll ages are welcome – come by to play\, relax\, and make new friends. \nEvery Wednesday evening starting at 5 p.m.
URL:https://willowcreekchamber.com/event/kim-yerton-library-cribbage-game-night/2026-08-12/
LOCATION:Kim Yerton Memorial Library\, 370 Loop Rd\, Hoopa\, United States
CATEGORIES:Community Event
ATTACH;FMTTYPE=image/jpeg:https://willowcreekchamber.com/wp-content/uploads/2025/10/KimYertonLibrary-Games.avif
END:VEVENT
BEGIN:VEVENT
DTSTART;TZID=America/Los_Angeles:20260813T103000
DTEND;TZID=America/Los_Angeles:20260813T110000
DTSTAMP:20260421T052415
CREATED:20251007T185121Z
LAST-MODIFIED:20251007T185121Z
UID:10001797-1786617000-1786618800@willowcreekchamber.com
SUMMARY:Storytime
DESCRIPTION:
URL:https://willowcreekchamber.com/event/storytime/2026-08-13/
LOCATION:Willow Creek Library\, 39 Mayfair St\, Willow Creek\, CA\, 95573\, United States
CATEGORIES:Community Event
ATTACH;FMTTYPE=image/jpeg:https://willowcreekchamber.com/wp-content/uploads/2025/10/558170013_1107447331562971_3069749803972989233_n.avif
END:VEVENT
BEGIN:VEVENT
DTSTART;TZID=America/Los_Angeles:20260819T170000
DTEND;TZID=America/Los_Angeles:20260819T194500
DTSTAMP:20260421T052415
CREATED:20251007T180601Z
LAST-MODIFIED:20251007T180601Z
UID:10000751-1787158800-1787168700@willowcreekchamber.com
SUMMARY:Kim Yerton Library\, Cribbage & Game Night
DESCRIPTION:Join us for a fun and friendly Cribbage & Board Game Night at the library! Whether you’re a seasoned cribbage player or just learning the game\, come enjoy an evening of strategy and good company. We provide boards and cards\, but feel free to bring your own. Not into Cribbage? No problem! We have a variety of board games for all ages\, so bring the whole family and find a game to enjoy together. \nFrom classics like Checkers and Clue to trivia challenges and more\, there’s something for everyone. \nAll ages are welcome – come by to play\, relax\, and make new friends. \nEvery Wednesday evening starting at 5 p.m.
URL:https://willowcreekchamber.com/event/kim-yerton-library-cribbage-game-night/2026-08-19/
LOCATION:Kim Yerton Memorial Library\, 370 Loop Rd\, Hoopa\, United States
CATEGORIES:Community Event
ATTACH;FMTTYPE=image/jpeg:https://willowcreekchamber.com/wp-content/uploads/2025/10/KimYertonLibrary-Games.avif
END:VEVENT
BEGIN:VEVENT
DTSTART;TZID=America/Los_Angeles:20260820T103000
DTEND;TZID=America/Los_Angeles:20260820T110000
DTSTAMP:20260421T052415
CREATED:20251007T185121Z
LAST-MODIFIED:20251007T185121Z
UID:10001798-1787221800-1787223600@willowcreekchamber.com
SUMMARY:Storytime
DESCRIPTION:
URL:https://willowcreekchamber.com/event/storytime/2026-08-20/
LOCATION:Willow Creek Library\, 39 Mayfair St\, Willow Creek\, CA\, 95573\, United States
CATEGORIES:Community Event
ATTACH;FMTTYPE=image/jpeg:https://willowcreekchamber.com/wp-content/uploads/2025/10/558170013_1107447331562971_3069749803972989233_n.avif
END:VEVENT
BEGIN:VEVENT
DTSTART;TZID=America/Los_Angeles:20260826T170000
DTEND;TZID=America/Los_Angeles:20260826T194500
DTSTAMP:20260421T052415
CREATED:20251007T180601Z
LAST-MODIFIED:20251007T180601Z
UID:10000752-1787763600-1787773500@willowcreekchamber.com
SUMMARY:Kim Yerton Library\, Cribbage & Game Night
DESCRIPTION:Join us for a fun and friendly Cribbage & Board Game Night at the library! Whether you’re a seasoned cribbage player or just learning the game\, come enjoy an evening of strategy and good company. We provide boards and cards\, but feel free to bring your own. Not into Cribbage? No problem! We have a variety of board games for all ages\, so bring the whole family and find a game to enjoy together. \nFrom classics like Checkers and Clue to trivia challenges and more\, there’s something for everyone. \nAll ages are welcome – come by to play\, relax\, and make new friends. \nEvery Wednesday evening starting at 5 p.m.
URL:https://willowcreekchamber.com/event/kim-yerton-library-cribbage-game-night/2026-08-26/
LOCATION:Kim Yerton Memorial Library\, 370 Loop Rd\, Hoopa\, United States
CATEGORIES:Community Event
ATTACH;FMTTYPE=image/jpeg:https://willowcreekchamber.com/wp-content/uploads/2025/10/KimYertonLibrary-Games.avif
END:VEVENT
BEGIN:VEVENT
DTSTART;TZID=America/Los_Angeles:20260827T103000
DTEND;TZID=America/Los_Angeles:20260827T110000
DTSTAMP:20260421T052415
CREATED:20251007T185121Z
LAST-MODIFIED:20251007T185121Z
UID:10001799-1787826600-1787828400@willowcreekchamber.com
SUMMARY:Storytime
DESCRIPTION:
URL:https://willowcreekchamber.com/event/storytime/2026-08-27/
LOCATION:Willow Creek Library\, 39 Mayfair St\, Willow Creek\, CA\, 95573\, United States
CATEGORIES:Community Event
ATTACH;FMTTYPE=image/jpeg:https://willowcreekchamber.com/wp-content/uploads/2025/10/558170013_1107447331562971_3069749803972989233_n.avif
END:VEVENT
BEGIN:VEVENT
DTSTART;TZID=America/Los_Angeles:20260902T170000
DTEND;TZID=America/Los_Angeles:20260902T194500
DTSTAMP:20260421T052415
CREATED:20251007T180601Z
LAST-MODIFIED:20251007T180601Z
UID:10000753-1788368400-1788378300@willowcreekchamber.com
SUMMARY:Kim Yerton Library\, Cribbage & Game Night
DESCRIPTION:Join us for a fun and friendly Cribbage & Board Game Night at the library! Whether you’re a seasoned cribbage player or just learning the game\, come enjoy an evening of strategy and good company. We provide boards and cards\, but feel free to bring your own. Not into Cribbage? No problem! We have a variety of board games for all ages\, so bring the whole family and find a game to enjoy together. \nFrom classics like Checkers and Clue to trivia challenges and more\, there’s something for everyone. \nAll ages are welcome – come by to play\, relax\, and make new friends. \nEvery Wednesday evening starting at 5 p.m.
URL:https://willowcreekchamber.com/event/kim-yerton-library-cribbage-game-night/2026-09-02/
LOCATION:Kim Yerton Memorial Library\, 370 Loop Rd\, Hoopa\, United States
CATEGORIES:Community Event
ATTACH;FMTTYPE=image/jpeg:https://willowcreekchamber.com/wp-content/uploads/2025/10/KimYertonLibrary-Games.avif
END:VEVENT
BEGIN:VEVENT
DTSTART;TZID=America/Los_Angeles:20260903T103000
DTEND;TZID=America/Los_Angeles:20260903T110000
DTSTAMP:20260421T052415
CREATED:20251007T185121Z
LAST-MODIFIED:20251007T185121Z
UID:10001800-1788431400-1788433200@willowcreekchamber.com
SUMMARY:Storytime
DESCRIPTION:
URL:https://willowcreekchamber.com/event/storytime/2026-09-03/
LOCATION:Willow Creek Library\, 39 Mayfair St\, Willow Creek\, CA\, 95573\, United States
CATEGORIES:Community Event
ATTACH;FMTTYPE=image/jpeg:https://willowcreekchamber.com/wp-content/uploads/2025/10/558170013_1107447331562971_3069749803972989233_n.avif
END:VEVENT
BEGIN:VEVENT
DTSTART;TZID=America/Los_Angeles:20260909T170000
DTEND;TZID=America/Los_Angeles:20260909T194500
DTSTAMP:20260421T052415
CREATED:20251007T180601Z
LAST-MODIFIED:20251007T180601Z
UID:10000754-1788973200-1788983100@willowcreekchamber.com
SUMMARY:Kim Yerton Library\, Cribbage & Game Night
DESCRIPTION:Join us for a fun and friendly Cribbage & Board Game Night at the library! Whether you’re a seasoned cribbage player or just learning the game\, come enjoy an evening of strategy and good company. We provide boards and cards\, but feel free to bring your own. Not into Cribbage? No problem! We have a variety of board games for all ages\, so bring the whole family and find a game to enjoy together. \nFrom classics like Checkers and Clue to trivia challenges and more\, there’s something for everyone. \nAll ages are welcome – come by to play\, relax\, and make new friends. \nEvery Wednesday evening starting at 5 p.m.
URL:https://willowcreekchamber.com/event/kim-yerton-library-cribbage-game-night/2026-09-09/
LOCATION:Kim Yerton Memorial Library\, 370 Loop Rd\, Hoopa\, United States
CATEGORIES:Community Event
ATTACH;FMTTYPE=image/jpeg:https://willowcreekchamber.com/wp-content/uploads/2025/10/KimYertonLibrary-Games.avif
END:VEVENT
BEGIN:VEVENT
DTSTART;TZID=America/Los_Angeles:20260910T103000
DTEND;TZID=America/Los_Angeles:20260910T110000
DTSTAMP:20260421T052415
CREATED:20251007T185121Z
LAST-MODIFIED:20251007T185121Z
UID:10001801-1789036200-1789038000@willowcreekchamber.com
SUMMARY:Storytime
DESCRIPTION:
URL:https://willowcreekchamber.com/event/storytime/2026-09-10/
LOCATION:Willow Creek Library\, 39 Mayfair St\, Willow Creek\, CA\, 95573\, United States
CATEGORIES:Community Event
ATTACH;FMTTYPE=image/jpeg:https://willowcreekchamber.com/wp-content/uploads/2025/10/558170013_1107447331562971_3069749803972989233_n.avif
END:VEVENT
BEGIN:VEVENT
DTSTART;TZID=America/Los_Angeles:20260916T170000
DTEND;TZID=America/Los_Angeles:20260916T194500
DTSTAMP:20260421T052415
CREATED:20251007T180601Z
LAST-MODIFIED:20251007T180601Z
UID:10000755-1789578000-1789587900@willowcreekchamber.com
SUMMARY:Kim Yerton Library\, Cribbage & Game Night
DESCRIPTION:Join us for a fun and friendly Cribbage & Board Game Night at the library! Whether you’re a seasoned cribbage player or just learning the game\, come enjoy an evening of strategy and good company. We provide boards and cards\, but feel free to bring your own. Not into Cribbage? No problem! We have a variety of board games for all ages\, so bring the whole family and find a game to enjoy together. \nFrom classics like Checkers and Clue to trivia challenges and more\, there’s something for everyone. \nAll ages are welcome – come by to play\, relax\, and make new friends. \nEvery Wednesday evening starting at 5 p.m.
URL:https://willowcreekchamber.com/event/kim-yerton-library-cribbage-game-night/2026-09-16/
LOCATION:Kim Yerton Memorial Library\, 370 Loop Rd\, Hoopa\, United States
CATEGORIES:Community Event
ATTACH;FMTTYPE=image/jpeg:https://willowcreekchamber.com/wp-content/uploads/2025/10/KimYertonLibrary-Games.avif
END:VEVENT
BEGIN:VEVENT
DTSTART;TZID=America/Los_Angeles:20260917T103000
DTEND;TZID=America/Los_Angeles:20260917T110000
DTSTAMP:20260421T052415
CREATED:20251007T185121Z
LAST-MODIFIED:20251007T185121Z
UID:10001802-1789641000-1789642800@willowcreekchamber.com
SUMMARY:Storytime
DESCRIPTION:
URL:https://willowcreekchamber.com/event/storytime/2026-09-17/
LOCATION:Willow Creek Library\, 39 Mayfair St\, Willow Creek\, CA\, 95573\, United States
CATEGORIES:Community Event
ATTACH;FMTTYPE=image/jpeg:https://willowcreekchamber.com/wp-content/uploads/2025/10/558170013_1107447331562971_3069749803972989233_n.avif
END:VEVENT
BEGIN:VEVENT
DTSTART;TZID=America/Los_Angeles:20260923T170000
DTEND;TZID=America/Los_Angeles:20260923T194500
DTSTAMP:20260421T052415
CREATED:20251007T180601Z
LAST-MODIFIED:20251007T180601Z
UID:10000756-1790182800-1790192700@willowcreekchamber.com
SUMMARY:Kim Yerton Library\, Cribbage & Game Night
DESCRIPTION:Join us for a fun and friendly Cribbage & Board Game Night at the library! Whether you’re a seasoned cribbage player or just learning the game\, come enjoy an evening of strategy and good company. We provide boards and cards\, but feel free to bring your own. Not into Cribbage? No problem! We have a variety of board games for all ages\, so bring the whole family and find a game to enjoy together. \nFrom classics like Checkers and Clue to trivia challenges and more\, there’s something for everyone. \nAll ages are welcome – come by to play\, relax\, and make new friends. \nEvery Wednesday evening starting at 5 p.m.
URL:https://willowcreekchamber.com/event/kim-yerton-library-cribbage-game-night/2026-09-23/
LOCATION:Kim Yerton Memorial Library\, 370 Loop Rd\, Hoopa\, United States
CATEGORIES:Community Event
ATTACH;FMTTYPE=image/jpeg:https://willowcreekchamber.com/wp-content/uploads/2025/10/KimYertonLibrary-Games.avif
END:VEVENT
BEGIN:VEVENT
DTSTART;TZID=America/Los_Angeles:20260924T103000
DTEND;TZID=America/Los_Angeles:20260924T110000
DTSTAMP:20260421T052415
CREATED:20251007T185121Z
LAST-MODIFIED:20251007T185121Z
UID:10001803-1790245800-1790247600@willowcreekchamber.com
SUMMARY:Storytime
DESCRIPTION:
URL:https://willowcreekchamber.com/event/storytime/2026-09-24/
LOCATION:Willow Creek Library\, 39 Mayfair St\, Willow Creek\, CA\, 95573\, United States
CATEGORIES:Community Event
ATTACH;FMTTYPE=image/jpeg:https://willowcreekchamber.com/wp-content/uploads/2025/10/558170013_1107447331562971_3069749803972989233_n.avif
END:VEVENT
BEGIN:VEVENT
DTSTART;TZID=America/Los_Angeles:20260930T170000
DTEND;TZID=America/Los_Angeles:20260930T194500
DTSTAMP:20260421T052415
CREATED:20251007T180601Z
LAST-MODIFIED:20251007T180601Z
UID:10000757-1790787600-1790797500@willowcreekchamber.com
SUMMARY:Kim Yerton Library\, Cribbage & Game Night
DESCRIPTION:Join us for a fun and friendly Cribbage & Board Game Night at the library! Whether you’re a seasoned cribbage player or just learning the game\, come enjoy an evening of strategy and good company. We provide boards and cards\, but feel free to bring your own. Not into Cribbage? No problem! We have a variety of board games for all ages\, so bring the whole family and find a game to enjoy together. \nFrom classics like Checkers and Clue to trivia challenges and more\, there’s something for everyone. \nAll ages are welcome – come by to play\, relax\, and make new friends. \nEvery Wednesday evening starting at 5 p.m.
URL:https://willowcreekchamber.com/event/kim-yerton-library-cribbage-game-night/2026-09-30/
LOCATION:Kim Yerton Memorial Library\, 370 Loop Rd\, Hoopa\, United States
CATEGORIES:Community Event
ATTACH;FMTTYPE=image/jpeg:https://willowcreekchamber.com/wp-content/uploads/2025/10/KimYertonLibrary-Games.avif
END:VEVENT
BEGIN:VEVENT
DTSTART;TZID=America/Los_Angeles:20261001T103000
DTEND;TZID=America/Los_Angeles:20261001T110000
DTSTAMP:20260421T052415
CREATED:20251007T185121Z
LAST-MODIFIED:20251007T185121Z
UID:10001804-1790850600-1790852400@willowcreekchamber.com
SUMMARY:Storytime
DESCRIPTION:
URL:https://willowcreekchamber.com/event/storytime/2026-10-01/
LOCATION:Willow Creek Library\, 39 Mayfair St\, Willow Creek\, CA\, 95573\, United States
CATEGORIES:Community Event
ATTACH;FMTTYPE=image/jpeg:https://willowcreekchamber.com/wp-content/uploads/2025/10/558170013_1107447331562971_3069749803972989233_n.avif
END:VEVENT
BEGIN:VEVENT
DTSTART;TZID=America/Los_Angeles:20261007T170000
DTEND;TZID=America/Los_Angeles:20261007T194500
DTSTAMP:20260421T052415
CREATED:20251007T180601Z
LAST-MODIFIED:20251007T180601Z
UID:10000758-1791392400-1791402300@willowcreekchamber.com
SUMMARY:Kim Yerton Library\, Cribbage & Game Night
DESCRIPTION:Join us for a fun and friendly Cribbage & Board Game Night at the library! Whether you’re a seasoned cribbage player or just learning the game\, come enjoy an evening of strategy and good company. We provide boards and cards\, but feel free to bring your own. Not into Cribbage? No problem! We have a variety of board games for all ages\, so bring the whole family and find a game to enjoy together. \nFrom classics like Checkers and Clue to trivia challenges and more\, there’s something for everyone. \nAll ages are welcome – come by to play\, relax\, and make new friends. \nEvery Wednesday evening starting at 5 p.m.
URL:https://willowcreekchamber.com/event/kim-yerton-library-cribbage-game-night/2026-10-07/
LOCATION:Kim Yerton Memorial Library\, 370 Loop Rd\, Hoopa\, United States
CATEGORIES:Community Event
ATTACH;FMTTYPE=image/jpeg:https://willowcreekchamber.com/wp-content/uploads/2025/10/KimYertonLibrary-Games.avif
END:VEVENT
BEGIN:VEVENT
DTSTART;TZID=America/Los_Angeles:20261008T103000
DTEND;TZID=America/Los_Angeles:20261008T110000
DTSTAMP:20260421T052415
CREATED:20251007T185121Z
LAST-MODIFIED:20251007T185121Z
UID:10001805-1791455400-1791457200@willowcreekchamber.com
SUMMARY:Storytime
DESCRIPTION:
URL:https://willowcreekchamber.com/event/storytime/2026-10-08/
LOCATION:Willow Creek Library\, 39 Mayfair St\, Willow Creek\, CA\, 95573\, United States
CATEGORIES:Community Event
ATTACH;FMTTYPE=image/jpeg:https://willowcreekchamber.com/wp-content/uploads/2025/10/558170013_1107447331562971_3069749803972989233_n.avif
END:VEVENT
BEGIN:VEVENT
DTSTART;TZID=America/Los_Angeles:20261014T170000
DTEND;TZID=America/Los_Angeles:20261014T194500
DTSTAMP:20260421T052415
CREATED:20251007T180601Z
LAST-MODIFIED:20251007T180601Z
UID:10000759-1791997200-1792007100@willowcreekchamber.com
SUMMARY:Kim Yerton Library\, Cribbage & Game Night
DESCRIPTION:Join us for a fun and friendly Cribbage & Board Game Night at the library! Whether you’re a seasoned cribbage player or just learning the game\, come enjoy an evening of strategy and good company. We provide boards and cards\, but feel free to bring your own. Not into Cribbage? No problem! We have a variety of board games for all ages\, so bring the whole family and find a game to enjoy together. \nFrom classics like Checkers and Clue to trivia challenges and more\, there’s something for everyone. \nAll ages are welcome – come by to play\, relax\, and make new friends. \nEvery Wednesday evening starting at 5 p.m.
URL:https://willowcreekchamber.com/event/kim-yerton-library-cribbage-game-night/2026-10-14/
LOCATION:Kim Yerton Memorial Library\, 370 Loop Rd\, Hoopa\, United States
CATEGORIES:Community Event
ATTACH;FMTTYPE=image/jpeg:https://willowcreekchamber.com/wp-content/uploads/2025/10/KimYertonLibrary-Games.avif
END:VEVENT
BEGIN:VEVENT
DTSTART;TZID=America/Los_Angeles:20261015T103000
DTEND;TZID=America/Los_Angeles:20261015T110000
DTSTAMP:20260421T052415
CREATED:20251007T185121Z
LAST-MODIFIED:20251007T185121Z
UID:10001806-1792060200-1792062000@willowcreekchamber.com
SUMMARY:Storytime
DESCRIPTION:
URL:https://willowcreekchamber.com/event/storytime/2026-10-15/
LOCATION:Willow Creek Library\, 39 Mayfair St\, Willow Creek\, CA\, 95573\, United States
CATEGORIES:Community Event
ATTACH;FMTTYPE=image/jpeg:https://willowcreekchamber.com/wp-content/uploads/2025/10/558170013_1107447331562971_3069749803972989233_n.avif
END:VEVENT
BEGIN:VEVENT
DTSTART;TZID=America/Los_Angeles:20261021T170000
DTEND;TZID=America/Los_Angeles:20261021T194500
DTSTAMP:20260421T052415
CREATED:20251007T180601Z
LAST-MODIFIED:20251007T180601Z
UID:10000760-1792602000-1792611900@willowcreekchamber.com
SUMMARY:Kim Yerton Library\, Cribbage & Game Night
DESCRIPTION:Join us for a fun and friendly Cribbage & Board Game Night at the library! Whether you’re a seasoned cribbage player or just learning the game\, come enjoy an evening of strategy and good company. We provide boards and cards\, but feel free to bring your own. Not into Cribbage? No problem! We have a variety of board games for all ages\, so bring the whole family and find a game to enjoy together. \nFrom classics like Checkers and Clue to trivia challenges and more\, there’s something for everyone. \nAll ages are welcome – come by to play\, relax\, and make new friends. \nEvery Wednesday evening starting at 5 p.m.
URL:https://willowcreekchamber.com/event/kim-yerton-library-cribbage-game-night/2026-10-21/
LOCATION:Kim Yerton Memorial Library\, 370 Loop Rd\, Hoopa\, United States
CATEGORIES:Community Event
ATTACH;FMTTYPE=image/jpeg:https://willowcreekchamber.com/wp-content/uploads/2025/10/KimYertonLibrary-Games.avif
END:VEVENT
BEGIN:VEVENT
DTSTART;TZID=America/Los_Angeles:20261022T103000
DTEND;TZID=America/Los_Angeles:20261022T110000
DTSTAMP:20260421T052415
CREATED:20251007T185121Z
LAST-MODIFIED:20251007T185121Z
UID:10001807-1792665000-1792666800@willowcreekchamber.com
SUMMARY:Storytime
DESCRIPTION:
URL:https://willowcreekchamber.com/event/storytime/2026-10-22/
LOCATION:Willow Creek Library\, 39 Mayfair St\, Willow Creek\, CA\, 95573\, United States
CATEGORIES:Community Event
ATTACH;FMTTYPE=image/jpeg:https://willowcreekchamber.com/wp-content/uploads/2025/10/558170013_1107447331562971_3069749803972989233_n.avif
END:VEVENT
END:VCALENDAR