BEGIN:VCALENDAR
VERSION:2.0
PRODID:-//Willow Creek Chamber of Commerce - ECPv6.15.20//NONSGML v1.0//EN
CALSCALE:GREGORIAN
METHOD:PUBLISH
X-WR-CALNAME:Willow Creek Chamber of Commerce
X-ORIGINAL-URL:https://willowcreekchamber.com
X-WR-CALDESC:Events for Willow Creek Chamber of Commerce
REFRESH-INTERVAL;VALUE=DURATION:PT1H
X-Robots-Tag:noindex
X-PUBLISHED-TTL:PT1H
BEGIN:VTIMEZONE
TZID:America/Los_Angeles
BEGIN:DAYLIGHT
TZOFFSETFROM:-0800
TZOFFSETTO:-0700
TZNAME:PDT
DTSTART:20270314T100000
END:DAYLIGHT
BEGIN:STANDARD
TZOFFSETFROM:-0700
TZOFFSETTO:-0800
TZNAME:PST
DTSTART:20271107T090000
END:STANDARD
BEGIN:DAYLIGHT
TZOFFSETFROM:-0800
TZOFFSETTO:-0700
TZNAME:PDT
DTSTART:20280312T100000
END:DAYLIGHT
BEGIN:STANDARD
TZOFFSETFROM:-0700
TZOFFSETTO:-0800
TZNAME:PST
DTSTART:20281105T090000
END:STANDARD
BEGIN:DAYLIGHT
TZOFFSETFROM:-0800
TZOFFSETTO:-0700
TZNAME:PDT
DTSTART:20290311T100000
END:DAYLIGHT
BEGIN:STANDARD
TZOFFSETFROM:-0700
TZOFFSETTO:-0800
TZNAME:PST
DTSTART:20291104T090000
END:STANDARD
BEGIN:DAYLIGHT
TZOFFSETFROM:-0800
TZOFFSETTO:-0700
TZNAME:PDT
DTSTART:20300310T100000
END:DAYLIGHT
BEGIN:STANDARD
TZOFFSETFROM:-0700
TZOFFSETTO:-0800
TZNAME:PST
DTSTART:20301103T090000
END:STANDARD
END:VTIMEZONE
BEGIN:VEVENT
DTSTART;TZID=America/Los_Angeles:20280818T140000
DTEND;TZID=America/Los_Angeles:20280818T150000
DTSTAMP:20260425T160404
CREATED:20251007T183854Z
LAST-MODIFIED:20251007T183854Z
UID:10001380-1850220000-1850223600@willowcreekchamber.com
SUMMARY:Writers of Willow Creek
DESCRIPTION:A weekly meetup of local writers to create\, share\, and connect! Stop by\, get support and feedback\, and be a part of the creative process.
URL:https://willowcreekchamber.com/event/writers-of-willow-creek/2028-08-18/
LOCATION:Willow Creek Library\, 39 Mayfair St\, Willow Creek\, CA\, 95573\, United States
CATEGORIES:Community Event
ATTACH;FMTTYPE=image/jpeg:https://willowcreekchamber.com/wp-content/uploads/2025/10/558190282_1107446624896375_4439073096125864556_n.avif
END:VEVENT
BEGIN:VEVENT
DTSTART;TZID=America/Los_Angeles:20280825T140000
DTEND;TZID=America/Los_Angeles:20280825T150000
DTSTAMP:20260425T160404
CREATED:20251007T183854Z
LAST-MODIFIED:20251007T183854Z
UID:10001381-1850824800-1850828400@willowcreekchamber.com
SUMMARY:Writers of Willow Creek
DESCRIPTION:A weekly meetup of local writers to create\, share\, and connect! Stop by\, get support and feedback\, and be a part of the creative process.
URL:https://willowcreekchamber.com/event/writers-of-willow-creek/2028-08-25/
LOCATION:Willow Creek Library\, 39 Mayfair St\, Willow Creek\, CA\, 95573\, United States
CATEGORIES:Community Event
ATTACH;FMTTYPE=image/jpeg:https://willowcreekchamber.com/wp-content/uploads/2025/10/558190282_1107446624896375_4439073096125864556_n.avif
END:VEVENT
BEGIN:VEVENT
DTSTART;TZID=America/Los_Angeles:20280901T140000
DTEND;TZID=America/Los_Angeles:20280901T150000
DTSTAMP:20260425T160404
CREATED:20251007T183854Z
LAST-MODIFIED:20251007T183854Z
UID:10001382-1851429600-1851433200@willowcreekchamber.com
SUMMARY:Writers of Willow Creek
DESCRIPTION:A weekly meetup of local writers to create\, share\, and connect! Stop by\, get support and feedback\, and be a part of the creative process.
URL:https://willowcreekchamber.com/event/writers-of-willow-creek/2028-09-01/
LOCATION:Willow Creek Library\, 39 Mayfair St\, Willow Creek\, CA\, 95573\, United States
CATEGORIES:Community Event
ATTACH;FMTTYPE=image/jpeg:https://willowcreekchamber.com/wp-content/uploads/2025/10/558190282_1107446624896375_4439073096125864556_n.avif
END:VEVENT
BEGIN:VEVENT
DTSTART;TZID=America/Los_Angeles:20280908T140000
DTEND;TZID=America/Los_Angeles:20280908T150000
DTSTAMP:20260425T160404
CREATED:20251007T183854Z
LAST-MODIFIED:20251007T183854Z
UID:10001383-1852034400-1852038000@willowcreekchamber.com
SUMMARY:Writers of Willow Creek
DESCRIPTION:A weekly meetup of local writers to create\, share\, and connect! Stop by\, get support and feedback\, and be a part of the creative process.
URL:https://willowcreekchamber.com/event/writers-of-willow-creek/2028-09-08/
LOCATION:Willow Creek Library\, 39 Mayfair St\, Willow Creek\, CA\, 95573\, United States
CATEGORIES:Community Event
ATTACH;FMTTYPE=image/jpeg:https://willowcreekchamber.com/wp-content/uploads/2025/10/558190282_1107446624896375_4439073096125864556_n.avif
END:VEVENT
BEGIN:VEVENT
DTSTART;TZID=America/Los_Angeles:20280915T140000
DTEND;TZID=America/Los_Angeles:20280915T150000
DTSTAMP:20260425T160404
CREATED:20251007T183854Z
LAST-MODIFIED:20251007T183854Z
UID:10001384-1852639200-1852642800@willowcreekchamber.com
SUMMARY:Writers of Willow Creek
DESCRIPTION:A weekly meetup of local writers to create\, share\, and connect! Stop by\, get support and feedback\, and be a part of the creative process.
URL:https://willowcreekchamber.com/event/writers-of-willow-creek/2028-09-15/
LOCATION:Willow Creek Library\, 39 Mayfair St\, Willow Creek\, CA\, 95573\, United States
CATEGORIES:Community Event
ATTACH;FMTTYPE=image/jpeg:https://willowcreekchamber.com/wp-content/uploads/2025/10/558190282_1107446624896375_4439073096125864556_n.avif
END:VEVENT
BEGIN:VEVENT
DTSTART;TZID=America/Los_Angeles:20280922T140000
DTEND;TZID=America/Los_Angeles:20280922T150000
DTSTAMP:20260425T160404
CREATED:20251007T183854Z
LAST-MODIFIED:20251007T183854Z
UID:10001385-1853244000-1853247600@willowcreekchamber.com
SUMMARY:Writers of Willow Creek
DESCRIPTION:A weekly meetup of local writers to create\, share\, and connect! Stop by\, get support and feedback\, and be a part of the creative process.
URL:https://willowcreekchamber.com/event/writers-of-willow-creek/2028-09-22/
LOCATION:Willow Creek Library\, 39 Mayfair St\, Willow Creek\, CA\, 95573\, United States
CATEGORIES:Community Event
ATTACH;FMTTYPE=image/jpeg:https://willowcreekchamber.com/wp-content/uploads/2025/10/558190282_1107446624896375_4439073096125864556_n.avif
END:VEVENT
BEGIN:VEVENT
DTSTART;TZID=America/Los_Angeles:20280929T140000
DTEND;TZID=America/Los_Angeles:20280929T150000
DTSTAMP:20260425T160404
CREATED:20251007T183854Z
LAST-MODIFIED:20251007T183854Z
UID:10001386-1853848800-1853852400@willowcreekchamber.com
SUMMARY:Writers of Willow Creek
DESCRIPTION:A weekly meetup of local writers to create\, share\, and connect! Stop by\, get support and feedback\, and be a part of the creative process.
URL:https://willowcreekchamber.com/event/writers-of-willow-creek/2028-09-29/
LOCATION:Willow Creek Library\, 39 Mayfair St\, Willow Creek\, CA\, 95573\, United States
CATEGORIES:Community Event
ATTACH;FMTTYPE=image/jpeg:https://willowcreekchamber.com/wp-content/uploads/2025/10/558190282_1107446624896375_4439073096125864556_n.avif
END:VEVENT
BEGIN:VEVENT
DTSTART;TZID=America/Los_Angeles:20281006T140000
DTEND;TZID=America/Los_Angeles:20281006T150000
DTSTAMP:20260425T160404
CREATED:20251007T183854Z
LAST-MODIFIED:20251007T183854Z
UID:10001387-1854453600-1854457200@willowcreekchamber.com
SUMMARY:Writers of Willow Creek
DESCRIPTION:A weekly meetup of local writers to create\, share\, and connect! Stop by\, get support and feedback\, and be a part of the creative process.
URL:https://willowcreekchamber.com/event/writers-of-willow-creek/2028-10-06/
LOCATION:Willow Creek Library\, 39 Mayfair St\, Willow Creek\, CA\, 95573\, United States
CATEGORIES:Community Event
ATTACH;FMTTYPE=image/jpeg:https://willowcreekchamber.com/wp-content/uploads/2025/10/558190282_1107446624896375_4439073096125864556_n.avif
END:VEVENT
BEGIN:VEVENT
DTSTART;TZID=America/Los_Angeles:20281013T140000
DTEND;TZID=America/Los_Angeles:20281013T150000
DTSTAMP:20260425T160404
CREATED:20251007T183854Z
LAST-MODIFIED:20251007T183854Z
UID:10001388-1855058400-1855062000@willowcreekchamber.com
SUMMARY:Writers of Willow Creek
DESCRIPTION:A weekly meetup of local writers to create\, share\, and connect! Stop by\, get support and feedback\, and be a part of the creative process.
URL:https://willowcreekchamber.com/event/writers-of-willow-creek/2028-10-13/
LOCATION:Willow Creek Library\, 39 Mayfair St\, Willow Creek\, CA\, 95573\, United States
CATEGORIES:Community Event
ATTACH;FMTTYPE=image/jpeg:https://willowcreekchamber.com/wp-content/uploads/2025/10/558190282_1107446624896375_4439073096125864556_n.avif
END:VEVENT
BEGIN:VEVENT
DTSTART;TZID=America/Los_Angeles:20281020T140000
DTEND;TZID=America/Los_Angeles:20281020T150000
DTSTAMP:20260425T160404
CREATED:20251007T183854Z
LAST-MODIFIED:20251007T183854Z
UID:10001389-1855663200-1855666800@willowcreekchamber.com
SUMMARY:Writers of Willow Creek
DESCRIPTION:A weekly meetup of local writers to create\, share\, and connect! Stop by\, get support and feedback\, and be a part of the creative process.
URL:https://willowcreekchamber.com/event/writers-of-willow-creek/2028-10-20/
LOCATION:Willow Creek Library\, 39 Mayfair St\, Willow Creek\, CA\, 95573\, United States
CATEGORIES:Community Event
ATTACH;FMTTYPE=image/jpeg:https://willowcreekchamber.com/wp-content/uploads/2025/10/558190282_1107446624896375_4439073096125864556_n.avif
END:VEVENT
BEGIN:VEVENT
DTSTART;TZID=America/Los_Angeles:20281027T140000
DTEND;TZID=America/Los_Angeles:20281027T150000
DTSTAMP:20260425T160404
CREATED:20251007T183854Z
LAST-MODIFIED:20251007T183854Z
UID:10001390-1856268000-1856271600@willowcreekchamber.com
SUMMARY:Writers of Willow Creek
DESCRIPTION:A weekly meetup of local writers to create\, share\, and connect! Stop by\, get support and feedback\, and be a part of the creative process.
URL:https://willowcreekchamber.com/event/writers-of-willow-creek/2028-10-27/
LOCATION:Willow Creek Library\, 39 Mayfair St\, Willow Creek\, CA\, 95573\, United States
CATEGORIES:Community Event
ATTACH;FMTTYPE=image/jpeg:https://willowcreekchamber.com/wp-content/uploads/2025/10/558190282_1107446624896375_4439073096125864556_n.avif
END:VEVENT
BEGIN:VEVENT
DTSTART;TZID=America/Los_Angeles:20281103T140000
DTEND;TZID=America/Los_Angeles:20281103T150000
DTSTAMP:20260425T160404
CREATED:20251007T183854Z
LAST-MODIFIED:20251007T183854Z
UID:10001391-1856872800-1856876400@willowcreekchamber.com
SUMMARY:Writers of Willow Creek
DESCRIPTION:A weekly meetup of local writers to create\, share\, and connect! Stop by\, get support and feedback\, and be a part of the creative process.
URL:https://willowcreekchamber.com/event/writers-of-willow-creek/2028-11-03/
LOCATION:Willow Creek Library\, 39 Mayfair St\, Willow Creek\, CA\, 95573\, United States
CATEGORIES:Community Event
ATTACH;FMTTYPE=image/jpeg:https://willowcreekchamber.com/wp-content/uploads/2025/10/558190282_1107446624896375_4439073096125864556_n.avif
END:VEVENT
BEGIN:VEVENT
DTSTART;TZID=America/Los_Angeles:20281110T140000
DTEND;TZID=America/Los_Angeles:20281110T150000
DTSTAMP:20260425T160404
CREATED:20251007T183854Z
LAST-MODIFIED:20251007T183854Z
UID:10001392-1857477600-1857481200@willowcreekchamber.com
SUMMARY:Writers of Willow Creek
DESCRIPTION:A weekly meetup of local writers to create\, share\, and connect! Stop by\, get support and feedback\, and be a part of the creative process.
URL:https://willowcreekchamber.com/event/writers-of-willow-creek/2028-11-10/
LOCATION:Willow Creek Library\, 39 Mayfair St\, Willow Creek\, CA\, 95573\, United States
CATEGORIES:Community Event
ATTACH;FMTTYPE=image/jpeg:https://willowcreekchamber.com/wp-content/uploads/2025/10/558190282_1107446624896375_4439073096125864556_n.avif
END:VEVENT
BEGIN:VEVENT
DTSTART;TZID=America/Los_Angeles:20281117T140000
DTEND;TZID=America/Los_Angeles:20281117T150000
DTSTAMP:20260425T160404
CREATED:20251007T183854Z
LAST-MODIFIED:20251007T183854Z
UID:10001393-1858082400-1858086000@willowcreekchamber.com
SUMMARY:Writers of Willow Creek
DESCRIPTION:A weekly meetup of local writers to create\, share\, and connect! Stop by\, get support and feedback\, and be a part of the creative process.
URL:https://willowcreekchamber.com/event/writers-of-willow-creek/2028-11-17/
LOCATION:Willow Creek Library\, 39 Mayfair St\, Willow Creek\, CA\, 95573\, United States
CATEGORIES:Community Event
ATTACH;FMTTYPE=image/jpeg:https://willowcreekchamber.com/wp-content/uploads/2025/10/558190282_1107446624896375_4439073096125864556_n.avif
END:VEVENT
BEGIN:VEVENT
DTSTART;TZID=America/Los_Angeles:20281124T140000
DTEND;TZID=America/Los_Angeles:20281124T150000
DTSTAMP:20260425T160404
CREATED:20251007T183854Z
LAST-MODIFIED:20251007T183854Z
UID:10001394-1858687200-1858690800@willowcreekchamber.com
SUMMARY:Writers of Willow Creek
DESCRIPTION:A weekly meetup of local writers to create\, share\, and connect! Stop by\, get support and feedback\, and be a part of the creative process.
URL:https://willowcreekchamber.com/event/writers-of-willow-creek/2028-11-24/
LOCATION:Willow Creek Library\, 39 Mayfair St\, Willow Creek\, CA\, 95573\, United States
CATEGORIES:Community Event
ATTACH;FMTTYPE=image/jpeg:https://willowcreekchamber.com/wp-content/uploads/2025/10/558190282_1107446624896375_4439073096125864556_n.avif
END:VEVENT
BEGIN:VEVENT
DTSTART;TZID=America/Los_Angeles:20281201T140000
DTEND;TZID=America/Los_Angeles:20281201T150000
DTSTAMP:20260425T160404
CREATED:20251007T183854Z
LAST-MODIFIED:20251007T183854Z
UID:10001395-1859292000-1859295600@willowcreekchamber.com
SUMMARY:Writers of Willow Creek
DESCRIPTION:A weekly meetup of local writers to create\, share\, and connect! Stop by\, get support and feedback\, and be a part of the creative process.
URL:https://willowcreekchamber.com/event/writers-of-willow-creek/2028-12-01/
LOCATION:Willow Creek Library\, 39 Mayfair St\, Willow Creek\, CA\, 95573\, United States
CATEGORIES:Community Event
ATTACH;FMTTYPE=image/jpeg:https://willowcreekchamber.com/wp-content/uploads/2025/10/558190282_1107446624896375_4439073096125864556_n.avif
END:VEVENT
BEGIN:VEVENT
DTSTART;TZID=America/Los_Angeles:20281208T140000
DTEND;TZID=America/Los_Angeles:20281208T150000
DTSTAMP:20260425T160404
CREATED:20251007T183854Z
LAST-MODIFIED:20251007T183854Z
UID:10001396-1859896800-1859900400@willowcreekchamber.com
SUMMARY:Writers of Willow Creek
DESCRIPTION:A weekly meetup of local writers to create\, share\, and connect! Stop by\, get support and feedback\, and be a part of the creative process.
URL:https://willowcreekchamber.com/event/writers-of-willow-creek/2028-12-08/
LOCATION:Willow Creek Library\, 39 Mayfair St\, Willow Creek\, CA\, 95573\, United States
CATEGORIES:Community Event
ATTACH;FMTTYPE=image/jpeg:https://willowcreekchamber.com/wp-content/uploads/2025/10/558190282_1107446624896375_4439073096125864556_n.avif
END:VEVENT
BEGIN:VEVENT
DTSTART;TZID=America/Los_Angeles:20281215T140000
DTEND;TZID=America/Los_Angeles:20281215T150000
DTSTAMP:20260425T160404
CREATED:20251007T183854Z
LAST-MODIFIED:20251007T183854Z
UID:10001397-1860501600-1860505200@willowcreekchamber.com
SUMMARY:Writers of Willow Creek
DESCRIPTION:A weekly meetup of local writers to create\, share\, and connect! Stop by\, get support and feedback\, and be a part of the creative process.
URL:https://willowcreekchamber.com/event/writers-of-willow-creek/2028-12-15/
LOCATION:Willow Creek Library\, 39 Mayfair St\, Willow Creek\, CA\, 95573\, United States
CATEGORIES:Community Event
ATTACH;FMTTYPE=image/jpeg:https://willowcreekchamber.com/wp-content/uploads/2025/10/558190282_1107446624896375_4439073096125864556_n.avif
END:VEVENT
BEGIN:VEVENT
DTSTART;TZID=America/Los_Angeles:20281222T140000
DTEND;TZID=America/Los_Angeles:20281222T150000
DTSTAMP:20260425T160404
CREATED:20251007T183854Z
LAST-MODIFIED:20251007T183854Z
UID:10001398-1861106400-1861110000@willowcreekchamber.com
SUMMARY:Writers of Willow Creek
DESCRIPTION:A weekly meetup of local writers to create\, share\, and connect! Stop by\, get support and feedback\, and be a part of the creative process.
URL:https://willowcreekchamber.com/event/writers-of-willow-creek/2028-12-22/
LOCATION:Willow Creek Library\, 39 Mayfair St\, Willow Creek\, CA\, 95573\, United States
CATEGORIES:Community Event
ATTACH;FMTTYPE=image/jpeg:https://willowcreekchamber.com/wp-content/uploads/2025/10/558190282_1107446624896375_4439073096125864556_n.avif
END:VEVENT
BEGIN:VEVENT
DTSTART;TZID=America/Los_Angeles:20281229T140000
DTEND;TZID=America/Los_Angeles:20281229T150000
DTSTAMP:20260425T160404
CREATED:20251007T183854Z
LAST-MODIFIED:20251007T183854Z
UID:10001399-1861711200-1861714800@willowcreekchamber.com
SUMMARY:Writers of Willow Creek
DESCRIPTION:A weekly meetup of local writers to create\, share\, and connect! Stop by\, get support and feedback\, and be a part of the creative process.
URL:https://willowcreekchamber.com/event/writers-of-willow-creek/2028-12-29/
LOCATION:Willow Creek Library\, 39 Mayfair St\, Willow Creek\, CA\, 95573\, United States
CATEGORIES:Community Event
ATTACH;FMTTYPE=image/jpeg:https://willowcreekchamber.com/wp-content/uploads/2025/10/558190282_1107446624896375_4439073096125864556_n.avif
END:VEVENT
BEGIN:VEVENT
DTSTART;TZID=America/Los_Angeles:20290105T140000
DTEND;TZID=America/Los_Angeles:20290105T150000
DTSTAMP:20260425T160404
CREATED:20251007T183854Z
LAST-MODIFIED:20251007T183854Z
UID:10001400-1862316000-1862319600@willowcreekchamber.com
SUMMARY:Writers of Willow Creek
DESCRIPTION:A weekly meetup of local writers to create\, share\, and connect! Stop by\, get support and feedback\, and be a part of the creative process.
URL:https://willowcreekchamber.com/event/writers-of-willow-creek/2029-01-05/
LOCATION:Willow Creek Library\, 39 Mayfair St\, Willow Creek\, CA\, 95573\, United States
CATEGORIES:Community Event
ATTACH;FMTTYPE=image/jpeg:https://willowcreekchamber.com/wp-content/uploads/2025/10/558190282_1107446624896375_4439073096125864556_n.avif
END:VEVENT
BEGIN:VEVENT
DTSTART;TZID=America/Los_Angeles:20290112T140000
DTEND;TZID=America/Los_Angeles:20290112T150000
DTSTAMP:20260425T160404
CREATED:20251007T183854Z
LAST-MODIFIED:20251007T183854Z
UID:10001401-1862920800-1862924400@willowcreekchamber.com
SUMMARY:Writers of Willow Creek
DESCRIPTION:A weekly meetup of local writers to create\, share\, and connect! Stop by\, get support and feedback\, and be a part of the creative process.
URL:https://willowcreekchamber.com/event/writers-of-willow-creek/2029-01-12/
LOCATION:Willow Creek Library\, 39 Mayfair St\, Willow Creek\, CA\, 95573\, United States
CATEGORIES:Community Event
ATTACH;FMTTYPE=image/jpeg:https://willowcreekchamber.com/wp-content/uploads/2025/10/558190282_1107446624896375_4439073096125864556_n.avif
END:VEVENT
BEGIN:VEVENT
DTSTART;TZID=America/Los_Angeles:20290119T140000
DTEND;TZID=America/Los_Angeles:20290119T150000
DTSTAMP:20260425T160404
CREATED:20251007T183854Z
LAST-MODIFIED:20251007T183854Z
UID:10001402-1863525600-1863529200@willowcreekchamber.com
SUMMARY:Writers of Willow Creek
DESCRIPTION:A weekly meetup of local writers to create\, share\, and connect! Stop by\, get support and feedback\, and be a part of the creative process.
URL:https://willowcreekchamber.com/event/writers-of-willow-creek/2029-01-19/
LOCATION:Willow Creek Library\, 39 Mayfair St\, Willow Creek\, CA\, 95573\, United States
CATEGORIES:Community Event
ATTACH;FMTTYPE=image/jpeg:https://willowcreekchamber.com/wp-content/uploads/2025/10/558190282_1107446624896375_4439073096125864556_n.avif
END:VEVENT
BEGIN:VEVENT
DTSTART;TZID=America/Los_Angeles:20290126T140000
DTEND;TZID=America/Los_Angeles:20290126T150000
DTSTAMP:20260425T160404
CREATED:20251007T183854Z
LAST-MODIFIED:20251007T183854Z
UID:10001403-1864130400-1864134000@willowcreekchamber.com
SUMMARY:Writers of Willow Creek
DESCRIPTION:A weekly meetup of local writers to create\, share\, and connect! Stop by\, get support and feedback\, and be a part of the creative process.
URL:https://willowcreekchamber.com/event/writers-of-willow-creek/2029-01-26/
LOCATION:Willow Creek Library\, 39 Mayfair St\, Willow Creek\, CA\, 95573\, United States
CATEGORIES:Community Event
ATTACH;FMTTYPE=image/jpeg:https://willowcreekchamber.com/wp-content/uploads/2025/10/558190282_1107446624896375_4439073096125864556_n.avif
END:VEVENT
BEGIN:VEVENT
DTSTART;TZID=America/Los_Angeles:20290202T140000
DTEND;TZID=America/Los_Angeles:20290202T150000
DTSTAMP:20260425T160404
CREATED:20251007T183854Z
LAST-MODIFIED:20251007T183854Z
UID:10001404-1864735200-1864738800@willowcreekchamber.com
SUMMARY:Writers of Willow Creek
DESCRIPTION:A weekly meetup of local writers to create\, share\, and connect! Stop by\, get support and feedback\, and be a part of the creative process.
URL:https://willowcreekchamber.com/event/writers-of-willow-creek/2029-02-02/
LOCATION:Willow Creek Library\, 39 Mayfair St\, Willow Creek\, CA\, 95573\, United States
CATEGORIES:Community Event
ATTACH;FMTTYPE=image/jpeg:https://willowcreekchamber.com/wp-content/uploads/2025/10/558190282_1107446624896375_4439073096125864556_n.avif
END:VEVENT
BEGIN:VEVENT
DTSTART;TZID=America/Los_Angeles:20290209T140000
DTEND;TZID=America/Los_Angeles:20290209T150000
DTSTAMP:20260425T160404
CREATED:20251007T183854Z
LAST-MODIFIED:20251007T183854Z
UID:10001405-1865340000-1865343600@willowcreekchamber.com
SUMMARY:Writers of Willow Creek
DESCRIPTION:A weekly meetup of local writers to create\, share\, and connect! Stop by\, get support and feedback\, and be a part of the creative process.
URL:https://willowcreekchamber.com/event/writers-of-willow-creek/2029-02-09/
LOCATION:Willow Creek Library\, 39 Mayfair St\, Willow Creek\, CA\, 95573\, United States
CATEGORIES:Community Event
ATTACH;FMTTYPE=image/jpeg:https://willowcreekchamber.com/wp-content/uploads/2025/10/558190282_1107446624896375_4439073096125864556_n.avif
END:VEVENT
BEGIN:VEVENT
DTSTART;TZID=America/Los_Angeles:20290216T140000
DTEND;TZID=America/Los_Angeles:20290216T150000
DTSTAMP:20260425T160404
CREATED:20251007T183854Z
LAST-MODIFIED:20251007T183854Z
UID:10001406-1865944800-1865948400@willowcreekchamber.com
SUMMARY:Writers of Willow Creek
DESCRIPTION:A weekly meetup of local writers to create\, share\, and connect! Stop by\, get support and feedback\, and be a part of the creative process.
URL:https://willowcreekchamber.com/event/writers-of-willow-creek/2029-02-16/
LOCATION:Willow Creek Library\, 39 Mayfair St\, Willow Creek\, CA\, 95573\, United States
CATEGORIES:Community Event
ATTACH;FMTTYPE=image/jpeg:https://willowcreekchamber.com/wp-content/uploads/2025/10/558190282_1107446624896375_4439073096125864556_n.avif
END:VEVENT
BEGIN:VEVENT
DTSTART;TZID=America/Los_Angeles:20290223T140000
DTEND;TZID=America/Los_Angeles:20290223T150000
DTSTAMP:20260425T160404
CREATED:20251007T183854Z
LAST-MODIFIED:20251007T183854Z
UID:10001407-1866549600-1866553200@willowcreekchamber.com
SUMMARY:Writers of Willow Creek
DESCRIPTION:A weekly meetup of local writers to create\, share\, and connect! Stop by\, get support and feedback\, and be a part of the creative process.
URL:https://willowcreekchamber.com/event/writers-of-willow-creek/2029-02-23/
LOCATION:Willow Creek Library\, 39 Mayfair St\, Willow Creek\, CA\, 95573\, United States
CATEGORIES:Community Event
ATTACH;FMTTYPE=image/jpeg:https://willowcreekchamber.com/wp-content/uploads/2025/10/558190282_1107446624896375_4439073096125864556_n.avif
END:VEVENT
BEGIN:VEVENT
DTSTART;TZID=America/Los_Angeles:20290302T140000
DTEND;TZID=America/Los_Angeles:20290302T150000
DTSTAMP:20260425T160404
CREATED:20251007T183854Z
LAST-MODIFIED:20251007T183854Z
UID:10001408-1867154400-1867158000@willowcreekchamber.com
SUMMARY:Writers of Willow Creek
DESCRIPTION:A weekly meetup of local writers to create\, share\, and connect! Stop by\, get support and feedback\, and be a part of the creative process.
URL:https://willowcreekchamber.com/event/writers-of-willow-creek/2029-03-02/
LOCATION:Willow Creek Library\, 39 Mayfair St\, Willow Creek\, CA\, 95573\, United States
CATEGORIES:Community Event
ATTACH;FMTTYPE=image/jpeg:https://willowcreekchamber.com/wp-content/uploads/2025/10/558190282_1107446624896375_4439073096125864556_n.avif
END:VEVENT
BEGIN:VEVENT
DTSTART;TZID=America/Los_Angeles:20290309T140000
DTEND;TZID=America/Los_Angeles:20290309T150000
DTSTAMP:20260425T160404
CREATED:20251007T183854Z
LAST-MODIFIED:20251007T183854Z
UID:10001409-1867759200-1867762800@willowcreekchamber.com
SUMMARY:Writers of Willow Creek
DESCRIPTION:A weekly meetup of local writers to create\, share\, and connect! Stop by\, get support and feedback\, and be a part of the creative process.
URL:https://willowcreekchamber.com/event/writers-of-willow-creek/2029-03-09/
LOCATION:Willow Creek Library\, 39 Mayfair St\, Willow Creek\, CA\, 95573\, United States
CATEGORIES:Community Event
ATTACH;FMTTYPE=image/jpeg:https://willowcreekchamber.com/wp-content/uploads/2025/10/558190282_1107446624896375_4439073096125864556_n.avif
END:VEVENT
END:VCALENDAR