BEGIN:VCALENDAR
VERSION:2.0
PRODID:-//Willow Creek Chamber of Commerce - ECPv6.15.20//NONSGML v1.0//EN
CALSCALE:GREGORIAN
METHOD:PUBLISH
X-ORIGINAL-URL:https://willowcreekchamber.com
X-WR-CALDESC:Events for Willow Creek Chamber of Commerce
REFRESH-INTERVAL;VALUE=DURATION:PT1H
X-Robots-Tag:noindex
X-PUBLISHED-TTL:PT1H
BEGIN:VTIMEZONE
TZID:America/Los_Angeles
BEGIN:DAYLIGHT
TZOFFSETFROM:-0800
TZOFFSETTO:-0700
TZNAME:PDT
DTSTART:20240310T100000
END:DAYLIGHT
BEGIN:STANDARD
TZOFFSETFROM:-0700
TZOFFSETTO:-0800
TZNAME:PST
DTSTART:20241103T090000
END:STANDARD
BEGIN:DAYLIGHT
TZOFFSETFROM:-0800
TZOFFSETTO:-0700
TZNAME:PDT
DTSTART:20250309T100000
END:DAYLIGHT
BEGIN:STANDARD
TZOFFSETFROM:-0700
TZOFFSETTO:-0800
TZNAME:PST
DTSTART:20251102T090000
END:STANDARD
BEGIN:DAYLIGHT
TZOFFSETFROM:-0800
TZOFFSETTO:-0700
TZNAME:PDT
DTSTART:20260308T100000
END:DAYLIGHT
BEGIN:STANDARD
TZOFFSETFROM:-0700
TZOFFSETTO:-0800
TZNAME:PST
DTSTART:20261101T090000
END:STANDARD
END:VTIMEZONE
BEGIN:VEVENT
DTSTART;TZID=America/Los_Angeles:20251010T140000
DTEND;TZID=America/Los_Angeles:20251010T150000
DTSTAMP:20260421T111741
CREATED:20251007T183854Z
LAST-MODIFIED:20251007T183854Z
UID:10001231-1760104800-1760108400@willowcreekchamber.com
SUMMARY:Writers of Willow Creek
DESCRIPTION:A weekly meetup of local writers to create\, share\, and connect! Stop by\, get support and feedback\, and be a part of the creative process.
URL:https://willowcreekchamber.com/event/writers-of-willow-creek/2025-10-10/
LOCATION:Willow Creek Library\, 39 Mayfair St\, Willow Creek\, CA\, 95573\, United States
CATEGORIES:Community Event
ATTACH;FMTTYPE=image/jpeg:https://willowcreekchamber.com/wp-content/uploads/2025/10/558190282_1107446624896375_4439073096125864556_n.avif
END:VEVENT
BEGIN:VEVENT
DTSTART;TZID=America/Los_Angeles:20251011T110000
DTEND;TZID=America/Los_Angeles:20251011T120000
DTSTAMP:20260421T111741
CREATED:20251007T183555Z
LAST-MODIFIED:20251007T183555Z
UID:10001230-1760180400-1760184000@willowcreekchamber.com
SUMMARY:Lego Club
DESCRIPTION:3rd Saturday\, Monthly
URL:https://willowcreekchamber.com/event/lego-club-3/
LOCATION:Willow Creek Library\, 39 Mayfair St\, Willow Creek\, CA\, 95573\, United States
CATEGORIES:Community Event
ATTACH;FMTTYPE=image/jpeg:https://willowcreekchamber.com/wp-content/uploads/2025/10/557627606_1107445724896465_6559316117942831897_n.avif
END:VEVENT
BEGIN:VEVENT
DTSTART;TZID=America/Los_Angeles:20251017T140000
DTEND;TZID=America/Los_Angeles:20251017T150000
DTSTAMP:20260421T111741
CREATED:20251007T183854Z
LAST-MODIFIED:20251007T183854Z
UID:10001232-1760709600-1760713200@willowcreekchamber.com
SUMMARY:Writers of Willow Creek
DESCRIPTION:A weekly meetup of local writers to create\, share\, and connect! Stop by\, get support and feedback\, and be a part of the creative process.
URL:https://willowcreekchamber.com/event/writers-of-willow-creek/2025-10-17/
LOCATION:Willow Creek Library\, 39 Mayfair St\, Willow Creek\, CA\, 95573\, United States
CATEGORIES:Community Event
ATTACH;FMTTYPE=image/jpeg:https://willowcreekchamber.com/wp-content/uploads/2025/10/558190282_1107446624896375_4439073096125864556_n.avif
END:VEVENT
BEGIN:VEVENT
DTSTART;TZID=America/Los_Angeles:20251024T140000
DTEND;TZID=America/Los_Angeles:20251024T150000
DTSTAMP:20260421T111741
CREATED:20251007T183854Z
LAST-MODIFIED:20251007T183854Z
UID:10001233-1761314400-1761318000@willowcreekchamber.com
SUMMARY:Writers of Willow Creek
DESCRIPTION:A weekly meetup of local writers to create\, share\, and connect! Stop by\, get support and feedback\, and be a part of the creative process.
URL:https://willowcreekchamber.com/event/writers-of-willow-creek/2025-10-24/
LOCATION:Willow Creek Library\, 39 Mayfair St\, Willow Creek\, CA\, 95573\, United States
CATEGORIES:Community Event
ATTACH;FMTTYPE=image/jpeg:https://willowcreekchamber.com/wp-content/uploads/2025/10/558190282_1107446624896375_4439073096125864556_n.avif
END:VEVENT
BEGIN:VEVENT
DTSTART;TZID=America/Los_Angeles:20251031T140000
DTEND;TZID=America/Los_Angeles:20251031T150000
DTSTAMP:20260421T111741
CREATED:20251007T183854Z
LAST-MODIFIED:20251007T183854Z
UID:10001234-1761919200-1761922800@willowcreekchamber.com
SUMMARY:Writers of Willow Creek
DESCRIPTION:A weekly meetup of local writers to create\, share\, and connect! Stop by\, get support and feedback\, and be a part of the creative process.
URL:https://willowcreekchamber.com/event/writers-of-willow-creek/2025-10-31/
LOCATION:Willow Creek Library\, 39 Mayfair St\, Willow Creek\, CA\, 95573\, United States
CATEGORIES:Community Event
ATTACH;FMTTYPE=image/jpeg:https://willowcreekchamber.com/wp-content/uploads/2025/10/558190282_1107446624896375_4439073096125864556_n.avif
END:VEVENT
END:VCALENDAR