BEGIN:VCALENDAR
VERSION:2.0
PRODID:-//Willow Creek Chamber of Commerce - ECPv6.15.20//NONSGML v1.0//EN
CALSCALE:GREGORIAN
METHOD:PUBLISH
X-WR-CALNAME:Willow Creek Chamber of Commerce
X-ORIGINAL-URL:https://willowcreekchamber.com
X-WR-CALDESC:Events for Willow Creek Chamber of Commerce
REFRESH-INTERVAL;VALUE=DURATION:PT1H
X-Robots-Tag:noindex
X-PUBLISHED-TTL:PT1H
BEGIN:VTIMEZONE
TZID:America/Los_Angeles
BEGIN:DAYLIGHT
TZOFFSETFROM:-0800
TZOFFSETTO:-0700
TZNAME:PDT
DTSTART:20280312T100000
END:DAYLIGHT
BEGIN:STANDARD
TZOFFSETFROM:-0700
TZOFFSETTO:-0800
TZNAME:PST
DTSTART:20281105T090000
END:STANDARD
BEGIN:DAYLIGHT
TZOFFSETFROM:-0800
TZOFFSETTO:-0700
TZNAME:PDT
DTSTART:20290311T100000
END:DAYLIGHT
BEGIN:STANDARD
TZOFFSETFROM:-0700
TZOFFSETTO:-0800
TZNAME:PST
DTSTART:20291104T090000
END:STANDARD
BEGIN:DAYLIGHT
TZOFFSETFROM:-0800
TZOFFSETTO:-0700
TZNAME:PDT
DTSTART:20300310T100000
END:DAYLIGHT
BEGIN:STANDARD
TZOFFSETFROM:-0700
TZOFFSETTO:-0800
TZNAME:PST
DTSTART:20301103T090000
END:STANDARD
BEGIN:DAYLIGHT
TZOFFSETFROM:-0800
TZOFFSETTO:-0700
TZNAME:PDT
DTSTART:20310309T100000
END:DAYLIGHT
BEGIN:STANDARD
TZOFFSETFROM:-0700
TZOFFSETTO:-0800
TZNAME:PST
DTSTART:20311102T090000
END:STANDARD
END:VTIMEZONE
BEGIN:VEVENT
DTSTART;TZID=America/Los_Angeles:20290713T160000
DTEND;TZID=America/Los_Angeles:20290713T170000
DTSTAMP:20260420T061821
CREATED:20251007T195611Z
LAST-MODIFIED:20251007T195611Z
UID:10002269-1878652800-1878656400@willowcreekchamber.com
SUMMARY:Yoga for Every Body
DESCRIPTION:
URL:https://willowcreekchamber.com/event/yoga-for-every-body-2/2029-07-13/
LOCATION:Trinity Herbals & Wellness Center\, 39025 HWY 299\, Willow Creek\, CA\, United States
CATEGORIES:Community Event
ATTACH;FMTTYPE=image/jpeg:https://willowcreekchamber.com/wp-content/uploads/2025/10/559279035_1410188864448689_2728177773020892607_n.avif
END:VEVENT
BEGIN:VEVENT
DTSTART;TZID=America/Los_Angeles:20290720T160000
DTEND;TZID=America/Los_Angeles:20290720T170000
DTSTAMP:20260420T061821
CREATED:20251007T195611Z
LAST-MODIFIED:20251007T195611Z
UID:10002270-1879257600-1879261200@willowcreekchamber.com
SUMMARY:Yoga for Every Body
DESCRIPTION:
URL:https://willowcreekchamber.com/event/yoga-for-every-body-2/2029-07-20/
LOCATION:Trinity Herbals & Wellness Center\, 39025 HWY 299\, Willow Creek\, CA\, United States
CATEGORIES:Community Event
ATTACH;FMTTYPE=image/jpeg:https://willowcreekchamber.com/wp-content/uploads/2025/10/559279035_1410188864448689_2728177773020892607_n.avif
END:VEVENT
BEGIN:VEVENT
DTSTART;TZID=America/Los_Angeles:20290727T160000
DTEND;TZID=America/Los_Angeles:20290727T170000
DTSTAMP:20260420T061821
CREATED:20251007T195611Z
LAST-MODIFIED:20251007T195611Z
UID:10002271-1879862400-1879866000@willowcreekchamber.com
SUMMARY:Yoga for Every Body
DESCRIPTION:
URL:https://willowcreekchamber.com/event/yoga-for-every-body-2/2029-07-27/
LOCATION:Trinity Herbals & Wellness Center\, 39025 HWY 299\, Willow Creek\, CA\, United States
CATEGORIES:Community Event
ATTACH;FMTTYPE=image/jpeg:https://willowcreekchamber.com/wp-content/uploads/2025/10/559279035_1410188864448689_2728177773020892607_n.avif
END:VEVENT
BEGIN:VEVENT
DTSTART;TZID=America/Los_Angeles:20290803T160000
DTEND;TZID=America/Los_Angeles:20290803T170000
DTSTAMP:20260420T061821
CREATED:20251007T195611Z
LAST-MODIFIED:20251007T195611Z
UID:10002272-1880467200-1880470800@willowcreekchamber.com
SUMMARY:Yoga for Every Body
DESCRIPTION:
URL:https://willowcreekchamber.com/event/yoga-for-every-body-2/2029-08-03/
LOCATION:Trinity Herbals & Wellness Center\, 39025 HWY 299\, Willow Creek\, CA\, United States
CATEGORIES:Community Event
ATTACH;FMTTYPE=image/jpeg:https://willowcreekchamber.com/wp-content/uploads/2025/10/559279035_1410188864448689_2728177773020892607_n.avif
END:VEVENT
BEGIN:VEVENT
DTSTART;TZID=America/Los_Angeles:20290810T160000
DTEND;TZID=America/Los_Angeles:20290810T170000
DTSTAMP:20260420T061821
CREATED:20251007T195611Z
LAST-MODIFIED:20251007T195611Z
UID:10002273-1881072000-1881075600@willowcreekchamber.com
SUMMARY:Yoga for Every Body
DESCRIPTION:
URL:https://willowcreekchamber.com/event/yoga-for-every-body-2/2029-08-10/
LOCATION:Trinity Herbals & Wellness Center\, 39025 HWY 299\, Willow Creek\, CA\, United States
CATEGORIES:Community Event
ATTACH;FMTTYPE=image/jpeg:https://willowcreekchamber.com/wp-content/uploads/2025/10/559279035_1410188864448689_2728177773020892607_n.avif
END:VEVENT
BEGIN:VEVENT
DTSTART;TZID=America/Los_Angeles:20290817T160000
DTEND;TZID=America/Los_Angeles:20290817T170000
DTSTAMP:20260420T061821
CREATED:20251007T195611Z
LAST-MODIFIED:20251007T195611Z
UID:10002274-1881676800-1881680400@willowcreekchamber.com
SUMMARY:Yoga for Every Body
DESCRIPTION:
URL:https://willowcreekchamber.com/event/yoga-for-every-body-2/2029-08-17/
LOCATION:Trinity Herbals & Wellness Center\, 39025 HWY 299\, Willow Creek\, CA\, United States
CATEGORIES:Community Event
ATTACH;FMTTYPE=image/jpeg:https://willowcreekchamber.com/wp-content/uploads/2025/10/559279035_1410188864448689_2728177773020892607_n.avif
END:VEVENT
BEGIN:VEVENT
DTSTART;TZID=America/Los_Angeles:20290824T160000
DTEND;TZID=America/Los_Angeles:20290824T170000
DTSTAMP:20260420T061821
CREATED:20251007T195611Z
LAST-MODIFIED:20251007T195611Z
UID:10002275-1882281600-1882285200@willowcreekchamber.com
SUMMARY:Yoga for Every Body
DESCRIPTION:
URL:https://willowcreekchamber.com/event/yoga-for-every-body-2/2029-08-24/
LOCATION:Trinity Herbals & Wellness Center\, 39025 HWY 299\, Willow Creek\, CA\, United States
CATEGORIES:Community Event
ATTACH;FMTTYPE=image/jpeg:https://willowcreekchamber.com/wp-content/uploads/2025/10/559279035_1410188864448689_2728177773020892607_n.avif
END:VEVENT
BEGIN:VEVENT
DTSTART;TZID=America/Los_Angeles:20290831T160000
DTEND;TZID=America/Los_Angeles:20290831T170000
DTSTAMP:20260420T061821
CREATED:20251007T195611Z
LAST-MODIFIED:20251007T195611Z
UID:10002276-1882886400-1882890000@willowcreekchamber.com
SUMMARY:Yoga for Every Body
DESCRIPTION:
URL:https://willowcreekchamber.com/event/yoga-for-every-body-2/2029-08-31/
LOCATION:Trinity Herbals & Wellness Center\, 39025 HWY 299\, Willow Creek\, CA\, United States
CATEGORIES:Community Event
ATTACH;FMTTYPE=image/jpeg:https://willowcreekchamber.com/wp-content/uploads/2025/10/559279035_1410188864448689_2728177773020892607_n.avif
END:VEVENT
BEGIN:VEVENT
DTSTART;TZID=America/Los_Angeles:20290907T160000
DTEND;TZID=America/Los_Angeles:20290907T170000
DTSTAMP:20260420T061821
CREATED:20251007T195611Z
LAST-MODIFIED:20251007T195611Z
UID:10002277-1883491200-1883494800@willowcreekchamber.com
SUMMARY:Yoga for Every Body
DESCRIPTION:
URL:https://willowcreekchamber.com/event/yoga-for-every-body-2/2029-09-07/
LOCATION:Trinity Herbals & Wellness Center\, 39025 HWY 299\, Willow Creek\, CA\, United States
CATEGORIES:Community Event
ATTACH;FMTTYPE=image/jpeg:https://willowcreekchamber.com/wp-content/uploads/2025/10/559279035_1410188864448689_2728177773020892607_n.avif
END:VEVENT
BEGIN:VEVENT
DTSTART;TZID=America/Los_Angeles:20290914T160000
DTEND;TZID=America/Los_Angeles:20290914T170000
DTSTAMP:20260420T061821
CREATED:20251007T195611Z
LAST-MODIFIED:20251007T195611Z
UID:10002278-1884096000-1884099600@willowcreekchamber.com
SUMMARY:Yoga for Every Body
DESCRIPTION:
URL:https://willowcreekchamber.com/event/yoga-for-every-body-2/2029-09-14/
LOCATION:Trinity Herbals & Wellness Center\, 39025 HWY 299\, Willow Creek\, CA\, United States
CATEGORIES:Community Event
ATTACH;FMTTYPE=image/jpeg:https://willowcreekchamber.com/wp-content/uploads/2025/10/559279035_1410188864448689_2728177773020892607_n.avif
END:VEVENT
BEGIN:VEVENT
DTSTART;TZID=America/Los_Angeles:20290921T160000
DTEND;TZID=America/Los_Angeles:20290921T170000
DTSTAMP:20260420T061821
CREATED:20251007T195611Z
LAST-MODIFIED:20251007T195611Z
UID:10002279-1884700800-1884704400@willowcreekchamber.com
SUMMARY:Yoga for Every Body
DESCRIPTION:
URL:https://willowcreekchamber.com/event/yoga-for-every-body-2/2029-09-21/
LOCATION:Trinity Herbals & Wellness Center\, 39025 HWY 299\, Willow Creek\, CA\, United States
CATEGORIES:Community Event
ATTACH;FMTTYPE=image/jpeg:https://willowcreekchamber.com/wp-content/uploads/2025/10/559279035_1410188864448689_2728177773020892607_n.avif
END:VEVENT
BEGIN:VEVENT
DTSTART;TZID=America/Los_Angeles:20290928T160000
DTEND;TZID=America/Los_Angeles:20290928T170000
DTSTAMP:20260420T061821
CREATED:20251007T195611Z
LAST-MODIFIED:20251007T195611Z
UID:10002280-1885305600-1885309200@willowcreekchamber.com
SUMMARY:Yoga for Every Body
DESCRIPTION:
URL:https://willowcreekchamber.com/event/yoga-for-every-body-2/2029-09-28/
LOCATION:Trinity Herbals & Wellness Center\, 39025 HWY 299\, Willow Creek\, CA\, United States
CATEGORIES:Community Event
ATTACH;FMTTYPE=image/jpeg:https://willowcreekchamber.com/wp-content/uploads/2025/10/559279035_1410188864448689_2728177773020892607_n.avif
END:VEVENT
BEGIN:VEVENT
DTSTART;TZID=America/Los_Angeles:20291005T160000
DTEND;TZID=America/Los_Angeles:20291005T170000
DTSTAMP:20260420T061821
CREATED:20251007T195611Z
LAST-MODIFIED:20251007T195611Z
UID:10002281-1885910400-1885914000@willowcreekchamber.com
SUMMARY:Yoga for Every Body
DESCRIPTION:
URL:https://willowcreekchamber.com/event/yoga-for-every-body-2/2029-10-05/
LOCATION:Trinity Herbals & Wellness Center\, 39025 HWY 299\, Willow Creek\, CA\, United States
CATEGORIES:Community Event
ATTACH;FMTTYPE=image/jpeg:https://willowcreekchamber.com/wp-content/uploads/2025/10/559279035_1410188864448689_2728177773020892607_n.avif
END:VEVENT
BEGIN:VEVENT
DTSTART;TZID=America/Los_Angeles:20291012T160000
DTEND;TZID=America/Los_Angeles:20291012T170000
DTSTAMP:20260420T061821
CREATED:20251007T195611Z
LAST-MODIFIED:20251007T195611Z
UID:10002282-1886515200-1886518800@willowcreekchamber.com
SUMMARY:Yoga for Every Body
DESCRIPTION:
URL:https://willowcreekchamber.com/event/yoga-for-every-body-2/2029-10-12/
LOCATION:Trinity Herbals & Wellness Center\, 39025 HWY 299\, Willow Creek\, CA\, United States
CATEGORIES:Community Event
ATTACH;FMTTYPE=image/jpeg:https://willowcreekchamber.com/wp-content/uploads/2025/10/559279035_1410188864448689_2728177773020892607_n.avif
END:VEVENT
BEGIN:VEVENT
DTSTART;TZID=America/Los_Angeles:20291019T160000
DTEND;TZID=America/Los_Angeles:20291019T170000
DTSTAMP:20260420T061821
CREATED:20251007T195611Z
LAST-MODIFIED:20251007T195611Z
UID:10002283-1887120000-1887123600@willowcreekchamber.com
SUMMARY:Yoga for Every Body
DESCRIPTION:
URL:https://willowcreekchamber.com/event/yoga-for-every-body-2/2029-10-19/
LOCATION:Trinity Herbals & Wellness Center\, 39025 HWY 299\, Willow Creek\, CA\, United States
CATEGORIES:Community Event
ATTACH;FMTTYPE=image/jpeg:https://willowcreekchamber.com/wp-content/uploads/2025/10/559279035_1410188864448689_2728177773020892607_n.avif
END:VEVENT
BEGIN:VEVENT
DTSTART;TZID=America/Los_Angeles:20291026T160000
DTEND;TZID=America/Los_Angeles:20291026T170000
DTSTAMP:20260420T061821
CREATED:20251007T195611Z
LAST-MODIFIED:20251007T195611Z
UID:10002284-1887724800-1887728400@willowcreekchamber.com
SUMMARY:Yoga for Every Body
DESCRIPTION:
URL:https://willowcreekchamber.com/event/yoga-for-every-body-2/2029-10-26/
LOCATION:Trinity Herbals & Wellness Center\, 39025 HWY 299\, Willow Creek\, CA\, United States
CATEGORIES:Community Event
ATTACH;FMTTYPE=image/jpeg:https://willowcreekchamber.com/wp-content/uploads/2025/10/559279035_1410188864448689_2728177773020892607_n.avif
END:VEVENT
BEGIN:VEVENT
DTSTART;TZID=America/Los_Angeles:20291102T160000
DTEND;TZID=America/Los_Angeles:20291102T170000
DTSTAMP:20260420T061821
CREATED:20251007T195611Z
LAST-MODIFIED:20251007T195611Z
UID:10002285-1888329600-1888333200@willowcreekchamber.com
SUMMARY:Yoga for Every Body
DESCRIPTION:
URL:https://willowcreekchamber.com/event/yoga-for-every-body-2/2029-11-02/
LOCATION:Trinity Herbals & Wellness Center\, 39025 HWY 299\, Willow Creek\, CA\, United States
CATEGORIES:Community Event
ATTACH;FMTTYPE=image/jpeg:https://willowcreekchamber.com/wp-content/uploads/2025/10/559279035_1410188864448689_2728177773020892607_n.avif
END:VEVENT
BEGIN:VEVENT
DTSTART;TZID=America/Los_Angeles:20291109T160000
DTEND;TZID=America/Los_Angeles:20291109T170000
DTSTAMP:20260420T061821
CREATED:20251007T195611Z
LAST-MODIFIED:20251007T195611Z
UID:10002286-1888934400-1888938000@willowcreekchamber.com
SUMMARY:Yoga for Every Body
DESCRIPTION:
URL:https://willowcreekchamber.com/event/yoga-for-every-body-2/2029-11-09/
LOCATION:Trinity Herbals & Wellness Center\, 39025 HWY 299\, Willow Creek\, CA\, United States
CATEGORIES:Community Event
ATTACH;FMTTYPE=image/jpeg:https://willowcreekchamber.com/wp-content/uploads/2025/10/559279035_1410188864448689_2728177773020892607_n.avif
END:VEVENT
BEGIN:VEVENT
DTSTART;TZID=America/Los_Angeles:20291116T160000
DTEND;TZID=America/Los_Angeles:20291116T170000
DTSTAMP:20260420T061821
CREATED:20251007T195611Z
LAST-MODIFIED:20251007T195611Z
UID:10002287-1889539200-1889542800@willowcreekchamber.com
SUMMARY:Yoga for Every Body
DESCRIPTION:
URL:https://willowcreekchamber.com/event/yoga-for-every-body-2/2029-11-16/
LOCATION:Trinity Herbals & Wellness Center\, 39025 HWY 299\, Willow Creek\, CA\, United States
CATEGORIES:Community Event
ATTACH;FMTTYPE=image/jpeg:https://willowcreekchamber.com/wp-content/uploads/2025/10/559279035_1410188864448689_2728177773020892607_n.avif
END:VEVENT
BEGIN:VEVENT
DTSTART;TZID=America/Los_Angeles:20291123T160000
DTEND;TZID=America/Los_Angeles:20291123T170000
DTSTAMP:20260420T061821
CREATED:20251007T195611Z
LAST-MODIFIED:20251007T195611Z
UID:10002288-1890144000-1890147600@willowcreekchamber.com
SUMMARY:Yoga for Every Body
DESCRIPTION:
URL:https://willowcreekchamber.com/event/yoga-for-every-body-2/2029-11-23/
LOCATION:Trinity Herbals & Wellness Center\, 39025 HWY 299\, Willow Creek\, CA\, United States
CATEGORIES:Community Event
ATTACH;FMTTYPE=image/jpeg:https://willowcreekchamber.com/wp-content/uploads/2025/10/559279035_1410188864448689_2728177773020892607_n.avif
END:VEVENT
BEGIN:VEVENT
DTSTART;TZID=America/Los_Angeles:20291130T160000
DTEND;TZID=America/Los_Angeles:20291130T170000
DTSTAMP:20260420T061821
CREATED:20251007T195611Z
LAST-MODIFIED:20251007T195611Z
UID:10002289-1890748800-1890752400@willowcreekchamber.com
SUMMARY:Yoga for Every Body
DESCRIPTION:
URL:https://willowcreekchamber.com/event/yoga-for-every-body-2/2029-11-30/
LOCATION:Trinity Herbals & Wellness Center\, 39025 HWY 299\, Willow Creek\, CA\, United States
CATEGORIES:Community Event
ATTACH;FMTTYPE=image/jpeg:https://willowcreekchamber.com/wp-content/uploads/2025/10/559279035_1410188864448689_2728177773020892607_n.avif
END:VEVENT
BEGIN:VEVENT
DTSTART;TZID=America/Los_Angeles:20291207T160000
DTEND;TZID=America/Los_Angeles:20291207T170000
DTSTAMP:20260420T061821
CREATED:20251007T195611Z
LAST-MODIFIED:20251007T195611Z
UID:10002290-1891353600-1891357200@willowcreekchamber.com
SUMMARY:Yoga for Every Body
DESCRIPTION:
URL:https://willowcreekchamber.com/event/yoga-for-every-body-2/2029-12-07/
LOCATION:Trinity Herbals & Wellness Center\, 39025 HWY 299\, Willow Creek\, CA\, United States
CATEGORIES:Community Event
ATTACH;FMTTYPE=image/jpeg:https://willowcreekchamber.com/wp-content/uploads/2025/10/559279035_1410188864448689_2728177773020892607_n.avif
END:VEVENT
BEGIN:VEVENT
DTSTART;TZID=America/Los_Angeles:20291214T160000
DTEND;TZID=America/Los_Angeles:20291214T170000
DTSTAMP:20260420T061821
CREATED:20251007T195611Z
LAST-MODIFIED:20251007T195611Z
UID:10002291-1891958400-1891962000@willowcreekchamber.com
SUMMARY:Yoga for Every Body
DESCRIPTION:
URL:https://willowcreekchamber.com/event/yoga-for-every-body-2/2029-12-14/
LOCATION:Trinity Herbals & Wellness Center\, 39025 HWY 299\, Willow Creek\, CA\, United States
CATEGORIES:Community Event
ATTACH;FMTTYPE=image/jpeg:https://willowcreekchamber.com/wp-content/uploads/2025/10/559279035_1410188864448689_2728177773020892607_n.avif
END:VEVENT
BEGIN:VEVENT
DTSTART;TZID=America/Los_Angeles:20291221T160000
DTEND;TZID=America/Los_Angeles:20291221T170000
DTSTAMP:20260420T061821
CREATED:20251007T195611Z
LAST-MODIFIED:20251007T195611Z
UID:10002292-1892563200-1892566800@willowcreekchamber.com
SUMMARY:Yoga for Every Body
DESCRIPTION:
URL:https://willowcreekchamber.com/event/yoga-for-every-body-2/2029-12-21/
LOCATION:Trinity Herbals & Wellness Center\, 39025 HWY 299\, Willow Creek\, CA\, United States
CATEGORIES:Community Event
ATTACH;FMTTYPE=image/jpeg:https://willowcreekchamber.com/wp-content/uploads/2025/10/559279035_1410188864448689_2728177773020892607_n.avif
END:VEVENT
BEGIN:VEVENT
DTSTART;TZID=America/Los_Angeles:20291228T160000
DTEND;TZID=America/Los_Angeles:20291228T170000
DTSTAMP:20260420T061821
CREATED:20251007T195611Z
LAST-MODIFIED:20251007T195611Z
UID:10002293-1893168000-1893171600@willowcreekchamber.com
SUMMARY:Yoga for Every Body
DESCRIPTION:
URL:https://willowcreekchamber.com/event/yoga-for-every-body-2/2029-12-28/
LOCATION:Trinity Herbals & Wellness Center\, 39025 HWY 299\, Willow Creek\, CA\, United States
CATEGORIES:Community Event
ATTACH;FMTTYPE=image/jpeg:https://willowcreekchamber.com/wp-content/uploads/2025/10/559279035_1410188864448689_2728177773020892607_n.avif
END:VEVENT
BEGIN:VEVENT
DTSTART;TZID=America/Los_Angeles:20300104T160000
DTEND;TZID=America/Los_Angeles:20300104T170000
DTSTAMP:20260420T061821
CREATED:20251007T195611Z
LAST-MODIFIED:20251007T195611Z
UID:10002294-1893772800-1893776400@willowcreekchamber.com
SUMMARY:Yoga for Every Body
DESCRIPTION:
URL:https://willowcreekchamber.com/event/yoga-for-every-body-2/2030-01-04/
LOCATION:Trinity Herbals & Wellness Center\, 39025 HWY 299\, Willow Creek\, CA\, United States
CATEGORIES:Community Event
ATTACH;FMTTYPE=image/jpeg:https://willowcreekchamber.com/wp-content/uploads/2025/10/559279035_1410188864448689_2728177773020892607_n.avif
END:VEVENT
BEGIN:VEVENT
DTSTART;TZID=America/Los_Angeles:20300111T160000
DTEND;TZID=America/Los_Angeles:20300111T170000
DTSTAMP:20260420T061821
CREATED:20251007T195611Z
LAST-MODIFIED:20251007T195611Z
UID:10002295-1894377600-1894381200@willowcreekchamber.com
SUMMARY:Yoga for Every Body
DESCRIPTION:
URL:https://willowcreekchamber.com/event/yoga-for-every-body-2/2030-01-11/
LOCATION:Trinity Herbals & Wellness Center\, 39025 HWY 299\, Willow Creek\, CA\, United States
CATEGORIES:Community Event
ATTACH;FMTTYPE=image/jpeg:https://willowcreekchamber.com/wp-content/uploads/2025/10/559279035_1410188864448689_2728177773020892607_n.avif
END:VEVENT
BEGIN:VEVENT
DTSTART;TZID=America/Los_Angeles:20300118T160000
DTEND;TZID=America/Los_Angeles:20300118T170000
DTSTAMP:20260420T061821
CREATED:20251007T195611Z
LAST-MODIFIED:20251007T195611Z
UID:10002296-1894982400-1894986000@willowcreekchamber.com
SUMMARY:Yoga for Every Body
DESCRIPTION:
URL:https://willowcreekchamber.com/event/yoga-for-every-body-2/2030-01-18/
LOCATION:Trinity Herbals & Wellness Center\, 39025 HWY 299\, Willow Creek\, CA\, United States
CATEGORIES:Community Event
ATTACH;FMTTYPE=image/jpeg:https://willowcreekchamber.com/wp-content/uploads/2025/10/559279035_1410188864448689_2728177773020892607_n.avif
END:VEVENT
BEGIN:VEVENT
DTSTART;TZID=America/Los_Angeles:20300125T160000
DTEND;TZID=America/Los_Angeles:20300125T170000
DTSTAMP:20260420T061821
CREATED:20251007T195611Z
LAST-MODIFIED:20251007T195611Z
UID:10002297-1895587200-1895590800@willowcreekchamber.com
SUMMARY:Yoga for Every Body
DESCRIPTION:
URL:https://willowcreekchamber.com/event/yoga-for-every-body-2/2030-01-25/
LOCATION:Trinity Herbals & Wellness Center\, 39025 HWY 299\, Willow Creek\, CA\, United States
CATEGORIES:Community Event
ATTACH;FMTTYPE=image/jpeg:https://willowcreekchamber.com/wp-content/uploads/2025/10/559279035_1410188864448689_2728177773020892607_n.avif
END:VEVENT
BEGIN:VEVENT
DTSTART;TZID=America/Los_Angeles:20300201T160000
DTEND;TZID=America/Los_Angeles:20300201T170000
DTSTAMP:20260420T061821
CREATED:20251007T195611Z
LAST-MODIFIED:20251007T195611Z
UID:10002298-1896192000-1896195600@willowcreekchamber.com
SUMMARY:Yoga for Every Body
DESCRIPTION:
URL:https://willowcreekchamber.com/event/yoga-for-every-body-2/2030-02-01/
LOCATION:Trinity Herbals & Wellness Center\, 39025 HWY 299\, Willow Creek\, CA\, United States
CATEGORIES:Community Event
ATTACH;FMTTYPE=image/jpeg:https://willowcreekchamber.com/wp-content/uploads/2025/10/559279035_1410188864448689_2728177773020892607_n.avif
END:VEVENT
END:VCALENDAR