BEGIN:VCALENDAR
VERSION:2.0
PRODID:-//Willow Creek Chamber of Commerce - ECPv6.15.20//NONSGML v1.0//EN
CALSCALE:GREGORIAN
METHOD:PUBLISH
X-WR-CALNAME:Willow Creek Chamber of Commerce
X-ORIGINAL-URL:https://willowcreekchamber.com
X-WR-CALDESC:Events for Willow Creek Chamber of Commerce
REFRESH-INTERVAL;VALUE=DURATION:PT1H
X-Robots-Tag:noindex
X-PUBLISHED-TTL:PT1H
BEGIN:VTIMEZONE
TZID:America/Los_Angeles
BEGIN:DAYLIGHT
TZOFFSETFROM:-0800
TZOFFSETTO:-0700
TZNAME:PDT
DTSTART:20230312T100000
END:DAYLIGHT
BEGIN:STANDARD
TZOFFSETFROM:-0700
TZOFFSETTO:-0800
TZNAME:PST
DTSTART:20231105T090000
END:STANDARD
BEGIN:DAYLIGHT
TZOFFSETFROM:-0800
TZOFFSETTO:-0700
TZNAME:PDT
DTSTART:20240310T100000
END:DAYLIGHT
BEGIN:STANDARD
TZOFFSETFROM:-0700
TZOFFSETTO:-0800
TZNAME:PST
DTSTART:20241103T090000
END:STANDARD
BEGIN:DAYLIGHT
TZOFFSETFROM:-0800
TZOFFSETTO:-0700
TZNAME:PDT
DTSTART:20250309T100000
END:DAYLIGHT
BEGIN:STANDARD
TZOFFSETFROM:-0700
TZOFFSETTO:-0800
TZNAME:PST
DTSTART:20251102T090000
END:STANDARD
END:VTIMEZONE
BEGIN:VEVENT
DTSTART;TZID=America/Los_Angeles:20241221T110000
DTEND;TZID=America/Los_Angeles:20241221T110000
DTSTAMP:20260420T165031
CREATED:20241217T200013Z
LAST-MODIFIED:20241217T200112Z
UID:10000152-1734778800-1734778800@willowcreekchamber.com
SUMMARY:Diva Designs HAT BAR
DESCRIPTION:
URL:https://willowcreekchamber.com/event/diva-designs-hat-bar/
LOCATION:Wildfoot Wonders\, 39094 CA-299\, Willow Creek\, 95573\, United States
CATEGORIES:Community Event
ATTACH;FMTTYPE=image/jpeg:https://willowcreekchamber.com/wp-content/uploads/2024/12/470633251_463951396743832_2332808532513063987_n.avif
END:VEVENT
BEGIN:VEVENT
DTSTART;TZID=America/Los_Angeles:20241221T160000
DTEND;TZID=America/Los_Angeles:20241221T160000
DTSTAMP:20260420T165031
CREATED:20241217T195256Z
LAST-MODIFIED:20241217T195256Z
UID:10000150-1734796800-1734796800@willowcreekchamber.com
SUMMARY:Hoopa Valley Tribe Community Christmas Party
DESCRIPTION:
URL:https://willowcreekchamber.com/event/hoopa-valley-tribe-community-christmas-party/
LOCATION:Hoopa Elementary School\, Hoopa\, California
CATEGORIES:Community Event
ATTACH;FMTTYPE=image/jpeg:https://willowcreekchamber.com/wp-content/uploads/2024/12/Community-Christmas-Party.avif
END:VEVENT
BEGIN:VEVENT
DTSTART;TZID=America/Los_Angeles:20241221T160000
DTEND;TZID=America/Los_Angeles:20241221T180000
DTSTAMP:20260420T165031
CREATED:20241217T195531Z
LAST-MODIFIED:20241217T195531Z
UID:10000151-1734796800-1734804000@willowcreekchamber.com
SUMMARY:Winter Solstice Sacred Ceremony
DESCRIPTION:
URL:https://willowcreekchamber.com/event/winter-solstice-sacred-ceremony/
LOCATION:Trinity Herbals & Wellness Center\, 39025 HWY 299\, Willow Creek\, CA\, United States
CATEGORIES:Community Event
ATTACH;FMTTYPE=image/jpeg:https://willowcreekchamber.com/wp-content/uploads/2024/12/470483907_18079720150594010_6387980523499082737_n.avif
END:VEVENT
END:VCALENDAR