BEGIN:VCALENDAR
VERSION:2.0
PRODID:-//Willow Creek Chamber of Commerce - ECPv6.15.20//NONSGML v1.0//EN
CALSCALE:GREGORIAN
METHOD:PUBLISH
X-WR-CALNAME:Willow Creek Chamber of Commerce
X-ORIGINAL-URL:https://willowcreekchamber.com
X-WR-CALDESC:Events for Willow Creek Chamber of Commerce
REFRESH-INTERVAL;VALUE=DURATION:PT1H
X-Robots-Tag:noindex
X-PUBLISHED-TTL:PT1H
BEGIN:VTIMEZONE
TZID:America/Los_Angeles
BEGIN:DAYLIGHT
TZOFFSETFROM:-0800
TZOFFSETTO:-0700
TZNAME:PDT
DTSTART:20230312T100000
END:DAYLIGHT
BEGIN:STANDARD
TZOFFSETFROM:-0700
TZOFFSETTO:-0800
TZNAME:PST
DTSTART:20231105T090000
END:STANDARD
BEGIN:DAYLIGHT
TZOFFSETFROM:-0800
TZOFFSETTO:-0700
TZNAME:PDT
DTSTART:20240310T100000
END:DAYLIGHT
BEGIN:STANDARD
TZOFFSETFROM:-0700
TZOFFSETTO:-0800
TZNAME:PST
DTSTART:20241103T090000
END:STANDARD
BEGIN:DAYLIGHT
TZOFFSETFROM:-0800
TZOFFSETTO:-0700
TZNAME:PDT
DTSTART:20250309T100000
END:DAYLIGHT
BEGIN:STANDARD
TZOFFSETFROM:-0700
TZOFFSETTO:-0800
TZNAME:PST
DTSTART:20251102T090000
END:STANDARD
END:VTIMEZONE
BEGIN:VEVENT
DTSTART;TZID=America/Los_Angeles:20241107T180000
DTEND;TZID=America/Los_Angeles:20241107T200000
DTSTAMP:20260421T142150
CREATED:20241018T042723Z
LAST-MODIFIED:20241018T042723Z
UID:10000137-1731002400-1731009600@willowcreekchamber.com
SUMMARY:Astrological Samhain Cacao Ceremony
DESCRIPTION:
URL:https://willowcreekchamber.com/event/astrological-samhain-cacao-ceremony/
LOCATION:Trinity Herbals & Wellness Center\, 39025 HWY 299\, Willow Creek\, CA\, United States
CATEGORIES:Community Event
ATTACH;FMTTYPE=image/png:https://willowcreekchamber.com/wp-content/uploads/2024/10/Screenshot-2024-10-17-at-8.42.49 PM.avif
END:VEVENT
END:VCALENDAR