BEGIN:VCALENDAR
VERSION:2.0
PRODID:-//Willow Creek Chamber of Commerce - ECPv6.15.20//NONSGML v1.0//EN
CALSCALE:GREGORIAN
METHOD:PUBLISH
X-WR-CALNAME:Willow Creek Chamber of Commerce
X-ORIGINAL-URL:https://willowcreekchamber.com
X-WR-CALDESC:Events for Willow Creek Chamber of Commerce
REFRESH-INTERVAL;VALUE=DURATION:PT1H
X-Robots-Tag:noindex
X-PUBLISHED-TTL:PT1H
BEGIN:VTIMEZONE
TZID:America/Los_Angeles
BEGIN:DAYLIGHT
TZOFFSETFROM:-0800
TZOFFSETTO:-0700
TZNAME:PDT
DTSTART:20230312T100000
END:DAYLIGHT
BEGIN:STANDARD
TZOFFSETFROM:-0700
TZOFFSETTO:-0800
TZNAME:PST
DTSTART:20231105T090000
END:STANDARD
BEGIN:DAYLIGHT
TZOFFSETFROM:-0800
TZOFFSETTO:-0700
TZNAME:PDT
DTSTART:20240310T100000
END:DAYLIGHT
BEGIN:STANDARD
TZOFFSETFROM:-0700
TZOFFSETTO:-0800
TZNAME:PST
DTSTART:20241103T090000
END:STANDARD
BEGIN:DAYLIGHT
TZOFFSETFROM:-0800
TZOFFSETTO:-0700
TZNAME:PDT
DTSTART:20250309T100000
END:DAYLIGHT
BEGIN:STANDARD
TZOFFSETFROM:-0700
TZOFFSETTO:-0800
TZNAME:PST
DTSTART:20251102T090000
END:STANDARD
END:VTIMEZONE
BEGIN:VEVENT
DTSTART;VALUE=DATE:20241018
DTEND;VALUE=DATE:20241021
DTSTAMP:20260424T193248
CREATED:20240920T205034Z
LAST-MODIFIED:20240920T205034Z
UID:10000118-1729209600-1729468799@willowcreekchamber.com
SUMMARY:Archery Weekend
DESCRIPTION:Women Only: Oct 18 & 19    Co-Ed: Oct 20
URL:https://willowcreekchamber.com/event/archery-weekend/
LOCATION:Wayfinder Archery\, Hawkins Bar\, California\, United States
CATEGORIES:Community Event
ATTACH;FMTTYPE=image/jpeg:https://willowcreekchamber.com/wp-content/uploads/2024/09/photo2.avif
END:VEVENT
BEGIN:VEVENT
DTSTART;TZID=America/Los_Angeles:20241019T140000
DTEND;TZID=America/Los_Angeles:20241019T170000
DTSTAMP:20260424T193248
CREATED:20241010T180808Z
LAST-MODIFIED:20241010T180808Z
UID:10000130-1729346400-1729357200@willowcreekchamber.com
SUMMARY:Scary Stories Workshop
DESCRIPTION:
URL:https://willowcreekchamber.com/event/scary-stories-workshop/
LOCATION:Dream Quest\, Willow Creek\, California
CATEGORIES:Community Event
ATTACH;FMTTYPE=image/jpeg:https://willowcreekchamber.com/wp-content/uploads/2024/10/unnamed-7-scaled.avif
END:VEVENT
BEGIN:VEVENT
DTSTART;TZID=America/Los_Angeles:20241019T190000
DTEND;TZID=America/Los_Angeles:20241019T190000
DTSTAMP:20260424T193248
CREATED:20241018T035119Z
LAST-MODIFIED:20241018T035119Z
UID:10000133-1729364400-1729364400@willowcreekchamber.com
SUMMARY:Noble Tobal Presents - Charlie P
DESCRIPTION:
URL:https://willowcreekchamber.com/event/noble-tobal-presents-charlie-p/
LOCATION:Vibes Connect\, 107 Mayfair Street\, Willow Creek\, CA\, 95573\, United States
CATEGORIES:Community Event
ATTACH;FMTTYPE=image/jpeg:https://willowcreekchamber.com/wp-content/uploads/2024/10/463647331_8476204149100413_1801011762210984377_n.avif
END:VEVENT
END:VCALENDAR