BEGIN:VCALENDAR
VERSION:2.0
PRODID:-//Willow Creek Chamber of Commerce - ECPv6.15.20//NONSGML v1.0//EN
CALSCALE:GREGORIAN
METHOD:PUBLISH
X-WR-CALNAME:Willow Creek Chamber of Commerce
X-ORIGINAL-URL:https://willowcreekchamber.com
X-WR-CALDESC:Events for Willow Creek Chamber of Commerce
REFRESH-INTERVAL;VALUE=DURATION:PT1H
X-Robots-Tag:noindex
X-PUBLISHED-TTL:PT1H
BEGIN:VTIMEZONE
TZID:America/Los_Angeles
BEGIN:DAYLIGHT
TZOFFSETFROM:-0800
TZOFFSETTO:-0700
TZNAME:PDT
DTSTART:20230312T100000
END:DAYLIGHT
BEGIN:STANDARD
TZOFFSETFROM:-0700
TZOFFSETTO:-0800
TZNAME:PST
DTSTART:20231105T090000
END:STANDARD
BEGIN:DAYLIGHT
TZOFFSETFROM:-0800
TZOFFSETTO:-0700
TZNAME:PDT
DTSTART:20240310T100000
END:DAYLIGHT
BEGIN:STANDARD
TZOFFSETFROM:-0700
TZOFFSETTO:-0800
TZNAME:PST
DTSTART:20241103T090000
END:STANDARD
BEGIN:DAYLIGHT
TZOFFSETFROM:-0800
TZOFFSETTO:-0700
TZNAME:PDT
DTSTART:20250309T100000
END:DAYLIGHT
BEGIN:STANDARD
TZOFFSETFROM:-0700
TZOFFSETTO:-0800
TZNAME:PST
DTSTART:20251102T090000
END:STANDARD
END:VTIMEZONE
BEGIN:VEVENT
DTSTART;TZID=America/Los_Angeles:20240701T170000
DTEND;TZID=America/Los_Angeles:20240930T190000
DTSTAMP:20260424T003233
CREATED:20240629T190036Z
LAST-MODIFIED:20240629T190036Z
UID:10000046-1719853200-1727722800@willowcreekchamber.com
SUMMARY:Monday Night Farmers Market
DESCRIPTION:Fresh fruit\, flowers\, and vegetables\, all grown locally. \nMondays\, 5-7 PM\, July 1st – Sept 30th. \nHoop Neighborhood Facilities Lawn. \nMore info:\nMeagen Baldy: meagen18@gmail.com\nor\nAllie Hostler: alliektrcd@gmail.com\n(707) 492-2851
URL:https://willowcreekchamber.com/event/monday-night-farmers-market/
LOCATION:Klamath Trinity Resource Conservation District\, CA\, United States
CATEGORIES:Community Event
ATTACH;FMTTYPE=image/jpeg:https://willowcreekchamber.com/wp-content/uploads/2024/06/449242738_858783052956593_8829402429166267338_n.avif
END:VEVENT
BEGIN:VEVENT
DTSTART;TZID=America/Los_Angeles:20240713T080000
DTEND;TZID=America/Los_Angeles:20240714T170000
DTSTAMP:20260424T003233
CREATED:20240702T030118Z
LAST-MODIFIED:20240702T030118Z
UID:10000054-1720857600-1720976400@willowcreekchamber.com
SUMMARY:Orick Rodeo
DESCRIPTION:Orick Rodeo\, July 13 & 14\, 2024. Join us for 63 years of kickin’ it up in the Redwoods!\nGate Admission Tickets $10 Adults $ 5 Kids 6-12 Free Kids 5 & Under\nTickets will only be sold AT the event\, in person July 13 or 14. There will be NO pre-sale tickets. Cash and credit card will be accepted on the day of.\n\nSaturday 8:30 Jackpot Roundup 2:00 Kids Games 4:00 Open Rodeo -Mutton Bustin -Calf Riding -Steer Riding -Jr Bull Riding -Team Roping-Breakaway Roping-Ranch Bronc Riding -Bull Riding -Barrel Racing\nSunday 10:30 Quad Racing 12:30 Kids Games 2:30 Open Rodeo -Mutton Bustin -Calf Riding -Steer Riding -Jr Bull Riding -Team Roping-Breakaway Roping-Ranch Bronc Riding -Bull Riding -Barrel Racing\nFor more information please contact us:email at orickrodeo@gmail.comcall at 707-488-2885 visit online at orick.net
URL:https://willowcreekchamber.com/event/orick-rodeo/
LOCATION:1000 Drydend Rd.\, 1000 Drydens Rd
CATEGORIES:Community Event
ATTACH;FMTTYPE=image/jpeg:https://willowcreekchamber.com/wp-content/uploads/2024/07/444770034_497876452562866_3515213739713991434_n.avif
END:VEVENT
BEGIN:VEVENT
DTSTART;TZID=America/Los_Angeles:20240714T090000
DTEND;TZID=America/Los_Angeles:20240714T170000
DTSTAMP:20260424T003233
CREATED:20240617T211216Z
LAST-MODIFIED:20240617T211216Z
UID:10000031-1720947600-1720976400@willowcreekchamber.com
SUMMARY:TRINITY RIVER CLEAN-UP
DESCRIPTION:On July 14th\, Save California Salmon is partnering with Rios to Rivers and the Warrior Institute to conduct a Trinity River clean up raft trip. The raft trip is free for youth 8-18. The trip begins at Pookey’s Park in Hoopa\, CA at 9am. Rafting and lunch at 11am. \nLocation details\, waivers\, medical consent forms etc.\, will be emailed to all registrants 2 weeks prior to the event. Forms must be completed prior to the trip\, email or hard copy is acceptable.. Lunch will be provided. **Please identify any food allergies\, your kid has. We cannot guarantee that we will have something that will fit all restrictions. \nRegistration is required! Please fill out this form to secure your party’s space. Please contact Star at star@californiasalmon.org with any questions regarding this or other raft trips. We look forward to seeing you there! \nThis event is funded in part by Sierra Health Foundation’s Elevate Youth California Grant. The following questions are a necessary aspect of the grant requirements. This information will only be shared internally and will otherwise be deleted.
URL:https://willowcreekchamber.com/event/trinity-river-clean-up/
LOCATION:Pookey’s Park\, Loop Rd.\, Hoopa\, 95546\, United States
ATTACH;FMTTYPE=image/png:https://willowcreekchamber.com/wp-content/uploads/2024/06/Screenshot-2024-06-17-at-2.10.21 PM.avif
END:VEVENT
END:VCALENDAR